BEGIN:VCALENDAR
VERSION:2.0
PRODID:-//Space City Frequency - ECPv6.15.20//NONSGML v1.0//EN
CALSCALE:GREGORIAN
METHOD:PUBLISH
X-WR-CALNAME:Space City Frequency
X-ORIGINAL-URL:https://spacecityfrequency.com
X-WR-CALDESC:Events for Space City Frequency
REFRESH-INTERVAL;VALUE=DURATION:PT1H
X-Robots-Tag:noindex
X-PUBLISHED-TTL:PT1H
BEGIN:VTIMEZONE
TZID:America/Chicago
BEGIN:DAYLIGHT
TZOFFSETFROM:-0600
TZOFFSETTO:-0500
TZNAME:CDT
DTSTART:20210314T080000
END:DAYLIGHT
BEGIN:STANDARD
TZOFFSETFROM:-0500
TZOFFSETTO:-0600
TZNAME:CST
DTSTART:20211107T070000
END:STANDARD
BEGIN:DAYLIGHT
TZOFFSETFROM:-0600
TZOFFSETTO:-0500
TZNAME:CDT
DTSTART:20220313T080000
END:DAYLIGHT
BEGIN:STANDARD
TZOFFSETFROM:-0500
TZOFFSETTO:-0600
TZNAME:CST
DTSTART:20221106T070000
END:STANDARD
BEGIN:DAYLIGHT
TZOFFSETFROM:-0600
TZOFFSETTO:-0500
TZNAME:CDT
DTSTART:20230312T080000
END:DAYLIGHT
BEGIN:STANDARD
TZOFFSETFROM:-0500
TZOFFSETTO:-0600
TZNAME:CST
DTSTART:20231105T070000
END:STANDARD
END:VTIMEZONE
BEGIN:VEVENT
DTSTART;TZID=America/Chicago:20220425T190000
DTEND;TZID=America/Chicago:20220425T233000
DTSTAMP:20260425T142238
CREATED:20220420T230909Z
LAST-MODIFIED:20220420T230951Z
UID:12446-1650913200-1650929400@spacecityfrequency.com
SUMMARY:Bleachers @ House of Blues
DESCRIPTION:
URL:https://spacecityfrequency.com/event/bleachers-house-of-blues/
LOCATION:House Of Blues\, 1204 Caroline St.\, Houston\, 77002\, United States
ATTACH;FMTTYPE=image/jpeg:https://spacecityfrequency.com/wp-content/uploads/2022/04/TR_NationalAsset_Bleachers_SG_1200x628_NoSG.jpg
END:VEVENT
BEGIN:VEVENT
DTSTART;TZID=America/Chicago:20220425T190000
DTEND;TZID=America/Chicago:20220425T233000
DTSTAMP:20260425T142238
CREATED:20220420T204826Z
LAST-MODIFIED:20220420T205203Z
UID:12405-1650913200-1650929400@spacecityfrequency.com
SUMMARY:No Cap Mr. Crawford @ House of Blues
DESCRIPTION:
URL:https://spacecityfrequency.com/event/no-cap-mr-crawford-bayou-music-center/
LOCATION:House Of Blues\, 1204 Caroline St.\, Houston\, 77002\, United States
ATTACH;FMTTYPE=image/png:https://spacecityfrequency.com/wp-content/uploads/2022/04/854f6b75282f999f19f73765fc1f4165.1000x1000x1.png
END:VEVENT
BEGIN:VEVENT
DTSTART;TZID=America/Chicago:20220425T080000
DTEND;TZID=America/Chicago:20220425T170000
DTSTAMP:20260425T142238
CREATED:20220420T034913Z
LAST-MODIFIED:20220420T034913Z
UID:12257-1650873600-1650906000@spacecityfrequency.com
SUMMARY:Tai Verdes @ White Oak Music Hall
DESCRIPTION:
URL:https://spacecityfrequency.com/event/tai-verdes-white-oak-music-hall/
LOCATION:White Oak Music Hall\, 2915 N Main St.\, Houston\, TX\, 77009\, United States
ATTACH;FMTTYPE=image/png:https://spacecityfrequency.com/wp-content/uploads/2022/04/Tai-Verdes.png
END:VEVENT
BEGIN:VEVENT
DTSTART;TZID=America/Chicago:20220424T190000
DTEND;TZID=America/Chicago:20220424T233000
DTSTAMP:20260425T142238
CREATED:20220420T034119Z
LAST-MODIFIED:20220420T034534Z
UID:12253-1650826800-1650843000@spacecityfrequency.com
SUMMARY:Camera Cult w/ Uncle Tino @ White Oak Music Hall
DESCRIPTION:
URL:https://spacecityfrequency.com/event/camera-cult-white-oak-music-hall/
LOCATION:White Oak Music Hall\, 2915 N Main St.\, Houston\, TX\, 77009\, United States
ATTACH;FMTTYPE=image/png:https://spacecityfrequency.com/wp-content/uploads/2022/04/camera-cult.png
END:VEVENT
BEGIN:VEVENT
DTSTART;TZID=America/Chicago:20220424T190000
DTEND;TZID=America/Chicago:20220424T233000
DTSTAMP:20260425T142238
CREATED:20220420T033809Z
LAST-MODIFIED:20220420T033809Z
UID:12250-1650826800-1650843000@spacecityfrequency.com
SUMMARY:Pinegrove @ White Oak Music Hall
DESCRIPTION:
URL:https://spacecityfrequency.com/event/pinegrove-white-oak-music-hall/
LOCATION:White Oak Music Hall\, 2915 N Main St.\, Houston\, TX\, 77009\, United States
ATTACH;FMTTYPE=image/png:https://spacecityfrequency.com/wp-content/uploads/2022/04/pinegrove.png
END:VEVENT
BEGIN:VEVENT
DTSTART;TZID=America/Chicago:20220424T190000
DTEND;TZID=America/Chicago:20220424T230000
DTSTAMP:20260425T142238
CREATED:20220310T074038Z
LAST-MODIFIED:20220310T074038Z
UID:10012-1650826800-1650841200@spacecityfrequency.com
SUMMARY:Jacob Collier @ House of Blues
DESCRIPTION:
URL:https://spacecityfrequency.com/event/jacob-collier-house-of-blues/
LOCATION:House Of Blues\, 1204 Caroline St.\, Houston\, 77002\, United States
ATTACH;FMTTYPE=image/png:https://spacecityfrequency.com/wp-content/uploads/2022/03/collier.png
END:VEVENT
BEGIN:VEVENT
DTSTART;TZID=America/Chicago:20220423T190000
DTEND;TZID=America/Chicago:20220423T230000
DTSTAMP:20260425T142238
CREATED:20220420T200734Z
LAST-MODIFIED:20220420T200734Z
UID:12372-1650740400-1650754800@spacecityfrequency.com
SUMMARY:Beth Hart @ Bayou Music Center
DESCRIPTION: 
URL:https://spacecityfrequency.com/event/beth-hart-bayou-music-center/
LOCATION:Bayou Music Center\, 520 Texas Ave.\, Houston\, TX\, 77002\, United States
ATTACH;FMTTYPE=image/jpeg:https://spacecityfrequency.com/wp-content/uploads/2022/04/Beth-Hart-2021-Nat-1x1-r2-1.jpg
END:VEVENT
BEGIN:VEVENT
DTSTART;TZID=America/Chicago:20220423T190000
DTEND;TZID=America/Chicago:20220423T230000
DTSTAMP:20260425T142238
CREATED:20220420T052133Z
LAST-MODIFIED:20220420T052134Z
UID:12348-1650740400-1650754800@spacecityfrequency.com
SUMMARY:John Mayer @ Toyota Center
DESCRIPTION:
URL:https://spacecityfrequency.com/event/john-mayer-toyota-center/
LOCATION:Toyota Center\, 1510 Polk St\, Houston\, 77002\, United States
ATTACH;FMTTYPE=image/jpeg:https://spacecityfrequency.com/wp-content/uploads/2022/04/E6bPV6vXoAgDRln.jpg
END:VEVENT
BEGIN:VEVENT
DTSTART;TZID=America/Chicago:20220423T190000
DTEND;TZID=America/Chicago:20220423T230000
DTSTAMP:20260425T142238
CREATED:20220310T073547Z
LAST-MODIFIED:20220310T073751Z
UID:10009-1650740400-1650754800@spacecityfrequency.com
SUMMARY:Jerry Cantrell @ House of Blues
DESCRIPTION:
URL:https://spacecityfrequency.com/event/jerry-cantrell/
LOCATION:House Of Blues\, 1204 Caroline St.\, Houston\, 77002\, United States
END:VEVENT
BEGIN:VEVENT
DTSTART;TZID=America/Chicago:20220422T190000
DTEND;TZID=America/Chicago:20220422T233000
DTSTAMP:20260425T142239
CREATED:20220420T235305Z
LAST-MODIFIED:20220420T235305Z
UID:12473-1650654000-1650670200@spacecityfrequency.com
SUMMARY:The Movement w/ Th3rd Coast Roots
DESCRIPTION:
URL:https://spacecityfrequency.com/event/the-movement-w-th3rd-coast-roots/
LOCATION:Warehouse Live\, 813 St Emanuel St\, Houston\, TX\, 77003\, United States
ATTACH;FMTTYPE=image/jpeg:https://spacecityfrequency.com/wp-content/uploads/2022/04/MVMT_SpringTour_2022_SquareSpaceBanner_Updated.jpg
END:VEVENT
BEGIN:VEVENT
DTSTART;TZID=America/Chicago:20220422T190000
DTEND;TZID=America/Chicago:20220422T230000
DTSTAMP:20260425T142239
CREATED:20220420T235054Z
LAST-MODIFIED:20220420T235054Z
UID:12470-1650654000-1650668400@spacecityfrequency.com
SUMMARY:Eve 6 @ House of Blues
DESCRIPTION:
URL:https://spacecityfrequency.com/event/eve-6-house-of-blues/
LOCATION:Warehouse Live\, 813 St Emanuel St\, Houston\, TX\, 77003\, United States
ATTACH;FMTTYPE=image/jpeg:https://spacecityfrequency.com/wp-content/uploads/2022/04/attachment-eve62022tour.jpg
END:VEVENT
BEGIN:VEVENT
DTSTART;TZID=America/Chicago:20220422T190000
DTEND;TZID=America/Chicago:20220422T230000
DTSTAMP:20260425T142239
CREATED:20220420T200347Z
LAST-MODIFIED:20220420T200347Z
UID:12368-1650654000-1650668400@spacecityfrequency.com
SUMMARY:Tim Dillon @ Bayou Music Center
DESCRIPTION:
URL:https://spacecityfrequency.com/event/tim-dillon-bayou-music-center/
LOCATION:Bayou Music Center\, 520 Texas Ave.\, Houston\, TX\, 77002\, United States
ATTACH;FMTTYPE=image/jpeg:https://spacecityfrequency.com/wp-content/uploads/2022/04/EDPVLP_Tim_Dillon_1024x576-1.jpg
END:VEVENT
BEGIN:VEVENT
DTSTART;TZID=America/Chicago:20220422T190000
DTEND;TZID=America/Chicago:20220422T230000
DTSTAMP:20260425T142239
CREATED:20220310T073330Z
LAST-MODIFIED:20220331T165659Z
UID:10007-1650654000-1650668400@spacecityfrequency.com
SUMMARY:St. Paul & The Broken Bones @ House of Blues
DESCRIPTION:
URL:https://spacecityfrequency.com/event/st-paul-the-broken-bones/
LOCATION:House Of Blues\, 1204 Caroline St.\, Houston\, 77002\, United States
END:VEVENT
BEGIN:VEVENT
DTSTART;TZID=America/Chicago:20220422T190000
DTEND;TZID=America/Chicago:20220422T230000
DTSTAMP:20260425T142239
CREATED:20220310T073102Z
LAST-MODIFIED:20220310T073102Z
UID:10005-1650654000-1650668400@spacecityfrequency.com
SUMMARY:Great Good Fine Ok @ House of Blues
DESCRIPTION:
URL:https://spacecityfrequency.com/event/great-good-fine-ok-house-of-blues/
LOCATION:House Of Blues\, 1204 Caroline St.\, Houston\, 77002\, United States
END:VEVENT
BEGIN:VEVENT
DTSTART;TZID=America/Chicago:20220422T140000
DTEND;TZID=America/Chicago:20220422T233000
DTSTAMP:20260425T142239
CREATED:20220420T033506Z
LAST-MODIFIED:20220420T033506Z
UID:12221-1650636000-1650670200@spacecityfrequency.com
SUMMARY:Hell's Hero IV: Candlemass\, Darkangel + More
DESCRIPTION:
URL:https://spacecityfrequency.com/event/hells-hero-iv-candlemass-darkangel-more/
LOCATION:White Oak Music Hall\, 2915 N Main St.\, Houston\, TX\, 77009\, United States
ATTACH;FMTTYPE=image/png:https://spacecityfrequency.com/wp-content/uploads/2022/04/hells-heros.png
END:VEVENT
BEGIN:VEVENT
DTSTART;TZID=America/Chicago:20220421T190000
DTEND;TZID=America/Chicago:20220421T233000
DTSTAMP:20260425T142239
CREATED:20220420T234859Z
LAST-MODIFIED:20220420T234859Z
UID:12467-1650567600-1650583800@spacecityfrequency.com
SUMMARY:Rittz @ Warehouse Live
DESCRIPTION:
URL:https://spacecityfrequency.com/event/rittz-warehouse-live/
LOCATION:Warehouse Live\, 813 St Emanuel St\, Houston\, TX\, 77003\, United States
ATTACH;FMTTYPE=image/jpeg:https://spacecityfrequency.com/wp-content/uploads/2022/04/RITTZ-LOUD-AND-CLEAR-ADMAT-website.jpg
END:VEVENT
BEGIN:VEVENT
DTSTART;TZID=America/Chicago:20220421T190000
DTEND;TZID=America/Chicago:20220421T233000
DTSTAMP:20260425T142239
CREATED:20220420T204037Z
LAST-MODIFIED:20220420T204037Z
UID:12402-1650567600-1650583800@spacecityfrequency.com
SUMMARY:Citizen Cope @ House of Blues
DESCRIPTION:
URL:https://spacecityfrequency.com/event/citizen-cope-house-of-blues-2/
LOCATION:House Of Blues\, 1204 Caroline St.\, Houston\, 77002\, United States
ATTACH;FMTTYPE=image/png:https://spacecityfrequency.com/wp-content/uploads/2022/04/citizencope.png
END:VEVENT
BEGIN:VEVENT
DTSTART;TZID=America/Chicago:20220421T190000
DTEND;TZID=America/Chicago:20220421T230000
DTSTAMP:20260425T142239
CREATED:20220419T062147Z
LAST-MODIFIED:20220419T062147Z
UID:12012-1650567600-1650582000@spacecityfrequency.com
SUMMARY:Billy Strings @ 713 Music Hall
DESCRIPTION:
URL:https://spacecityfrequency.com/event/billy-strings-713-music-hall/
LOCATION:713 Music Hall\, 401 Franklin St.\, Houston\, TX\, 77201\, United States
ATTACH;FMTTYPE=image/png:https://spacecityfrequency.com/wp-content/uploads/2022/04/unnamed-21.png
END:VEVENT
BEGIN:VEVENT
DTSTART;TZID=America/Chicago:20220421T170000
DTEND;TZID=America/Chicago:20220421T233000
DTSTAMP:20260425T142239
CREATED:20220420T033128Z
LAST-MODIFIED:20220420T033153Z
UID:12210-1650560400-1650583800@spacecityfrequency.com
SUMMARY:Hells Heros IV Pre-Party: Exciter\, Helstar\, Toxik @ White Oak Music Hall
DESCRIPTION:
URL:https://spacecityfrequency.com/event/hells-heros-iv-exciter-helstar-toxik-white-oak-music-hall/
LOCATION:White Oak Music Hall\, 2915 N Main St.\, Houston\, TX\, 77009\, United States
ATTACH;FMTTYPE=image/png:https://spacecityfrequency.com/wp-content/uploads/2022/04/hells.png
END:VEVENT
BEGIN:VEVENT
DTSTART;TZID=America/Chicago:20220420T190000
DTEND;TZID=America/Chicago:20220420T230000
DTSTAMP:20260425T142239
CREATED:20220420T032801Z
LAST-MODIFIED:20220420T032801Z
UID:12207-1650481200-1650495600@spacecityfrequency.com
SUMMARY:Windowspeak\, Sylvi @ White Oak Music Hall
DESCRIPTION:
URL:https://spacecityfrequency.com/event/windowspeak-sylvi-white-oak-music-hall/
LOCATION:White Oak Music Hall\, 2915 N Main St.\, Houston\, TX\, 77009\, United States
ATTACH;FMTTYPE=image/png:https://spacecityfrequency.com/wp-content/uploads/2022/04/windowspeak.png
END:VEVENT
BEGIN:VEVENT
DTSTART;TZID=America/Chicago:20220420T190000
DTEND;TZID=America/Chicago:20220420T230000
DTSTAMP:20260425T142239
CREATED:20220420T032507Z
LAST-MODIFIED:20220420T032507Z
UID:12204-1650481200-1650495600@spacecityfrequency.com
SUMMARY:Testament\, Exodus\, Death Angel @ White Oak Music Hall
DESCRIPTION:
URL:https://spacecityfrequency.com/event/testament-exodus-death-angel-white-oak-music-hall/
LOCATION:White Oak Music Hall\, 2915 N Main St.\, Houston\, TX\, 77009\, United States
ATTACH;FMTTYPE=image/png:https://spacecityfrequency.com/wp-content/uploads/2022/04/testament.png
END:VEVENT
BEGIN:VEVENT
DTSTART;TZID=America/Chicago:20220420T080000
DTEND;TZID=America/Chicago:20220420T170000
DTSTAMP:20260425T142239
CREATED:20220420T214917Z
LAST-MODIFIED:20220420T214917Z
UID:12431-1650441600-1650474000@spacecityfrequency.com
SUMMARY:Kalan Frfr @ House of Blues
DESCRIPTION:
URL:https://spacecityfrequency.com/event/kalan-frfr-house-of-blues/
LOCATION:House Of Blues\, 1204 Caroline St.\, Houston\, 77002\, United States
ATTACH;FMTTYPE=image/png:https://spacecityfrequency.com/wp-content/uploads/2022/04/tour-logos.png
END:VEVENT
BEGIN:VEVENT
DTSTART;TZID=America/Chicago:20220420T080000
DTEND;TZID=America/Chicago:20220420T170000
DTSTAMP:20260425T142239
CREATED:20220420T205746Z
LAST-MODIFIED:20220420T205746Z
UID:12415-1650441600-1650474000@spacecityfrequency.com
SUMMARY:Mariah The Scientist @ House of Blues
DESCRIPTION:
URL:https://spacecityfrequency.com/event/mariah-the-scientist-house-of-blues/
LOCATION:House Of Blues\, 1204 Caroline St.\, Houston\, 77002\, United States
ATTACH;FMTTYPE=image/jpeg:https://spacecityfrequency.com/wp-content/uploads/2022/04/attachment-mariah-scientist-2022-tour.jpeg
END:VEVENT
BEGIN:VEVENT
DTSTART;TZID=America/Chicago:20220419T190000
DTEND;TZID=America/Chicago:20220419T233000
DTSTAMP:20260425T142239
CREATED:20220420T040050Z
LAST-MODIFIED:20220420T040050Z
UID:12266-1650394800-1650411000@spacecityfrequency.com
SUMMARY:Molchat Doma @ White Oak Music Hall
DESCRIPTION:@
URL:https://spacecityfrequency.com/event/molchat-doma-white-oak-music-hall/
LOCATION:White Oak Music Hall\, 2915 N Main St.\, Houston\, TX\, 77009\, United States
ATTACH;FMTTYPE=image/png:https://spacecityfrequency.com/wp-content/uploads/2022/04/Molchat.png
END:VEVENT
BEGIN:VEVENT
DTSTART;TZID=America/Chicago:20220419T190000
DTEND;TZID=America/Chicago:20220419T230000
DTSTAMP:20260425T142239
CREATED:20220310T072652Z
LAST-MODIFIED:20220310T072652Z
UID:9998-1650394800-1650409200@spacecityfrequency.com
SUMMARY:The Record Company @ House of Blues
DESCRIPTION:
URL:https://spacecityfrequency.com/event/the-record-company-house-of-blues/
LOCATION:House Of Blues\, 1204 Caroline St.\, Houston\, 77002\, United States
ATTACH;FMTTYPE=image/png:https://spacecityfrequency.com/wp-content/uploads/2022/03/recordcompany.png
END:VEVENT
BEGIN:VEVENT
DTSTART;TZID=America/Chicago:20220419T190000
DTEND;TZID=America/Chicago:20220419T230000
DTSTAMP:20260425T142239
CREATED:20220310T072103Z
LAST-MODIFIED:20220310T072103Z
UID:9993-1650394800-1650409200@spacecityfrequency.com
SUMMARY:Skip Marley @ House of Blues
DESCRIPTION:
URL:https://spacecityfrequency.com/event/skip-marley-house-of-blues/
LOCATION:House Of Blues\, 1204 Caroline St.\, Houston\, 77002\, United States
ATTACH;FMTTYPE=image/png:https://spacecityfrequency.com/wp-content/uploads/2022/03/skip-1.png
END:VEVENT
BEGIN:VEVENT
DTSTART;TZID=America/Chicago:20220418T190000
DTEND;TZID=America/Chicago:20220418T233000
DTSTAMP:20260425T142239
CREATED:20220212T083156Z
LAST-MODIFIED:20220212T083156Z
UID:8836-1650308400-1650324600@spacecityfrequency.com
SUMMARY:Drain Gang @ Warehouse Live
DESCRIPTION:
URL:https://spacecityfrequency.com/event/drain-gang-warehouse-live/
LOCATION:Warehouse Live\, 813 St Emanuel St\, Houston\, TX\, 77003\, United States
END:VEVENT
BEGIN:VEVENT
DTSTART;TZID=America/Chicago:20220417T190000
DTEND;TZID=America/Chicago:20220417T230000
DTSTAMP:20260425T142239
CREATED:20220310T071711Z
LAST-MODIFIED:20220310T071711Z
UID:9990-1650222000-1650236400@spacecityfrequency.com
SUMMARY:Ashe @ House of Blues
DESCRIPTION:
URL:https://spacecityfrequency.com/event/ashe-house-of-blues/
LOCATION:House Of Blues\, 1204 Caroline St.\, Houston\, 77002\, United States
ATTACH;FMTTYPE=image/png:https://spacecityfrequency.com/wp-content/uploads/2022/03/ashe.png
END:VEVENT
BEGIN:VEVENT
DTSTART;TZID=America/Chicago:20220416T190000
DTEND;TZID=America/Chicago:20220416T233000
DTSTAMP:20260425T142239
CREATED:20220212T082934Z
LAST-MODIFIED:20220212T082934Z
UID:8791-1650135600-1650151800@spacecityfrequency.com
SUMMARY:Dragonforce @ Warehouse Live
DESCRIPTION:
URL:https://spacecityfrequency.com/event/dragonforce-warehouse-live/
LOCATION:Warehouse Live\, 813 St Emanuel St\, Houston\, TX\, 77003\, United States
ATTACH;FMTTYPE=image/png:https://spacecityfrequency.com/wp-content/uploads/2022/02/dragon.png
END:VEVENT
BEGIN:VEVENT
DTSTART;TZID=America/Chicago:20220416T190000
DTEND;TZID=America/Chicago:20220416T230000
DTSTAMP:20260425T142239
CREATED:20220331T183420Z
LAST-MODIFIED:20220331T195238Z
UID:10946-1650135600-1650150000@spacecityfrequency.com
SUMMARY:Maze & The Isley Brothers @ Toyota Center
DESCRIPTION:
URL:https://spacecityfrequency.com/event/maze-the-isley-brothers/
LOCATION:Toyota Center\, 1510 Polk St\, Houston\, 77002\, United States
ATTACH;FMTTYPE=image/jpeg:https://spacecityfrequency.com/wp-content/uploads/2022/03/RG_ToyotaCenter_0416_Maze-IsleyBrothers_SG_1200x630-ee2f7efc36.jpg
END:VEVENT
END:VCALENDAR