BEGIN:VCALENDAR
VERSION:2.0
PRODID:-//Space City Frequency - ECPv6.15.20//NONSGML v1.0//EN
CALSCALE:GREGORIAN
METHOD:PUBLISH
X-WR-CALNAME:Space City Frequency
X-ORIGINAL-URL:https://spacecityfrequency.com
X-WR-CALDESC:Events for Space City Frequency
REFRESH-INTERVAL;VALUE=DURATION:PT1H
X-Robots-Tag:noindex
X-PUBLISHED-TTL:PT1H
BEGIN:VTIMEZONE
TZID:America/Chicago
BEGIN:DAYLIGHT
TZOFFSETFROM:-0600
TZOFFSETTO:-0500
TZNAME:CDT
DTSTART:20210314T080000
END:DAYLIGHT
BEGIN:STANDARD
TZOFFSETFROM:-0500
TZOFFSETTO:-0600
TZNAME:CST
DTSTART:20211107T070000
END:STANDARD
BEGIN:DAYLIGHT
TZOFFSETFROM:-0600
TZOFFSETTO:-0500
TZNAME:CDT
DTSTART:20220313T080000
END:DAYLIGHT
BEGIN:STANDARD
TZOFFSETFROM:-0500
TZOFFSETTO:-0600
TZNAME:CST
DTSTART:20221106T070000
END:STANDARD
BEGIN:DAYLIGHT
TZOFFSETFROM:-0600
TZOFFSETTO:-0500
TZNAME:CDT
DTSTART:20230312T080000
END:DAYLIGHT
BEGIN:STANDARD
TZOFFSETFROM:-0500
TZOFFSETTO:-0600
TZNAME:CST
DTSTART:20231105T070000
END:STANDARD
END:VTIMEZONE
BEGIN:VEVENT
DTSTART;TZID=America/Chicago:20220729T190000
DTEND;TZID=America/Chicago:20220729T230000
DTSTAMP:20260424T183230
CREATED:20220614T220224Z
LAST-MODIFIED:20220614T220224Z
UID:15558-1659121200-1659135600@spacecityfrequency.com
SUMMARY:Sleeping With Sirens @ Warehouse Live
DESCRIPTION:
URL:https://spacecityfrequency.com/event/sleeping-with-sirens-warehouse-live/
LOCATION:Warehouse Live\, 813 St Emanuel St\, Houston\, TX\, 77003\, United States
END:VEVENT
BEGIN:VEVENT
DTSTART;TZID=America/Chicago:20220729T070000
DTEND;TZID=America/Chicago:20220729T230000
DTSTAMP:20260424T183230
CREATED:20220726T225733Z
LAST-MODIFIED:20220726T225733Z
UID:18081-1659078000-1659135600@spacecityfrequency.com
SUMMARY:Dude Perfect @ Toyota Center
DESCRIPTION:
URL:https://spacecityfrequency.com/event/dude-perfect-toyota-center/
LOCATION:Toyota Center\, 1510 Polk St\, Houston\, 77002\, United States
ATTACH;FMTTYPE=image/jpeg:https://spacecityfrequency.com/wp-content/uploads/2022/07/1000-x-580-1.jpg
END:VEVENT
BEGIN:VEVENT
DTSTART;TZID=America/Chicago:20220728T190000
DTEND;TZID=America/Chicago:20220728T230000
DTSTAMP:20260424T183230
CREATED:20220614T220118Z
LAST-MODIFIED:20220614T220118Z
UID:15556-1659034800-1659049200@spacecityfrequency.com
SUMMARY:Memphis May Fire @ Warehouse Live
DESCRIPTION:
URL:https://spacecityfrequency.com/event/memphis-may-fire-warehouse-live/
LOCATION:Warehouse Live\, 813 St Emanuel St\, Houston\, TX\, 77003\, United States
END:VEVENT
BEGIN:VEVENT
DTSTART;TZID=America/Chicago:20220723T190000
DTEND;TZID=America/Chicago:20220723T230000
DTSTAMP:20260424T183230
CREATED:20220614T215857Z
LAST-MODIFIED:20220614T215857Z
UID:15552-1658602800-1658617200@spacecityfrequency.com
SUMMARY:ZO! & Tall Black Guy @ Warehouse Live
DESCRIPTION:
URL:https://spacecityfrequency.com/event/zo-tall-black-guy-warehouse-live/
LOCATION:Warehouse Live\, 813 St Emanuel St\, Houston\, TX\, 77003\, United States
END:VEVENT
BEGIN:VEVENT
DTSTART;VALUE=DATE:20220723
DTEND;VALUE=DATE:20220726
DTSTAMP:20260424T183230
CREATED:20220617T070621Z
LAST-MODIFIED:20220617T070621Z
UID:15725-1658545200-1658717999@spacecityfrequency.com
SUMMARY:Float Fest
DESCRIPTION:
URL:https://spacecityfrequency.com/event/float-fest/
LOCATION:The Ranch\, 1 CR 197\, GONZALES\, TX\, 78629\, United States
END:VEVENT
BEGIN:VEVENT
DTSTART;TZID=America/Chicago:20220719T190000
DTEND;TZID=America/Chicago:20220719T230000
DTSTAMP:20260424T183230
CREATED:20220614T215754Z
LAST-MODIFIED:20220614T215754Z
UID:15550-1658257200-1658271600@spacecityfrequency.com
SUMMARY:Erra @ Warehouse Live
DESCRIPTION:
URL:https://spacecityfrequency.com/event/erra-warehouse-live/
LOCATION:Warehouse Live\, 813 St Emanuel St\, Houston\, TX\, 77003\, United States
END:VEVENT
BEGIN:VEVENT
DTSTART;TZID=America/Chicago:20220718T190000
DTEND;TZID=America/Chicago:20220718T230000
DTSTAMP:20260424T183230
CREATED:20220614T215713Z
LAST-MODIFIED:20220614T215713Z
UID:15548-1658170800-1658185200@spacecityfrequency.com
SUMMARY:Broadside @ Warehouse Live
DESCRIPTION:
URL:https://spacecityfrequency.com/event/broadside-warehouse-live/
LOCATION:Warehouse Live\, 813 St Emanuel St\, Houston\, TX\, 77003\, United States
END:VEVENT
BEGIN:VEVENT
DTSTART;TZID=America/Chicago:20220716T190000
DTEND;TZID=America/Chicago:20220716T220000
DTSTAMP:20260424T183230
CREATED:20220614T215627Z
LAST-MODIFIED:20220614T215627Z
UID:15546-1657998000-1658008800@spacecityfrequency.com
SUMMARY:Rings of Saturn @ Warehouse Live
DESCRIPTION:
URL:https://spacecityfrequency.com/event/rings-of-saturn-warehouse-live/
LOCATION:Warehouse Live\, 813 St Emanuel St\, Houston\, TX\, 77003\, United States
END:VEVENT
BEGIN:VEVENT
DTSTART;TZID=America/Chicago:20220715T190000
DTEND;TZID=America/Chicago:20220715T220000
DTSTAMP:20260424T183230
CREATED:20220614T215239Z
LAST-MODIFIED:20220614T215239Z
UID:15544-1657911600-1657922400@spacecityfrequency.com
SUMMARY:GSoul @ Warehouse Live
DESCRIPTION:
URL:https://spacecityfrequency.com/event/gsoul-warehouse-live/
LOCATION:Warehouse Live\, 813 St Emanuel St\, Houston\, TX\, 77003\, United States
END:VEVENT
BEGIN:VEVENT
DTSTART;TZID=America/Chicago:20220709T190000
DTEND;TZID=America/Chicago:20220709T230000
DTSTAMP:20260424T183230
CREATED:20220614T215149Z
LAST-MODIFIED:20220614T215149Z
UID:15542-1657393200-1657407600@spacecityfrequency.com
SUMMARY:Carmen Pritchett @ Warehouse Live
DESCRIPTION:
URL:https://spacecityfrequency.com/event/carmen-pritchett-warehouse-live/
LOCATION:Warehouse Live\, 813 St Emanuel St\, Houston\, TX\, 77003\, United States
END:VEVENT
BEGIN:VEVENT
DTSTART;TZID=America/Chicago:20220708T190000
DTEND;TZID=America/Chicago:20220708T230000
DTSTAMP:20260424T183230
CREATED:20220614T215045Z
LAST-MODIFIED:20220614T215045Z
UID:15540-1657306800-1657321200@spacecityfrequency.com
SUMMARY:VRYR&B @ Warehouse Live
DESCRIPTION:
URL:https://spacecityfrequency.com/event/vryrb-warehouse-live/
LOCATION:Warehouse Live\, 813 St Emanuel St\, Houston\, TX\, 77003\, United States
END:VEVENT
BEGIN:VEVENT
DTSTART;TZID=America/Chicago:20220702T190000
DTEND;TZID=America/Chicago:20220702T230000
DTSTAMP:20260424T183230
CREATED:20220614T214946Z
LAST-MODIFIED:20220614T214946Z
UID:15538-1656788400-1656802800@spacecityfrequency.com
SUMMARY:Keara Alyse @ Warehouse Live
DESCRIPTION:
URL:https://spacecityfrequency.com/event/keara-alyse-warehouse-live/
LOCATION:Warehouse Live\, 813 St Emanuel St\, Houston\, TX\, 77003\, United States
END:VEVENT
BEGIN:VEVENT
DTSTART;TZID=America/Chicago:20220701T070000
DTEND;TZID=America/Chicago:20220701T220000
DTSTAMP:20260424T183230
CREATED:20220614T214839Z
LAST-MODIFIED:20220614T214839Z
UID:15535-1656658800-1656712800@spacecityfrequency.com
SUMMARY:Lil Tracy's Space Odyssey @ Warehouse Live
DESCRIPTION:
URL:https://spacecityfrequency.com/event/lil-tracys-space-odyssey-warehouse-live/
LOCATION:Warehouse Live\, 813 St Emanuel St\, Houston\, TX\, 77003\, United States
END:VEVENT
BEGIN:VEVENT
DTSTART;TZID=America/Chicago:20220630T190000
DTEND;TZID=America/Chicago:20220630T230000
DTSTAMP:20260424T183230
CREATED:20220614T214220Z
LAST-MODIFIED:20220614T214220Z
UID:15533-1656615600-1656630000@spacecityfrequency.com
SUMMARY:Pop Evil @ Warehouse Live
DESCRIPTION:
URL:https://spacecityfrequency.com/event/pop-evil-warehouse-live/
LOCATION:Warehouse Live\, 813 St Emanuel St\, Houston\, TX\, 77003\, United States
END:VEVENT
BEGIN:VEVENT
DTSTART;TZID=America/Chicago:20220629T190000
DTEND;TZID=America/Chicago:20220629T230000
DTSTAMP:20260424T183230
CREATED:20220614T214119Z
LAST-MODIFIED:20220614T214119Z
UID:15531-1656529200-1656543600@spacecityfrequency.com
SUMMARY:Picturesque @ Warehouse Live
DESCRIPTION:
URL:https://spacecityfrequency.com/event/picturesque-warehouse-live/
LOCATION:Warehouse Live\, 813 St Emanuel St\, Houston\, TX\, 77003\, United States
END:VEVENT
BEGIN:VEVENT
DTSTART;TZID=America/Chicago:20220625T190000
DTEND;TZID=America/Chicago:20220625T230000
DTSTAMP:20260424T183230
CREATED:20220614T214000Z
LAST-MODIFIED:20220614T214000Z
UID:15529-1656183600-1656198000@spacecityfrequency.com
SUMMARY:Socialhouse @ Warehouse Live
DESCRIPTION:
URL:https://spacecityfrequency.com/event/socialhouse-warehouse-live/
LOCATION:Warehouse Live\, 813 St Emanuel St\, Houston\, TX\, 77003\, United States
END:VEVENT
BEGIN:VEVENT
DTSTART;TZID=America/Chicago:20220625T190000
DTEND;TZID=America/Chicago:20220625T230000
DTSTAMP:20260424T183230
CREATED:20220614T213734Z
LAST-MODIFIED:20220614T213734Z
UID:15527-1656183600-1656198000@spacecityfrequency.com
SUMMARY:Tom Keifer Band @ Warehouse Live
DESCRIPTION:
URL:https://spacecityfrequency.com/event/tom-keifer-band-warehouse-live/
LOCATION:Warehouse Live\, 813 St Emanuel St\, Houston\, TX\, 77003\, United States
END:VEVENT
BEGIN:VEVENT
DTSTART;TZID=America/Chicago:20220624T190000
DTEND;TZID=America/Chicago:20220624T230000
DTSTAMP:20260424T183230
CREATED:20220614T220012Z
LAST-MODIFIED:20220614T220012Z
UID:15554-1656097200-1656111600@spacecityfrequency.com
SUMMARY:Arlie @ Warehouse Live
DESCRIPTION:
URL:https://spacecityfrequency.com/event/arlie-warehouse-live/
LOCATION:Warehouse Live\, 813 St Emanuel St\, Houston\, TX\, 77003\, United States
END:VEVENT
BEGIN:VEVENT
DTSTART;TZID=America/Chicago:20220617T190000
DTEND;TZID=America/Chicago:20220617T230000
DTSTAMP:20260424T183230
CREATED:20220614T213600Z
LAST-MODIFIED:20220614T213600Z
UID:15525-1655492400-1655506800@spacecityfrequency.com
SUMMARY:Dean Lewis @ Warehouse Live
DESCRIPTION:
URL:https://spacecityfrequency.com/event/dean-lewis-warehouse-live/
LOCATION:Warehouse Live\, 813 St Emanuel St\, Houston\, TX\, 77003\, United States
END:VEVENT
BEGIN:VEVENT
DTSTART;TZID=America/Chicago:20220617T190000
DTEND;TZID=America/Chicago:20220617T230000
DTSTAMP:20260424T183230
CREATED:20220420T202752Z
LAST-MODIFIED:20220420T202902Z
UID:12397-1655492400-1655506800@spacecityfrequency.com
SUMMARY:ChavoRucos @ Bayou Music Center
DESCRIPTION:
URL:https://spacecityfrequency.com/event/chavorucos-bayou/
LOCATION:Bayou Music Center\, 520 Texas Ave.\, Houston\, TX\, 77002\, United States
ATTACH;FMTTYPE=image/jpeg:https://spacecityfrequency.com/wp-content/uploads/2022/04/SquareImage.jpg
END:VEVENT
BEGIN:VEVENT
DTSTART;TZID=America/Chicago:20220616T190000
DTEND;TZID=America/Chicago:20220616T230000
DTSTAMP:20260424T183230
CREATED:20220521T050949Z
LAST-MODIFIED:20220521T050949Z
UID:14306-1655406000-1655420400@spacecityfrequency.com
SUMMARY:Cobweb Cabaret @ Warehouse Live
DESCRIPTION:
URL:https://spacecityfrequency.com/event/cobweb-cabaret-warehouse-live/
LOCATION:Warehouse Live\, 813 St Emanuel St\, Houston\, TX\, 77003\, United States
ATTACH;FMTTYPE=image/png:https://spacecityfrequency.com/wp-content/uploads/2022/05/cobweb.png
END:VEVENT
BEGIN:VEVENT
DTSTART;TZID=America/Chicago:20220613T190000
DTEND;TZID=America/Chicago:20220613T230000
DTSTAMP:20260424T183230
CREATED:20220521T050606Z
LAST-MODIFIED:20220521T050606Z
UID:14304-1655146800-1655161200@spacecityfrequency.com
SUMMARY:Last Dinosaur @ Warehouse Live
DESCRIPTION:
URL:https://spacecityfrequency.com/event/last-dinosaur-warehouse-live/
LOCATION:Warehouse Live\, 813 St Emanuel St\, Houston\, TX\, 77003\, United States
END:VEVENT
BEGIN:VEVENT
DTSTART;TZID=America/Chicago:20220611T190000
DTEND;TZID=America/Chicago:20220611T230000
DTSTAMP:20260424T183230
CREATED:20220521T050514Z
LAST-MODIFIED:20220521T050514Z
UID:14301-1654974000-1654988400@spacecityfrequency.com
SUMMARY:Electro Bounce: Soul Control
DESCRIPTION:
URL:https://spacecityfrequency.com/event/electro-bounce-soul-control/
LOCATION:Warehouse Live\, 813 St Emanuel St\, Houston\, TX\, 77003\, United States
ATTACH;FMTTYPE=image/png:https://spacecityfrequency.com/wp-content/uploads/2022/05/soulcontrol.png
END:VEVENT
BEGIN:VEVENT
DTSTART;TZID=America/Chicago:20220611T190000
DTEND;TZID=America/Chicago:20220611T220000
DTSTAMP:20260424T183230
CREATED:20220606T071224Z
LAST-MODIFIED:20220606T071708Z
UID:15278-1654974000-1654984800@spacecityfrequency.com
SUMMARY:Nick Kroll: Middle-Aged Boy Tour @ House of Blues
DESCRIPTION:Nick Kroll’s Middle Aged Boy Tour \nThis is a fully seated event. Doors 7PM Show 8PM
URL:https://spacecityfrequency.com/event/nick-kroll-middle-aged-boy-tour-house-of-blues/
LOCATION:House Of Blues\, 1204 Caroline St.\, Houston\, 77002\, United States
ATTACH;FMTTYPE=image/jpeg:https://spacecityfrequency.com/wp-content/uploads/2022/06/ClientFile395756.jpeg
END:VEVENT
BEGIN:VEVENT
DTSTART;TZID=America/Chicago:20220610T190000
DTEND;TZID=America/Chicago:20220610T233000
DTSTAMP:20260424T183230
CREATED:20220606T070514Z
LAST-MODIFIED:20220606T070536Z
UID:15274-1654887600-1654903800@spacecityfrequency.com
SUMMARY:Trapt - 20th Anniversary Tour @ Scout Bar
DESCRIPTION:TRAPT – 20th Anniversary Tour performing the self titled album in its entirety w/ Which Evil\, Dead Set Red\, and Bridge The Divide\n\nDoors: 7 PM / Show: 8 PM
URL:https://spacecityfrequency.com/event/trapt-20th-anniversary-tour-scout-bar/
LOCATION:Scout Bar\, 18307 Egret Bay Blvd\, Houston\, TX\, 77058\, United States
END:VEVENT
BEGIN:VEVENT
DTSTART;TZID=America/Chicago:20220610T190000
DTEND;TZID=America/Chicago:20220610T230000
DTSTAMP:20260424T183230
CREATED:20220606T070847Z
LAST-MODIFIED:20220606T070847Z
UID:15276-1654887600-1654902000@spacecityfrequency.com
SUMMARY:Earthgang @ House of Blues
DESCRIPTION:Earthgang with Mike Dimes \nDoors 7pm\, show 8pm
URL:https://spacecityfrequency.com/event/earthgang-house-of-blues/
LOCATION:House Of Blues\, 1204 Caroline St.\, Houston\, 77002\, United States
END:VEVENT
BEGIN:VEVENT
DTSTART;TZID=America/Chicago:20220610T190000
DTEND;TZID=America/Chicago:20220610T230000
DTSTAMP:20260424T183230
CREATED:20220420T195552Z
LAST-MODIFIED:20220420T195553Z
UID:12365-1654887600-1654902000@spacecityfrequency.com
SUMMARY:Machine Gun Kelly @ Toyota Center
DESCRIPTION:
URL:https://spacecityfrequency.com/event/machine-gun-kelly-toyota-center/
LOCATION:Toyota Center\, 1510 Polk St\, Houston\, 77002\, United States
ATTACH;FMTTYPE=image/jpeg:https://spacecityfrequency.com/wp-content/uploads/2022/04/06-10-22_Machine-Gun-Kelly_1200x630_v3-d1a26fe08b.jpg
END:VEVENT
BEGIN:VEVENT
DTSTART;TZID=America/Chicago:20220610T190000
DTEND;TZID=America/Chicago:20220610T220000
DTSTAMP:20260424T183230
CREATED:20220521T050201Z
LAST-MODIFIED:20220521T050201Z
UID:14298-1654887600-1654898400@spacecityfrequency.com
SUMMARY:Raycheal Winters @ Warehouse Live
DESCRIPTION:
URL:https://spacecityfrequency.com/event/raycheal-winters-warehouse-live/
LOCATION:Warehouse Live\, 813 St Emanuel St\, Houston\, TX\, 77003\, United States
ATTACH;FMTTYPE=image/png:https://spacecityfrequency.com/wp-content/uploads/2022/05/winters.png
END:VEVENT
BEGIN:VEVENT
DTSTART;TZID=America/Chicago:20220608T190000
DTEND;TZID=America/Chicago:20220608T230000
DTSTAMP:20260424T183230
CREATED:20220606T070200Z
LAST-MODIFIED:20220606T070200Z
UID:15272-1654714800-1654729200@spacecityfrequency.com
SUMMARY:Samm Henshaw in The Bronze Peacock
DESCRIPTION:Featuring Bando \nDoors 7:00pm\, show 8:00pm
URL:https://spacecityfrequency.com/event/samm-henshaw-in-the-bronze-peacock/
LOCATION:House Of Blues\, 1204 Caroline St.\, Houston\, 77002\, United States
END:VEVENT
BEGIN:VEVENT
DTSTART;TZID=America/Chicago:20220608T190000
DTEND;TZID=America/Chicago:20220608T230000
DTSTAMP:20260424T183230
CREATED:20220521T045842Z
LAST-MODIFIED:20220521T045842Z
UID:14295-1654714800-1654729200@spacecityfrequency.com
SUMMARY:Flobots @ Warehouse Live
DESCRIPTION:
URL:https://spacecityfrequency.com/event/flobots-warehouse-live/
LOCATION:Warehouse Live\, 813 St Emanuel St\, Houston\, TX\, 77003\, United States
ATTACH;FMTTYPE=image/png:https://spacecityfrequency.com/wp-content/uploads/2022/05/flobots.png
END:VEVENT
END:VCALENDAR