BEGIN:VCALENDAR
VERSION:2.0
PRODID:-//Space City Frequency - ECPv6.15.20//NONSGML v1.0//EN
CALSCALE:GREGORIAN
METHOD:PUBLISH
X-WR-CALNAME:Space City Frequency
X-ORIGINAL-URL:https://spacecityfrequency.com
X-WR-CALDESC:Events for Space City Frequency
REFRESH-INTERVAL;VALUE=DURATION:PT1H
X-Robots-Tag:noindex
X-PUBLISHED-TTL:PT1H
BEGIN:VTIMEZONE
TZID:America/Chicago
BEGIN:DAYLIGHT
TZOFFSETFROM:-0600
TZOFFSETTO:-0500
TZNAME:CDT
DTSTART:20210314T080000
END:DAYLIGHT
BEGIN:STANDARD
TZOFFSETFROM:-0500
TZOFFSETTO:-0600
TZNAME:CST
DTSTART:20211107T070000
END:STANDARD
BEGIN:DAYLIGHT
TZOFFSETFROM:-0600
TZOFFSETTO:-0500
TZNAME:CDT
DTSTART:20220313T080000
END:DAYLIGHT
BEGIN:STANDARD
TZOFFSETFROM:-0500
TZOFFSETTO:-0600
TZNAME:CST
DTSTART:20221106T070000
END:STANDARD
BEGIN:DAYLIGHT
TZOFFSETFROM:-0600
TZOFFSETTO:-0500
TZNAME:CDT
DTSTART:20230312T080000
END:DAYLIGHT
BEGIN:STANDARD
TZOFFSETFROM:-0500
TZOFFSETTO:-0600
TZNAME:CST
DTSTART:20231105T070000
END:STANDARD
END:VTIMEZONE
BEGIN:VEVENT
DTSTART;VALUE=DATE:20221010
DTEND;VALUE=DATE:20221012
DTSTAMP:20260424T135858
CREATED:20221007T073656Z
LAST-MODIFIED:20221007T073656Z
UID:22004-1665370800-1665457199@spacecityfrequency.com
SUMMARY:Marcus Mumford at WOMH
DESCRIPTION:
URL:https://spacecityfrequency.com/event/marcus-mumford-at-womh/
LOCATION:White Oak Music Hall\, 2915 N Main St.\, Houston\, TX\, 77009\, United States
END:VEVENT
BEGIN:VEVENT
DTSTART;VALUE=DATE:20221010
DTEND;VALUE=DATE:20221012
DTSTAMP:20260424T135858
CREATED:20221007T073556Z
LAST-MODIFIED:20221007T073556Z
UID:22002-1665370800-1665457199@spacecityfrequency.com
SUMMARY:YVNGXCHRIS X SSGKOBE at Warehouse Live
DESCRIPTION:
URL:https://spacecityfrequency.com/event/yvngxchris-x-ssgkobe-at-warehouse-live/
LOCATION:Warehouse Live\, 813 St Emanuel St\, Houston\, TX\, 77003\, United States
END:VEVENT
BEGIN:VEVENT
DTSTART;VALUE=DATE:20221010
DTEND;VALUE=DATE:20221012
DTSTAMP:20260424T135858
CREATED:20221007T073505Z
LAST-MODIFIED:20221007T073505Z
UID:22000-1665370800-1665457199@spacecityfrequency.com
SUMMARY:Minuit Machine with Panterah and L at White Oak Music Hall
DESCRIPTION:
URL:https://spacecityfrequency.com/event/minuit-machine-with-panterah-and-l-at-white-oak-music-hall/
LOCATION:White Oak Music Hall\, 2915 N Main St.\, Houston\, TX\, 77009\, United States
END:VEVENT
BEGIN:VEVENT
DTSTART;VALUE=DATE:20221010
DTEND;VALUE=DATE:20221012
DTSTAMP:20260424T135858
CREATED:20221007T073412Z
LAST-MODIFIED:20221007T073412Z
UID:21998-1665370800-1665457199@spacecityfrequency.com
SUMMARY:Muna at House of Blues
DESCRIPTION:
URL:https://spacecityfrequency.com/event/muna-at-house-of-blues/
LOCATION:House Of Blues\, 1204 Caroline St.\, Houston\, 77002\, United States
END:VEVENT
BEGIN:VEVENT
DTSTART;VALUE=DATE:20221009
DTEND;VALUE=DATE:20221011
DTSTAMP:20260424T135858
CREATED:20221007T073308Z
LAST-MODIFIED:20221007T073308Z
UID:21996-1665284400-1665370799@spacecityfrequency.com
SUMMARY:Carly Rae Jepson at 713 Music Hall
DESCRIPTION:
URL:https://spacecityfrequency.com/event/carly-rae-jepson-at-713-music-hall/
LOCATION:713 Music Hall\, 401 Franklin St.\, Houston\, TX\, 77201\, United States
END:VEVENT
BEGIN:VEVENT
DTSTART;VALUE=DATE:20221009
DTEND;VALUE=DATE:20221011
DTSTAMP:20260424T135858
CREATED:20221007T073217Z
LAST-MODIFIED:20221007T073217Z
UID:21994-1665284400-1665370799@spacecityfrequency.com
SUMMARY:Stevie Nicks at Cynthia Woods Mitchell Pavilion
DESCRIPTION:
URL:https://spacecityfrequency.com/event/stevie-nicks-at-cynthia-woods-mitchell-pavilion/
LOCATION:The Woodlands Pavilion\, 2005 Lake Robbins Dr\,\, The Woodlands\, TX\, 77380\, United States
END:VEVENT
BEGIN:VEVENT
DTSTART;VALUE=DATE:20221009
DTEND;VALUE=DATE:20221011
DTSTAMP:20260424T135858
CREATED:20221007T073116Z
LAST-MODIFIED:20221007T073116Z
UID:21992-1665284400-1665370799@spacecityfrequency.com
SUMMARY:Los Angeles Azules at Smart Financial Centre
DESCRIPTION:
URL:https://spacecityfrequency.com/event/los-angeles-azules-at-smart-financial-centre/
LOCATION:Smart Financial Centre\, 18111 Lexington Blvd\, Sugar Land\, TX\, 77479\, United States
END:VEVENT
BEGIN:VEVENT
DTSTART;VALUE=DATE:20221009
DTEND;VALUE=DATE:20221011
DTSTAMP:20260424T135858
CREATED:20221007T073036Z
LAST-MODIFIED:20221007T073036Z
UID:21990-1665284400-1665370799@spacecityfrequency.com
SUMMARY:Noah Cyrus at House Of Blues
DESCRIPTION:
URL:https://spacecityfrequency.com/event/noah-cyrus-at-house-of-blues/
LOCATION:House Of Blues\, 1204 Caroline St.\, Houston\, 77002\, United States
END:VEVENT
BEGIN:VEVENT
DTSTART;VALUE=DATE:20221009
DTEND;VALUE=DATE:20221011
DTSTAMP:20260424T135858
CREATED:20221007T070658Z
LAST-MODIFIED:20221007T070658Z
UID:21985-1665284400-1665370799@spacecityfrequency.com
SUMMARY:Cimafunk at House of Blues
DESCRIPTION:
URL:https://spacecityfrequency.com/event/cimafunk-at-house-of-blues/
LOCATION:House Of Blues\, 1204 Caroline St.\, Houston\, 77002\, United States
END:VEVENT
BEGIN:VEVENT
DTSTART;VALUE=DATE:20221009
DTEND;VALUE=DATE:20221011
DTSTAMP:20260424T135858
CREATED:20221007T070430Z
LAST-MODIFIED:20221007T070430Z
UID:21983-1665284400-1665370799@spacecityfrequency.com
SUMMARY:Niki: The Nicole Tour at Warehouse Live
DESCRIPTION:
URL:https://spacecityfrequency.com/event/niki-the-nicole-tour-at-warehouse-live/
LOCATION:Warehouse Live\, 813 St Emanuel St\, Houston\, TX\, 77003\, United States
END:VEVENT
BEGIN:VEVENT
DTSTART;VALUE=DATE:20221008
DTEND;VALUE=DATE:20221010
DTSTAMP:20260424T135858
CREATED:20221007T070320Z
LAST-MODIFIED:20221007T070320Z
UID:21981-1665198000-1665284399@spacecityfrequency.com
SUMMARY:The Chicks at Cynthia Woods Mitchell Pavilion
DESCRIPTION:
URL:https://spacecityfrequency.com/event/the-chicks-at-cynthia-woods-mitchell-pavilion/
LOCATION:The Woodlands Pavilion\, 2005 Lake Robbins Dr\,\, The Woodlands\, TX\, 77380\, United States
END:VEVENT
BEGIN:VEVENT
DTSTART;VALUE=DATE:20221008
DTEND;VALUE=DATE:20221010
DTSTAMP:20260424T135858
CREATED:20221007T070217Z
LAST-MODIFIED:20221007T070217Z
UID:21979-1665198000-1665284399@spacecityfrequency.com
SUMMARY:Enhypen at Smart Financial Centre
DESCRIPTION:
URL:https://spacecityfrequency.com/event/enhypen-at-smart-financial-centre/
LOCATION:Smart Financial Centre\, 18111 Lexington Blvd\, Sugar Land\, TX\, 77479\, United States
END:VEVENT
BEGIN:VEVENT
DTSTART;VALUE=DATE:20221008
DTEND;VALUE=DATE:20221010
DTSTAMP:20260424T135858
CREATED:20221007T070115Z
LAST-MODIFIED:20221007T070115Z
UID:21977-1665198000-1665284399@spacecityfrequency.com
SUMMARY:Arlo Parks at Warehouse Live
DESCRIPTION:
URL:https://spacecityfrequency.com/event/arlo-parks-at-warehouse-live/
LOCATION:Warehouse Live\, 813 St Emanuel St\, Houston\, TX\, 77003\, United States
END:VEVENT
BEGIN:VEVENT
DTSTART;VALUE=DATE:20221008
DTEND;VALUE=DATE:20221010
DTSTAMP:20260424T135858
CREATED:20221007T070023Z
LAST-MODIFIED:20221007T070023Z
UID:21975-1665198000-1665284399@spacecityfrequency.com
SUMMARY:Mahalia at House of Blues
DESCRIPTION:
URL:https://spacecityfrequency.com/event/mahalia-at-house-of-blues/
LOCATION:House Of Blues\, 1204 Caroline St.\, Houston\, 77002\, United States
END:VEVENT
BEGIN:VEVENT
DTSTART;VALUE=DATE:20221008
DTEND;VALUE=DATE:20221010
DTSTAMP:20260424T135858
CREATED:20221007T065936Z
LAST-MODIFIED:20221007T065936Z
UID:21972-1665198000-1665284399@spacecityfrequency.com
SUMMARY:Christopher Cross at Heights Theater
DESCRIPTION:
URL:https://spacecityfrequency.com/event/christopher-cross-at-heights-theater/
LOCATION:Heights Theater\, 339 W 19th St\, Houston\, TX\, 77008\, United States
END:VEVENT
BEGIN:VEVENT
DTSTART;TZID=America/Chicago:20220823T190000
DTEND;TZID=America/Chicago:20220823T230000
DTSTAMP:20260424T135858
CREATED:20220614T221335Z
LAST-MODIFIED:20220614T221335Z
UID:15575-1661281200-1661295600@spacecityfrequency.com
SUMMARY:Joyce Manor @ Warehouse Live
DESCRIPTION:
URL:https://spacecityfrequency.com/event/joyce-manor-warehouse-live/
LOCATION:Warehouse Live\, 813 St Emanuel St\, Houston\, TX\, 77003\, United States
END:VEVENT
BEGIN:VEVENT
DTSTART;TZID=America/Chicago:20220821T190000
DTEND;TZID=America/Chicago:20220821T230000
DTSTAMP:20260424T135858
CREATED:20220614T220953Z
LAST-MODIFIED:20220614T220953Z
UID:15573-1661108400-1661122800@spacecityfrequency.com
SUMMARY:James Bay @ Warehouse Live
DESCRIPTION:
URL:https://spacecityfrequency.com/event/james-bay-warehouse-live/
LOCATION:Warehouse Live\, 813 St Emanuel St\, Houston\, TX\, 77003\, United States
END:VEVENT
BEGIN:VEVENT
DTSTART;TZID=America/Chicago:20220817T190000
DTEND;TZID=America/Chicago:20220817T230000
DTSTAMP:20260424T135858
CREATED:20220726T230903Z
LAST-MODIFIED:20220726T230903Z
UID:18092-1660762800-1660777200@spacecityfrequency.com
SUMMARY:Chris Brown & Lil Baby @ Toyota Center
DESCRIPTION:
URL:https://spacecityfrequency.com/event/chris-brown-lil-baby-toyota-center/
LOCATION:Toyota Center\, 1510 Polk St\, Houston\, 77002\, United States
ATTACH;FMTTYPE=image/jpeg:https://spacecityfrequency.com/wp-content/uploads/2022/07/chris-brown-lil-baby-tickets_08-17-22_17_626977b52911f.jpg
END:VEVENT
BEGIN:VEVENT
DTSTART;TZID=America/Chicago:20220813T190000
DTEND;TZID=America/Chicago:20220813T230000
DTSTAMP:20260424T135858
CREATED:20220614T220859Z
LAST-MODIFIED:20220614T220859Z
UID:15571-1660417200-1660431600@spacecityfrequency.com
SUMMARY:Vanessa Zamora @ Warehouse Live
DESCRIPTION:
URL:https://spacecityfrequency.com/event/vanessa-zamora-warehouse-live/
LOCATION:Warehouse Live\, 813 St Emanuel St\, Houston\, TX\, 77003\, United States
END:VEVENT
BEGIN:VEVENT
DTSTART;TZID=America/Chicago:20220808T190000
DTEND;TZID=America/Chicago:20220808T230000
DTSTAMP:20260424T135858
CREATED:20220614T220733Z
LAST-MODIFIED:20220614T220801Z
UID:15568-1659985200-1659999600@spacecityfrequency.com
SUMMARY:Madchild\, Henry AZ\, Lexy Panterra @ Warehouse Live
DESCRIPTION:
URL:https://spacecityfrequency.com/event/madchild-henry-az-lexy-panterra/
LOCATION:Warehouse Live\, 813 St Emanuel St\, Houston\, TX\, 77003\, United States
END:VEVENT
BEGIN:VEVENT
DTSTART;TZID=America/Chicago:20220806T190000
DTEND;TZID=America/Chicago:20220806T230000
DTSTAMP:20260424T135858
CREATED:20220614T220629Z
LAST-MODIFIED:20220614T220629Z
UID:15566-1659812400-1659826800@spacecityfrequency.com
SUMMARY:Black Pistol Fire @ Warehouse Live
DESCRIPTION:
URL:https://spacecityfrequency.com/event/black-pistol-fire-warehouse-live/
LOCATION:Warehouse Live\, 813 St Emanuel St\, Houston\, TX\, 77003\, United States
END:VEVENT
BEGIN:VEVENT
DTSTART;TZID=America/Chicago:20220805T070000
DTEND;TZID=America/Chicago:20220805T230000
DTSTAMP:20260424T135858
CREATED:20220726T230423Z
LAST-MODIFIED:20220726T230423Z
UID:18090-1659682800-1659740400@spacecityfrequency.com
SUMMARY:Kevin Hart (Night 2) @ Toyota Center
DESCRIPTION:
URL:https://spacecityfrequency.com/event/kevin-hart-night-2-toyota-center/
LOCATION:Toyota Center\, 1510 Polk St\, Houston\, 77002\, United States
ATTACH;FMTTYPE=image/jpeg:https://spacecityfrequency.com/wp-content/uploads/2022/07/KevinHart_840X630-03e3c35099.jpg
END:VEVENT
BEGIN:VEVENT
DTSTART;TZID=America/Chicago:20220804T190000
DTEND;TZID=America/Chicago:20220804T233000
DTSTAMP:20260424T135858
CREATED:20220726T230230Z
LAST-MODIFIED:20220726T230230Z
UID:18087-1659639600-1659655800@spacecityfrequency.com
SUMMARY:Kevin Hart: Reality Check Tour @ Toyota Center
DESCRIPTION:
URL:https://spacecityfrequency.com/event/kevin-hart-reality-check-tour-toyota-center/
LOCATION:Toyota Center\, 1510 Polk St\, Houston\, 77002\, United States
ATTACH;FMTTYPE=image/jpeg:https://spacecityfrequency.com/wp-content/uploads/2022/07/KevinHart_840X630-03e3c35099.jpg
END:VEVENT
BEGIN:VEVENT
DTSTART;TZID=America/Chicago:20220804T190000
DTEND;TZID=America/Chicago:20220804T230000
DTSTAMP:20260424T135858
CREATED:20220614T220537Z
LAST-MODIFIED:20220614T220537Z
UID:15564-1659639600-1659654000@spacecityfrequency.com
SUMMARY:Metalachi @ Warehouse Live
DESCRIPTION:
URL:https://spacecityfrequency.com/event/metalachi-warehouse-live/
LOCATION:Warehouse Live\, 813 St Emanuel St\, Houston\, TX\, 77003\, United States
END:VEVENT
BEGIN:VEVENT
DTSTART;TZID=America/Chicago:20220801T060000
DTEND;TZID=America/Chicago:20220801T220000
DTSTAMP:20260424T135858
CREATED:20220726T225947Z
LAST-MODIFIED:20220726T225947Z
UID:18084-1659333600-1659391200@spacecityfrequency.com
SUMMARY:WWE Raw @ Toyota Center
DESCRIPTION:
URL:https://spacecityfrequency.com/event/wwe-raw-toyota-center/
LOCATION:Toyota Center\, 1510 Polk St\, Houston\, 77002\, United States
ATTACH;FMTTYPE=image/jpeg:https://spacecityfrequency.com/wp-content/uploads/2022/07/80947_LVE_Monday_Night_Raw_1200x630_VENUE-aaeab0ee98.jpg
END:VEVENT
BEGIN:VEVENT
DTSTART;TZID=America/Chicago:20220731T190000
DTEND;TZID=America/Chicago:20220731T230000
DTSTAMP:20260424T135858
CREATED:20220614T213452Z
LAST-MODIFIED:20220614T213452Z
UID:15523-1659294000-1659308400@spacecityfrequency.com
SUMMARY:JADE NOVAH @ Warehouse Live
DESCRIPTION:
URL:https://spacecityfrequency.com/event/jade-novah-warehouse-live/
LOCATION:Warehouse Live\, 813 St Emanuel St\, Houston\, TX\, 77003\, United States
END:VEVENT
BEGIN:VEVENT
DTSTART;TZID=America/Chicago:20220730T193000
DTEND;TZID=America/Chicago:20220730T213000
DTSTAMP:20260424T135858
CREATED:20220727T214709Z
LAST-MODIFIED:20220727T214709Z
UID:18170-1659209400-1659216600@spacecityfrequency.com
SUMMARY:Common with The Houston Symphony
DESCRIPTION:
URL:https://spacecityfrequency.com/event/common-with-the-houston-symphony-2/
LOCATION:Hobby Center
END:VEVENT
BEGIN:VEVENT
DTSTART;TZID=America/Chicago:20220730T190000
DTEND;TZID=America/Chicago:20220730T230000
DTSTAMP:20260424T135858
CREATED:20220614T220446Z
LAST-MODIFIED:20220614T220446Z
UID:15562-1659207600-1659222000@spacecityfrequency.com
SUMMARY:Ted Nugent @ Warehouse Live
DESCRIPTION:
URL:https://spacecityfrequency.com/event/ted-nugent-warehouse-live/
LOCATION:Warehouse Live\, 813 St Emanuel St\, Houston\, TX\, 77003\, United States
END:VEVENT
BEGIN:VEVENT
DTSTART;TZID=America/Chicago:20220729T193000
DTEND;TZID=America/Chicago:20220729T223000
DTSTAMP:20260424T135858
CREATED:20220727T214529Z
LAST-MODIFIED:20220727T214529Z
UID:18166-1659123000-1659133800@spacecityfrequency.com
SUMMARY:Common with The Houston Symphony
DESCRIPTION:
URL:https://spacecityfrequency.com/event/common-with-the-houston-symphony/
LOCATION:Hobby Center
END:VEVENT
BEGIN:VEVENT
DTSTART;TZID=America/Chicago:20220729T190000
DTEND;TZID=America/Chicago:20220729T230000
DTSTAMP:20260424T135858
CREATED:20220614T220353Z
LAST-MODIFIED:20220614T220353Z
UID:15560-1659121200-1659135600@spacecityfrequency.com
SUMMARY:Left To Die @ Warehouse Live
DESCRIPTION:
URL:https://spacecityfrequency.com/event/left-to-die-warehouse-live/
LOCATION:Warehouse Live\, 813 St Emanuel St\, Houston\, TX\, 77003\, United States
END:VEVENT
END:VCALENDAR