BEGIN:VCALENDAR
VERSION:2.0
PRODID:-//Space City Frequency - ECPv6.15.20//NONSGML v1.0//EN
CALSCALE:GREGORIAN
METHOD:PUBLISH
X-WR-CALNAME:Space City Frequency
X-ORIGINAL-URL:https://spacecityfrequency.com
X-WR-CALDESC:Events for Space City Frequency
REFRESH-INTERVAL;VALUE=DURATION:PT1H
X-Robots-Tag:noindex
X-PUBLISHED-TTL:PT1H
BEGIN:VTIMEZONE
TZID:America/Chicago
BEGIN:DAYLIGHT
TZOFFSETFROM:-0600
TZOFFSETTO:-0500
TZNAME:CDT
DTSTART:20220313T080000
END:DAYLIGHT
BEGIN:STANDARD
TZOFFSETFROM:-0500
TZOFFSETTO:-0600
TZNAME:CST
DTSTART:20221106T070000
END:STANDARD
BEGIN:DAYLIGHT
TZOFFSETFROM:-0600
TZOFFSETTO:-0500
TZNAME:CDT
DTSTART:20230312T080000
END:DAYLIGHT
BEGIN:STANDARD
TZOFFSETFROM:-0500
TZOFFSETTO:-0600
TZNAME:CST
DTSTART:20231105T070000
END:STANDARD
BEGIN:DAYLIGHT
TZOFFSETFROM:-0600
TZOFFSETTO:-0500
TZNAME:CDT
DTSTART:20240310T080000
END:DAYLIGHT
BEGIN:STANDARD
TZOFFSETFROM:-0500
TZOFFSETTO:-0600
TZNAME:CST
DTSTART:20241103T070000
END:STANDARD
END:VTIMEZONE
BEGIN:VEVENT
DTSTART;TZID=America/Chicago:20230302T190000
DTEND;TZID=America/Chicago:20230302T233000
DTSTAMP:20260424T073557
CREATED:20230223T022425Z
LAST-MODIFIED:20230223T022425Z
UID:24177-1677783600-1677799800@spacecityfrequency.com
SUMMARY:PUP @ Warehouse Live
DESCRIPTION:
URL:https://spacecityfrequency.com/event/pup-warehouse-live/
LOCATION:Warehouse Live\, 813 St Emanuel St\, Houston\, TX\, 77003\, United States
ATTACH;FMTTYPE=image/jpeg:https://spacecityfrequency.com/wp-content/uploads/2023/02/pup.jpg
END:VEVENT
BEGIN:VEVENT
DTSTART;TZID=America/Chicago:20230301T190000
DTEND;TZID=America/Chicago:20230301T233000
DTSTAMP:20260424T073557
CREATED:20230223T022229Z
LAST-MODIFIED:20230223T022229Z
UID:24174-1677697200-1677713400@spacecityfrequency.com
SUMMARY:Brujeria @ Warehouse Live
DESCRIPTION:
URL:https://spacecityfrequency.com/event/brujeria-warehouse-live/
LOCATION:Warehouse Live\, 813 St Emanuel St\, Houston\, TX\, 77003\, United States
ATTACH;FMTTYPE=image/jpeg:https://spacecityfrequency.com/wp-content/uploads/2023/02/bruj.jpg
END:VEVENT
BEGIN:VEVENT
DTSTART;TZID=America/Chicago:20230301T190000
DTEND;TZID=America/Chicago:20230301T233000
DTSTAMP:20260424T073557
CREATED:20230223T021909Z
LAST-MODIFIED:20230223T021909Z
UID:24171-1677697200-1677713400@spacecityfrequency.com
SUMMARY:Thy Art Is Murder @ Warehouse Live
DESCRIPTION:
URL:https://spacecityfrequency.com/event/thy-art-is-murder-warehouse-live/
LOCATION:Warehouse Live\, 813 St Emanuel St\, Houston\, TX\, 77003\, United States
ATTACH;FMTTYPE=image/jpeg:https://spacecityfrequency.com/wp-content/uploads/2023/02/thyart.jpg
END:VEVENT
BEGIN:VEVENT
DTSTART;TZID=America/Chicago:20230301T190000
DTEND;TZID=America/Chicago:20230301T233000
DTSTAMP:20260424T073557
CREATED:20230210T225505Z
LAST-MODIFIED:20230210T225505Z
UID:23810-1677697200-1677713400@spacecityfrequency.com
SUMMARY:Steel Panther @ House of Blues
DESCRIPTION:
URL:https://spacecityfrequency.com/event/steel-panther-house-of-blues/
LOCATION:House Of Blues\, 1204 Caroline St.\, Houston\, 77002\, United States
ATTACH;FMTTYPE=image/jpeg:https://spacecityfrequency.com/wp-content/uploads/2023/02/steel-panther.jpg
END:VEVENT
BEGIN:VEVENT
DTSTART;TZID=America/Chicago:20230228T190000
DTEND;TZID=America/Chicago:20230228T233000
DTSTAMP:20260424T073557
CREATED:20230223T021730Z
LAST-MODIFIED:20230223T021730Z
UID:24168-1677610800-1677627000@spacecityfrequency.com
SUMMARY:3Breezy @ Warehouse Live
DESCRIPTION:
URL:https://spacecityfrequency.com/event/3breezy-warehouse-live/
LOCATION:Warehouse Live\, 813 St Emanuel St\, Houston\, TX\, 77003\, United States
ATTACH;FMTTYPE=image/jpeg:https://spacecityfrequency.com/wp-content/uploads/2023/02/3breezy.jpg
END:VEVENT
BEGIN:VEVENT
DTSTART;TZID=America/Chicago:20230226T190000
DTEND;TZID=America/Chicago:20230226T233000
DTSTAMP:20260424T073557
CREATED:20230223T021444Z
LAST-MODIFIED:20230223T021444Z
UID:24165-1677438000-1677454200@spacecityfrequency.com
SUMMARY:Mannywellz @ Warehouse Live
DESCRIPTION:
URL:https://spacecityfrequency.com/event/mannywellz-warehouse-live/
LOCATION:Warehouse Live\, 813 St Emanuel St\, Houston\, TX\, 77003\, United States
END:VEVENT
BEGIN:VEVENT
DTSTART;TZID=America/Chicago:20230225T190000
DTEND;TZID=America/Chicago:20230225T233000
DTSTAMP:20260424T073557
CREATED:20230210T225101Z
LAST-MODIFIED:20230210T225101Z
UID:23808-1677351600-1677367800@spacecityfrequency.com
SUMMARY:Willie Barcena @ House of Blues
DESCRIPTION:
URL:https://spacecityfrequency.com/event/willie-barcena-house-of-blues/
LOCATION:House Of Blues\, 1204 Caroline St.\, Houston\, 77002\, United States
END:VEVENT
BEGIN:VEVENT
DTSTART;TZID=America/Chicago:20230225T190000
DTEND;TZID=America/Chicago:20230225T233000
DTSTAMP:20260424T073557
CREATED:20230208T063033Z
LAST-MODIFIED:20230208T063327Z
UID:23520-1677351600-1677367800@spacecityfrequency.com
SUMMARY:Maggie Rogers @ 713 Music Hall
DESCRIPTION:
URL:https://spacecityfrequency.com/event/maggie-rogers-713-music-hall/
LOCATION:713 Music Hall\, 401 Franklin St.\, Houston\, TX\, 77201\, United States
ATTACH;FMTTYPE=image/png:https://spacecityfrequency.com/wp-content/uploads/2023/02/Maggie-Rogers-Tour-2023.png
END:VEVENT
BEGIN:VEVENT
DTSTART;TZID=America/Chicago:20230225T190000
DTEND;TZID=America/Chicago:20230225T230000
DTSTAMP:20260424T073557
CREATED:20230223T021252Z
LAST-MODIFIED:20230223T021252Z
UID:24162-1677351600-1677366000@spacecityfrequency.com
SUMMARY:Ballyhoo! @ Warehouse Live
DESCRIPTION:
URL:https://spacecityfrequency.com/event/ballyhoo-warehouse-live/
LOCATION:Warehouse Live\, 813 St Emanuel St\, Houston\, TX\, 77003\, United States
ATTACH;FMTTYPE=image/jpeg:https://spacecityfrequency.com/wp-content/uploads/2023/02/bolly.jpg
END:VEVENT
BEGIN:VEVENT
DTSTART;TZID=America/Chicago:20230224T190000
DTEND;TZID=America/Chicago:20230224T233000
DTSTAMP:20260424T073557
CREATED:20230223T020730Z
LAST-MODIFIED:20230223T020730Z
UID:24158-1677265200-1677281400@spacecityfrequency.com
SUMMARY:The Wonder Years @ Warehouse Live
DESCRIPTION:
URL:https://spacecityfrequency.com/event/the-wonder-years-warehouse-live/
LOCATION:Warehouse Live\, 813 St Emanuel St\, Houston\, TX\, 77003\, United States
ATTACH;FMTTYPE=image/jpeg:https://spacecityfrequency.com/wp-content/uploads/2023/02/wonder.jpg
END:VEVENT
BEGIN:VEVENT
DTSTART;TZID=America/Chicago:20230224T190000
DTEND;TZID=America/Chicago:20230224T233000
DTSTAMP:20260424T073557
CREATED:20230208T235913Z
LAST-MODIFIED:20230208T235913Z
UID:23729-1677265200-1677281400@spacecityfrequency.com
SUMMARY:Back in Black (ACDC Tribute) @ House of Blues
DESCRIPTION:
URL:https://spacecityfrequency.com/event/back-in-black-acdc-tribute-house-of-blues/
LOCATION:House Of Blues\, 1204 Caroline St.\, Houston\, 77002\, United States
ATTACH;FMTTYPE=image/jpeg:https://spacecityfrequency.com/wp-content/uploads/2023/02/backblack.jpg
END:VEVENT
BEGIN:VEVENT
DTSTART;TZID=America/Chicago:20230224T190000
DTEND;TZID=America/Chicago:20230224T233000
DTSTAMP:20260424T073557
CREATED:20230208T232753Z
LAST-MODIFIED:20230208T232753Z
UID:23705-1677265200-1677281400@spacecityfrequency.com
SUMMARY:The Criticals @ House of Blues
DESCRIPTION:
URL:https://spacecityfrequency.com/event/the-criticals-house-of-blues/
LOCATION:House Of Blues\, 1204 Caroline St.\, Houston\, 77002\, United States
ATTACH;FMTTYPE=image/jpeg:https://spacecityfrequency.com/wp-content/uploads/2023/02/criticals.jpg
END:VEVENT
BEGIN:VEVENT
DTSTART;TZID=America/Chicago:20230224T190000
DTEND;TZID=America/Chicago:20230224T233000
DTSTAMP:20260424T073557
CREATED:20230208T072933Z
LAST-MODIFIED:20230208T072933Z
UID:23602-1677265200-1677281400@spacecityfrequency.com
SUMMARY:R&B Only LIVE @ Bayou Music Center
DESCRIPTION:
URL:https://spacecityfrequency.com/event/rb-only-live-bayou-music-center/
LOCATION:Bayou Music Center\, 520 Texas Ave.\, Houston\, TX\, 77002\, United States
END:VEVENT
BEGIN:VEVENT
DTSTART;TZID=America/Chicago:20230224T190000
DTEND;TZID=America/Chicago:20230224T233000
DTSTAMP:20260424T073557
CREATED:20230208T064144Z
LAST-MODIFIED:20230208T064144Z
UID:23541-1677265200-1677281400@spacecityfrequency.com
SUMMARY:Flatland Calvary @ 713 Music Hall
DESCRIPTION:
URL:https://spacecityfrequency.com/event/flatland-calvary-713-music-hall/
LOCATION:713 Music Hall\, 401 Franklin St.\, Houston\, TX\, 77201\, United States
ATTACH;FMTTYPE=image/jpeg:https://spacecityfrequency.com/wp-content/uploads/2023/02/flatland.jpg
END:VEVENT
BEGIN:VEVENT
DTSTART;TZID=America/Chicago:20230223T190000
DTEND;TZID=America/Chicago:20230223T233000
DTSTAMP:20260424T073557
CREATED:20230210T224427Z
LAST-MODIFIED:20230210T224427Z
UID:23801-1677178800-1677195000@spacecityfrequency.com
SUMMARY:August Burns Red\, Devil Wears Prada @ House of Blues
DESCRIPTION:
URL:https://spacecityfrequency.com/event/august-burns-red-devil-wears-prada-house-of-blues/
LOCATION:House Of Blues\, 1204 Caroline St.\, Houston\, 77002\, United States
ATTACH;FMTTYPE=image/jpeg:https://spacecityfrequency.com/wp-content/uploads/2023/02/burnsred.jpg
END:VEVENT
BEGIN:VEVENT
DTSTART;TZID=America/Chicago:20230223T190000
DTEND;TZID=America/Chicago:20230223T233000
DTSTAMP:20260424T073557
CREATED:20230208T063948Z
LAST-MODIFIED:20230208T071557Z
UID:23538-1677178800-1677195000@spacecityfrequency.com
SUMMARY:Yeat @ 713 Music Hall
DESCRIPTION:
URL:https://spacecityfrequency.com/event/yeat-713-music-hall/
LOCATION:713 Music Hall\, 401 Franklin St.\, Houston\, TX\, 77201\, United States
ATTACH;FMTTYPE=image/jpeg:https://spacecityfrequency.com/wp-content/uploads/2023/02/yeat.jpg
END:VEVENT
BEGIN:VEVENT
DTSTART;TZID=America/Chicago:20230223T190000
DTEND;TZID=America/Chicago:20230223T230000
DTSTAMP:20260424T073557
CREATED:20230223T020544Z
LAST-MODIFIED:20230223T020756Z
UID:24155-1677178800-1677193200@spacecityfrequency.com
SUMMARY:David De La Garza @ Warehouse Live
DESCRIPTION:
URL:https://spacecityfrequency.com/event/david-de-la-garza-house-of-blues/
LOCATION:Warehouse Live\, 813 St Emanuel St\, Houston\, TX\, 77003\, United States
ATTACH;FMTTYPE=image/jpeg:https://spacecityfrequency.com/wp-content/uploads/2023/02/david.jpg
END:VEVENT
BEGIN:VEVENT
DTSTART;TZID=America/Chicago:20230222T190000
DTEND;TZID=America/Chicago:20230222T233000
DTSTAMP:20260424T073557
CREATED:20230210T223446Z
LAST-MODIFIED:20230210T223446Z
UID:23798-1677092400-1677108600@spacecityfrequency.com
SUMMARY:Billy Tibbals @ House of Blues
DESCRIPTION:
URL:https://spacecityfrequency.com/event/billy-tibbals-house-of-blues/
LOCATION:House Of Blues\, 1204 Caroline St.\, Houston\, 77002\, United States
END:VEVENT
BEGIN:VEVENT
DTSTART;TZID=America/Chicago:20230219T190000
DTEND;TZID=America/Chicago:20230219T233000
DTSTAMP:20260424T073557
CREATED:20230208T233606Z
LAST-MODIFIED:20230208T233606Z
UID:23711-1676833200-1676849400@spacecityfrequency.com
SUMMARY:Ari Lennox @ House of Blues
DESCRIPTION:
URL:https://spacecityfrequency.com/event/ari-lennox-house-of-blues/
LOCATION:House Of Blues\, 1204 Caroline St.\, Houston\, 77002\, United States
ATTACH;FMTTYPE=image/jpeg:https://spacecityfrequency.com/wp-content/uploads/2023/02/ari-lennox.jpg
END:VEVENT
BEGIN:VEVENT
DTSTART;TZID=America/Chicago:20230219T190000
DTEND;TZID=America/Chicago:20230219T233000
DTSTAMP:20260424T073557
CREATED:20230208T062710Z
LAST-MODIFIED:20230208T063138Z
UID:23517-1676833200-1676849400@spacecityfrequency.com
SUMMARY:Papa Roach\, Falling in Reverse - Rockzilla Tour @ 713 Music Hall
DESCRIPTION:
URL:https://spacecityfrequency.com/event/papa-roach-falling-in-reverse-rockzilla-tour/
LOCATION:713 Music Hall\, 401 Franklin St.\, Houston\, TX\, 77201\, United States
ATTACH;FMTTYPE=image/jpeg:https://spacecityfrequency.com/wp-content/uploads/2023/02/rockzilla.jpg
END:VEVENT
BEGIN:VEVENT
DTSTART;TZID=America/Chicago:20230218T190000
DTEND;TZID=America/Chicago:20230218T233000
DTSTAMP:20260424T073557
CREATED:20230210T222737Z
LAST-MODIFIED:20230210T222737Z
UID:23796-1676746800-1676763000@spacecityfrequency.com
SUMMARY:Los Lonely Boys @ House of Blues
DESCRIPTION:
URL:https://spacecityfrequency.com/event/los-lonely-boys-house-of-blues/
LOCATION:House Of Blues\, 1204 Caroline St.\, Houston\, 77002\, United States
END:VEVENT
BEGIN:VEVENT
DTSTART;TZID=America/Chicago:20230218T190000
DTEND;TZID=America/Chicago:20230218T233000
DTSTAMP:20260424T073557
CREATED:20230208T062507Z
LAST-MODIFIED:20230208T063207Z
UID:23514-1676746800-1676763000@spacecityfrequency.com
SUMMARY:Colter Wall and Vincent Neil Emerson @ 713 Music Hall
DESCRIPTION:
URL:https://spacecityfrequency.com/event/colter-wall-and-vincent-neil-emerson/
LOCATION:713 Music Hall\, 401 Franklin St.\, Houston\, TX\, 77201\, United States
ATTACH;FMTTYPE=image/jpeg:https://spacecityfrequency.com/wp-content/uploads/2023/02/colter.jpg
END:VEVENT
BEGIN:VEVENT
DTSTART;TZID=America/Chicago:20230217T190000
DTEND;TZID=America/Chicago:20230217T233000
DTSTAMP:20260424T073557
CREATED:20230210T222512Z
LAST-MODIFIED:20230210T222512Z
UID:23794-1676660400-1676676600@spacecityfrequency.com
SUMMARY:Josh Abbott Band @ House of Blues
DESCRIPTION:
URL:https://spacecityfrequency.com/event/josh-abbott-band-house-of-blues/
LOCATION:TX
END:VEVENT
BEGIN:VEVENT
DTSTART;TZID=America/Chicago:20230216T190000
DTEND;TZID=America/Chicago:20230216T233000
DTSTAMP:20260424T073557
CREATED:20230209T003635Z
LAST-MODIFIED:20230209T003836Z
UID:23744-1676574000-1676590200@spacecityfrequency.com
SUMMARY:Ivan Cornejo @ House of Blues
DESCRIPTION:
URL:https://spacecityfrequency.com/event/ivan-cornejo-house-of-blues/
LOCATION:House Of Blues\, 1204 Caroline St.\, Houston\, 77002\, United States
ATTACH;FMTTYPE=image/jpeg:https://spacecityfrequency.com/wp-content/uploads/2023/02/ivan.jpg
END:VEVENT
BEGIN:VEVENT
DTSTART;TZID=America/Chicago:20230216T190000
DTEND;TZID=America/Chicago:20230216T233000
DTSTAMP:20260424T073557
CREATED:20230208T072748Z
LAST-MODIFIED:20230208T072748Z
UID:23599-1676574000-1676590200@spacecityfrequency.com
SUMMARY:J.I.D. & SMINO @ Bayou Music Center
DESCRIPTION:
URL:https://spacecityfrequency.com/event/j-i-d-smino-bayou-music-center/
LOCATION:Bayou Music Center\, 520 Texas Ave.\, Houston\, TX\, 77002\, United States
ATTACH;FMTTYPE=image/jpeg:https://spacecityfrequency.com/wp-content/uploads/2023/02/jis.jpg
END:VEVENT
BEGIN:VEVENT
DTSTART;TZID=America/Chicago:20230215T190000
DTEND;TZID=America/Chicago:20230215T233000
DTSTAMP:20260424T073557
CREATED:20230208T224749Z
LAST-MODIFIED:20230208T224749Z
UID:23684-1676487600-1676503800@spacecityfrequency.com
SUMMARY:An Evening With Phil Rosenthal @ House of Blues
DESCRIPTION:
URL:https://spacecityfrequency.com/event/an-evening-with-phil-rosenthal-house-of-blues/
LOCATION:House Of Blues\, 1204 Caroline St.\, Houston\, 77002\, United States
ATTACH;FMTTYPE=image/jpeg:https://spacecityfrequency.com/wp-content/uploads/2023/02/phil.jpg
END:VEVENT
BEGIN:VEVENT
DTSTART;TZID=America/Chicago:20230215T190000
DTEND;TZID=America/Chicago:20230215T233000
DTSTAMP:20260424T073557
CREATED:20230208T072526Z
LAST-MODIFIED:20230208T072526Z
UID:23596-1676487600-1676503800@spacecityfrequency.com
SUMMARY:A Boogie Wit Da Hoodie@ Bayou Music Center
DESCRIPTION:
URL:https://spacecityfrequency.com/event/a-boogie-wit-da-hoodie-bayou-music-center/
LOCATION:Bayou Music Center\, 520 Texas Ave.\, Houston\, TX\, 77002\, United States
ATTACH;FMTTYPE=image/jpeg:https://spacecityfrequency.com/wp-content/uploads/2023/02/boogie.jpg
END:VEVENT
BEGIN:VEVENT
DTSTART;TZID=America/Chicago:20230213T190000
DTEND;TZID=America/Chicago:20230213T233000
DTSTAMP:20260424T073557
CREATED:20230210T222102Z
LAST-MODIFIED:20230210T222102Z
UID:23792-1676314800-1676331000@spacecityfrequency.com
SUMMARY:Zae France @ House of Blues
DESCRIPTION:
URL:https://spacecityfrequency.com/event/zae-france-house-of-blues/
LOCATION:House Of Blues\, 1204 Caroline St.\, Houston\, 77002\, United States
END:VEVENT
BEGIN:VEVENT
DTSTART;TZID=America/Chicago:20230213T190000
DTEND;TZID=America/Chicago:20230213T233000
DTSTAMP:20260424T073557
CREATED:20230210T221905Z
LAST-MODIFIED:20230210T221905Z
UID:23790-1676314800-1676331000@spacecityfrequency.com
SUMMARY:Epex @ House of Blues
DESCRIPTION:
URL:https://spacecityfrequency.com/event/epex-house-of-blues/
LOCATION:House Of Blues\, 1204 Caroline St.\, Houston\, 77002\, United States
END:VEVENT
BEGIN:VEVENT
DTSTART;TZID=America/Chicago:20230212T190000
DTEND;TZID=America/Chicago:20230212T233000
DTSTAMP:20260424T073557
CREATED:20230210T221723Z
LAST-MODIFIED:20230210T221723Z
UID:23788-1676228400-1676244600@spacecityfrequency.com
SUMMARY:Danny Ocean @ House of Blues
DESCRIPTION:
URL:https://spacecityfrequency.com/event/danny-ocean-house-of-blues/
LOCATION:House Of Blues\, 1204 Caroline St.\, Houston\, 77002\, United States
END:VEVENT
END:VCALENDAR