BEGIN:VCALENDAR
VERSION:2.0
PRODID:-//Space City Frequency - ECPv6.15.20//NONSGML v1.0//EN
CALSCALE:GREGORIAN
METHOD:PUBLISH
X-WR-CALNAME:Space City Frequency
X-ORIGINAL-URL:https://spacecityfrequency.com
X-WR-CALDESC:Events for Space City Frequency
REFRESH-INTERVAL;VALUE=DURATION:PT1H
X-Robots-Tag:noindex
X-PUBLISHED-TTL:PT1H
BEGIN:VTIMEZONE
TZID:America/Chicago
BEGIN:DAYLIGHT
TZOFFSETFROM:-0600
TZOFFSETTO:-0500
TZNAME:CDT
DTSTART:20220313T080000
END:DAYLIGHT
BEGIN:STANDARD
TZOFFSETFROM:-0500
TZOFFSETTO:-0600
TZNAME:CST
DTSTART:20221106T070000
END:STANDARD
BEGIN:DAYLIGHT
TZOFFSETFROM:-0600
TZOFFSETTO:-0500
TZNAME:CDT
DTSTART:20230312T080000
END:DAYLIGHT
BEGIN:STANDARD
TZOFFSETFROM:-0500
TZOFFSETTO:-0600
TZNAME:CST
DTSTART:20231105T070000
END:STANDARD
BEGIN:DAYLIGHT
TZOFFSETFROM:-0600
TZOFFSETTO:-0500
TZNAME:CDT
DTSTART:20240310T080000
END:DAYLIGHT
BEGIN:STANDARD
TZOFFSETFROM:-0500
TZOFFSETTO:-0600
TZNAME:CST
DTSTART:20241103T070000
END:STANDARD
END:VTIMEZONE
BEGIN:VEVENT
DTSTART;TZID=America/Chicago:20230405T190000
DTEND;TZID=America/Chicago:20230405T233000
DTSTAMP:20260424T000851
CREATED:20230223T013151Z
LAST-MODIFIED:20230223T013151Z
UID:24131-1680721200-1680737400@spacecityfrequency.com
SUMMARY:Celebrating David Bowie @ House of Blues
DESCRIPTION:
URL:https://spacecityfrequency.com/event/celebrating-david-bowie-house-of-blues/
LOCATION:House Of Blues\, 1204 Caroline St.\, Houston\, 77002\, United States
ATTACH;FMTTYPE=image/jpeg:https://spacecityfrequency.com/wp-content/uploads/2023/02/bowie.jpg
END:VEVENT
BEGIN:VEVENT
DTSTART;TZID=America/Chicago:20230402T190000
DTEND;TZID=America/Chicago:20230402T233000
DTSTAMP:20260424T000851
CREATED:20230209T000312Z
LAST-MODIFIED:20230209T000312Z
UID:23732-1680462000-1680478200@spacecityfrequency.com
SUMMARY:Hawthorne Heights\, Sleeping with Sirens @ House of Blues
DESCRIPTION:
URL:https://spacecityfrequency.com/event/hawthorne-heights-sleeping-with-sirens-house-of-blues/
LOCATION:House Of Blues\, 1204 Caroline St.\, Houston\, 77002\, United States
ATTACH;FMTTYPE=image/jpeg:https://spacecityfrequency.com/wp-content/uploads/2023/02/hawthorne.jpg
END:VEVENT
BEGIN:VEVENT
DTSTART;TZID=America/Chicago:20230401T190000
DTEND;TZID=America/Chicago:20230401T233000
DTSTAMP:20260424T000851
CREATED:20230210T234643Z
LAST-MODIFIED:20230210T234643Z
UID:23836-1680375600-1680391800@spacecityfrequency.com
SUMMARY:Spencer Sutherland @ House of Blues
DESCRIPTION:
URL:https://spacecityfrequency.com/event/spencer-sutherland-house-of-blues/
LOCATION:House Of Blues\, 1204 Caroline St.\, Houston\, 77002\, United States
END:VEVENT
BEGIN:VEVENT
DTSTART;TZID=America/Chicago:20230401T190000
DTEND;TZID=America/Chicago:20230401T230000
DTSTAMP:20260424T000851
CREATED:20230223T030536Z
LAST-MODIFIED:20230223T030536Z
UID:24234-1680375600-1680390000@spacecityfrequency.com
SUMMARY:Danielle Bradbery @ Warehouse Live
DESCRIPTION:
URL:https://spacecityfrequency.com/event/danielle-bradbery-warehouse-live/
LOCATION:Warehouse Live\, 813 St Emanuel St\, Houston\, TX\, 77003\, United States
ATTACH;FMTTYPE=image/jpeg:https://spacecityfrequency.com/wp-content/uploads/2023/02/Daniel.jpg
END:VEVENT
BEGIN:VEVENT
DTSTART;TZID=America/Chicago:20230401T190000
DTEND;TZID=America/Chicago:20230401T230000
DTSTAMP:20260424T000851
CREATED:20230223T012252Z
LAST-MODIFIED:20230223T012252Z
UID:24118-1680375600-1680390000@spacecityfrequency.com
SUMMARY:The Dan Band @ House of Blues
DESCRIPTION:
URL:https://spacecityfrequency.com/event/the-dan-band-house-of-blues/
LOCATION:House Of Blues\, 1204 Caroline St.\, Houston\, 77002\, United States
ATTACH;FMTTYPE=image/jpeg:https://spacecityfrequency.com/wp-content/uploads/2023/02/dan.jpg
END:VEVENT
BEGIN:VEVENT
DTSTART;TZID=America/Chicago:20230330T190000
DTEND;TZID=America/Chicago:20230330T230000
DTSTAMP:20260424T000851
CREATED:20230223T030303Z
LAST-MODIFIED:20230223T030303Z
UID:24231-1680202800-1680217200@spacecityfrequency.com
SUMMARY:Jer @ Warehouse Live
DESCRIPTION:
URL:https://spacecityfrequency.com/event/jer-warehouse-live/
LOCATION:Warehouse Live\, 813 St Emanuel St\, Houston\, TX\, 77003\, United States
ATTACH;FMTTYPE=image/jpeg:https://spacecityfrequency.com/wp-content/uploads/2023/02/jer.jpg
END:VEVENT
BEGIN:VEVENT
DTSTART;TZID=America/Chicago:20230326T190000
DTEND;TZID=America/Chicago:20230326T233000
DTSTAMP:20260424T000851
CREATED:20230210T234506Z
LAST-MODIFIED:20230210T234506Z
UID:23833-1679857200-1679873400@spacecityfrequency.com
SUMMARY:K. Michelle @ House of Blues
DESCRIPTION:a
URL:https://spacecityfrequency.com/event/k-michelle-house-of-blues/
LOCATION:House Of Blues\, 1204 Caroline St.\, Houston\, 77002\, United States
ATTACH;FMTTYPE=image/jpeg:https://spacecityfrequency.com/wp-content/uploads/2023/02/kmichelle.jpg
END:VEVENT
BEGIN:VEVENT
DTSTART;TZID=America/Chicago:20230326T190000
DTEND;TZID=America/Chicago:20230326T230000
DTSTAMP:20260424T000851
CREATED:20230223T030055Z
LAST-MODIFIED:20230223T030055Z
UID:24228-1679857200-1679871600@spacecityfrequency.com
SUMMARY:The Acacia Strain @ Warehouse Live
DESCRIPTION:
URL:https://spacecityfrequency.com/event/the-acacia-strain-warehouse-live/
LOCATION:Warehouse Live\, 813 St Emanuel St\, Houston\, TX\, 77003\, United States
ATTACH;FMTTYPE=image/jpeg:https://spacecityfrequency.com/wp-content/uploads/2023/02/acacia-strain.jpg
END:VEVENT
BEGIN:VEVENT
DTSTART;TZID=America/Chicago:20230325T190000
DTEND;TZID=America/Chicago:20230325T233000
DTSTAMP:20260424T000851
CREATED:20230210T232230Z
LAST-MODIFIED:20230210T232230Z
UID:23831-1679770800-1679787000@spacecityfrequency.com
SUMMARY:Badflower @ House of Blues
DESCRIPTION:
URL:https://spacecityfrequency.com/event/badflower-house-of-blues/
LOCATION:House Of Blues\, 1204 Caroline St.\, Houston\, 77002\, United States
END:VEVENT
BEGIN:VEVENT
DTSTART;TZID=America/Chicago:20230324T190000
DTEND;TZID=America/Chicago:20230324T230000
DTSTAMP:20260424T000851
CREATED:20230223T025900Z
LAST-MODIFIED:20230223T025900Z
UID:24225-1679684400-1679698800@spacecityfrequency.com
SUMMARY:Warehouse Wire @ Warehouse Live
DESCRIPTION:
URL:https://spacecityfrequency.com/event/warehouse-wire-warehouse-live/
LOCATION:Warehouse Live\, 813 St Emanuel St\, Houston\, TX\, 77003\, United States
ATTACH;FMTTYPE=image/jpeg:https://spacecityfrequency.com/wp-content/uploads/2023/02/Warehouse-wired.jpg
END:VEVENT
BEGIN:VEVENT
DTSTART;TZID=America/Chicago:20230324T190000
DTEND;TZID=America/Chicago:20230324T230000
DTSTAMP:20260424T000851
CREATED:20230223T011957Z
LAST-MODIFIED:20230223T011957Z
UID:24115-1679684400-1679698800@spacecityfrequency.com
SUMMARY:One Direction Night @ House of Blues
DESCRIPTION:
URL:https://spacecityfrequency.com/event/one-direction-night-house-of-blues/
LOCATION:House Of Blues\, 1204 Caroline St.\, Houston\, 77002\, United States
ATTACH;FMTTYPE=image/jpeg:https://spacecityfrequency.com/wp-content/uploads/2023/02/1direc.jpg
END:VEVENT
BEGIN:VEVENT
DTSTART;TZID=America/Chicago:20230323T190000
DTEND;TZID=America/Chicago:20230323T233000
DTSTAMP:20260424T000851
CREATED:20230223T023622Z
LAST-MODIFIED:20230223T023622Z
UID:24195-1679598000-1679614200@spacecityfrequency.com
SUMMARY:Brother Moses @ Warehouse Live
DESCRIPTION:
URL:https://spacecityfrequency.com/event/brother-moses-warehouse-live/
LOCATION:Warehouse Live\, 813 St Emanuel St\, Houston\, TX\, 77003\, United States
ATTACH;FMTTYPE=image/jpeg:https://spacecityfrequency.com/wp-content/uploads/2023/02/brother.jpg
END:VEVENT
BEGIN:VEVENT
DTSTART;TZID=America/Chicago:20230323T190000
DTEND;TZID=America/Chicago:20230323T233000
DTSTAMP:20260424T000851
CREATED:20230208T230056Z
LAST-MODIFIED:20230208T230056Z
UID:23687-1679598000-1679614200@spacecityfrequency.com
SUMMARY:Eddie Zuko @ House of Blues
DESCRIPTION:
URL:https://spacecityfrequency.com/event/eddie-zuko-house-of-blues/
LOCATION:House Of Blues\, 1204 Caroline St.\, Houston\, 77002\, United States
ATTACH;FMTTYPE=image/jpeg:https://spacecityfrequency.com/wp-content/uploads/2023/02/eddie.jpg
END:VEVENT
BEGIN:VEVENT
DTSTART;TZID=America/Chicago:20230323T190000
DTEND;TZID=America/Chicago:20230323T230000
DTSTAMP:20260424T000851
CREATED:20230223T025623Z
LAST-MODIFIED:20230223T025623Z
UID:24222-1679598000-1679612400@spacecityfrequency.com
SUMMARY:Unwritten Law @ Warehouse Live
DESCRIPTION:
URL:https://spacecityfrequency.com/event/unwritten-law-warehouse-live/
LOCATION:Warehouse Live\, 813 St Emanuel St\, Houston\, TX\, 77003\, United States
ATTACH;FMTTYPE=image/jpeg:https://spacecityfrequency.com/wp-content/uploads/2023/02/law.jpg
END:VEVENT
BEGIN:VEVENT
DTSTART;TZID=America/Chicago:20230322T190000
DTEND;TZID=America/Chicago:20230322T233000
DTSTAMP:20260424T000851
CREATED:20230223T025435Z
LAST-MODIFIED:20230223T025435Z
UID:24219-1679511600-1679527800@spacecityfrequency.com
SUMMARY:Sabrina Carpenter @ Warehouse Live
DESCRIPTION:
URL:https://spacecityfrequency.com/event/sabrina-carpenter-warehouse-live/
LOCATION:Warehouse Live\, 813 St Emanuel St\, Houston\, TX\, 77003\, United States
ATTACH;FMTTYPE=image/jpeg:https://spacecityfrequency.com/wp-content/uploads/2023/02/sabrina.jpg
END:VEVENT
BEGIN:VEVENT
DTSTART;TZID=America/Chicago:20230322T190000
DTEND;TZID=America/Chicago:20230322T233000
DTSTAMP:20260424T000851
CREATED:20230210T232055Z
LAST-MODIFIED:20230210T232055Z
UID:23829-1679511600-1679527800@spacecityfrequency.com
SUMMARY:Vanessa Carlton @ House of Blues
DESCRIPTION:
URL:https://spacecityfrequency.com/event/vanessa-carlton-house-of-blues/
LOCATION:House Of Blues\, 1204 Caroline St.\, Houston\, 77002\, United States
END:VEVENT
BEGIN:VEVENT
DTSTART;TZID=America/Chicago:20230321T190000
DTEND;TZID=America/Chicago:20230321T233000
DTSTAMP:20260424T000851
CREATED:20230223T025316Z
LAST-MODIFIED:20230223T025316Z
UID:24216-1679425200-1679441400@spacecityfrequency.com
SUMMARY:Cradle of Filth w/ Devildriver @ Warehouse Live
DESCRIPTION:
URL:https://spacecityfrequency.com/event/cradle-of-filth-w-devildriver-warehouse-live/
LOCATION:Warehouse Live\, 813 St Emanuel St\, Houston\, TX\, 77003\, United States
ATTACH;FMTTYPE=image/jpeg:https://spacecityfrequency.com/wp-content/uploads/2023/02/cradle.jpg
END:VEVENT
BEGIN:VEVENT
DTSTART;TZID=America/Chicago:20230319T190000
DTEND;TZID=America/Chicago:20230319T233000
DTSTAMP:20260424T000851
CREATED:20230223T024922Z
LAST-MODIFIED:20230223T024922Z
UID:24210-1679252400-1679268600@spacecityfrequency.com
SUMMARY:The Winery Dogs @ Warehouse Live
DESCRIPTION:
URL:https://spacecityfrequency.com/event/the-winery-dogs-warehouse-live/
LOCATION:Warehouse Live\, 813 St Emanuel St\, Houston\, TX\, 77003\, United States
ATTACH;FMTTYPE=image/jpeg:https://spacecityfrequency.com/wp-content/uploads/2023/02/winery.jpg
END:VEVENT
BEGIN:VEVENT
DTSTART;TZID=America/Chicago:20230319T190000
DTEND;TZID=America/Chicago:20230319T233000
DTSTAMP:20260424T000851
CREATED:20230210T231931Z
LAST-MODIFIED:20230210T231931Z
UID:23827-1679252400-1679268600@spacecityfrequency.com
SUMMARY:The Collection @ House of Blues
DESCRIPTION:
URL:https://spacecityfrequency.com/event/the-collection-house-of-blues/
LOCATION:House Of Blues\, 1204 Caroline St.\, Houston\, 77002\, United States
END:VEVENT
BEGIN:VEVENT
DTSTART;TZID=America/Chicago:20230319T190000
DTEND;TZID=America/Chicago:20230319T230000
DTSTAMP:20260424T000851
CREATED:20230223T025138Z
LAST-MODIFIED:20230223T025138Z
UID:24213-1679252400-1679266800@spacecityfrequency.com
SUMMARY:Bktherula @ Warehouse Live
DESCRIPTION:
URL:https://spacecityfrequency.com/event/bktherula-warehouse-live/
LOCATION:Warehouse Live\, 813 St Emanuel St\, Houston\, TX\, 77003\, United States
ATTACH;FMTTYPE=image/jpeg:https://spacecityfrequency.com/wp-content/uploads/2023/02/bktherula.jpg
END:VEVENT
BEGIN:VEVENT
DTSTART;TZID=America/Chicago:20230318T193000
DTEND;TZID=America/Chicago:20230318T233000
DTSTAMP:20260424T000851
CREATED:20230208T073719Z
LAST-MODIFIED:20230208T080212Z
UID:23617-1679167800-1679182200@spacecityfrequency.com
SUMMARY:CIX @ Bayou Music Center
DESCRIPTION:
URL:https://spacecityfrequency.com/event/cix-bayou-music-center/
LOCATION:Bayou Music Center\, 520 Texas Ave.\, Houston\, TX\, 77002\, United States
ATTACH;FMTTYPE=image/jpeg:https://spacecityfrequency.com/wp-content/uploads/2023/02/cix-1.jpg
END:VEVENT
BEGIN:VEVENT
DTSTART;TZID=America/Chicago:20230318T190000
DTEND;TZID=America/Chicago:20230318T233000
DTSTAMP:20260424T000851
CREATED:20230223T024615Z
LAST-MODIFIED:20230223T024615Z
UID:24204-1679166000-1679182200@spacecityfrequency.com
SUMMARY:Glass Spells @ Warehouse Live
DESCRIPTION:
URL:https://spacecityfrequency.com/event/glass-spells-warehouse-live/
LOCATION:Warehouse Live\, 813 St Emanuel St\, Houston\, TX\, 77003\, United States
ATTACH;FMTTYPE=image/jpeg:https://spacecityfrequency.com/wp-content/uploads/2023/02/glass-spells.jpg
END:VEVENT
BEGIN:VEVENT
DTSTART;TZID=America/Chicago:20230318T190000
DTEND;TZID=America/Chicago:20230318T233000
DTSTAMP:20260424T000851
CREATED:20230208T233155Z
LAST-MODIFIED:20230208T233155Z
UID:23708-1679166000-1679182200@spacecityfrequency.com
SUMMARY:Party 101 @ House of Blues
DESCRIPTION:
URL:https://spacecityfrequency.com/event/party-101-house-of-blues/
LOCATION:House Of Blues\, 1204 Caroline St.\, Houston\, 77002\, United States
ATTACH;FMTTYPE=image/jpeg:https://spacecityfrequency.com/wp-content/uploads/2023/02/party.jpg
END:VEVENT
BEGIN:VEVENT
DTSTART;TZID=America/Chicago:20230318T190000
DTEND;TZID=America/Chicago:20230318T230000
DTSTAMP:20260424T000851
CREATED:20230223T024750Z
LAST-MODIFIED:20230223T024750Z
UID:24207-1679166000-1679180400@spacecityfrequency.com
SUMMARY:Black Smurf @ Warehouse Live
DESCRIPTION:
URL:https://spacecityfrequency.com/event/black-smurf-warehouse-live/
LOCATION:Warehouse Live\, 813 St Emanuel St\, Houston\, TX\, 77003\, United States
ATTACH;FMTTYPE=image/jpeg:https://spacecityfrequency.com/wp-content/uploads/2023/02/smurf.jpg
END:VEVENT
BEGIN:VEVENT
DTSTART;TZID=America/Chicago:20230317T190000
DTEND;TZID=America/Chicago:20230317T233000
DTSTAMP:20260424T000851
CREATED:20230223T024332Z
LAST-MODIFIED:20230223T024404Z
UID:24201-1679079600-1679095800@spacecityfrequency.com
SUMMARY:Sleazyworld @ Warehouse Live
DESCRIPTION:
URL:https://spacecityfrequency.com/event/sleazyworld-warehouse-live/
LOCATION:Warehouse Live\, 813 St Emanuel St\, Houston\, TX\, 77003\, United States
ATTACH;FMTTYPE=image/jpeg:https://spacecityfrequency.com/wp-content/uploads/2023/02/sleazy.jpg
END:VEVENT
BEGIN:VEVENT
DTSTART;TZID=America/Chicago:20230317T190000
DTEND;TZID=America/Chicago:20230317T233000
DTSTAMP:20260424T000851
CREATED:20230208T082036Z
LAST-MODIFIED:20230208T082036Z
UID:23666-1679079600-1679095800@spacecityfrequency.com
SUMMARY:Strutter (Kiss Tribute) @ House of Blues
DESCRIPTION:
URL:https://spacecityfrequency.com/event/strutter-kiss-tribute-house-of-blues/
LOCATION:House Of Blues\, 1204 Caroline St.\, Houston\, 77002\, United States
ATTACH;FMTTYPE=image/jpeg:https://spacecityfrequency.com/wp-content/uploads/2023/02/strutter.jpg
END:VEVENT
BEGIN:VEVENT
DTSTART;TZID=America/Chicago:20230317T190000
DTEND;TZID=America/Chicago:20230317T233000
DTSTAMP:20260424T000851
CREATED:20230208T063852Z
LAST-MODIFIED:20230208T063852Z
UID:23535-1679079600-1679095800@spacecityfrequency.com
SUMMARY:Alter Bridge @ 713 Music Hall
DESCRIPTION:
URL:https://spacecityfrequency.com/event/alter-bridge-713-music-hall/
LOCATION:713 Music Hall\, 401 Franklin St.\, Houston\, TX\, 77201\, United States
ATTACH;FMTTYPE=image/jpeg:https://spacecityfrequency.com/wp-content/uploads/2023/02/alter-br.jpg
END:VEVENT
BEGIN:VEVENT
DTSTART;TZID=America/Chicago:20230317T190000
DTEND;TZID=America/Chicago:20230317T230000
DTSTAMP:20260424T000851
CREATED:20230208T073624Z
LAST-MODIFIED:20230208T073624Z
UID:23614-1679079600-1679094000@spacecityfrequency.com
SUMMARY:Tye Tribbett @ Bayou Music Center
DESCRIPTION:
URL:https://spacecityfrequency.com/event/tye-tribbett-bayou-music-center/
LOCATION:Bayou Music Center\, 520 Texas Ave.\, Houston\, TX\, 77002\, United States
ATTACH;FMTTYPE=image/jpeg:https://spacecityfrequency.com/wp-content/uploads/2023/02/tye.jpg
END:VEVENT
BEGIN:VEVENT
DTSTART;TZID=America/Chicago:20230316T190000
DTEND;TZID=America/Chicago:20230316T233000
DTSTAMP:20260424T000851
CREATED:20230208T063657Z
LAST-MODIFIED:20230208T063657Z
UID:23531-1678993200-1679009400@spacecityfrequency.com
SUMMARY:New Order @ 713 Music Hall
DESCRIPTION:
URL:https://spacecityfrequency.com/event/new-order-713-music-hall/
LOCATION:713 Music Hall\, 401 Franklin St.\, Houston\, TX\, 77201\, United States
ATTACH;FMTTYPE=image/jpeg:https://spacecityfrequency.com/wp-content/uploads/2023/02/new-order.jpg
END:VEVENT
BEGIN:VEVENT
DTSTART;TZID=America/Chicago:20230315T190000
DTEND;TZID=America/Chicago:20230315T233000
DTSTAMP:20260424T000851
CREATED:20230223T023815Z
LAST-MODIFIED:20230223T023815Z
UID:24198-1678906800-1678923000@spacecityfrequency.com
SUMMARY:Decent Criminal @ Warehouse Live
DESCRIPTION:
URL:https://spacecityfrequency.com/event/decent-criminal-warehouse-live/
LOCATION:Warehouse Live\, 813 St Emanuel St\, Houston\, TX\, 77003\, United States
ATTACH;FMTTYPE=image/jpeg:https://spacecityfrequency.com/wp-content/uploads/2023/02/criminal.jpg
END:VEVENT
END:VCALENDAR