BEGIN:VCALENDAR
VERSION:2.0
PRODID:-//Space City Frequency - ECPv6.15.20//NONSGML v1.0//EN
CALSCALE:GREGORIAN
METHOD:PUBLISH
X-WR-CALNAME:Space City Frequency
X-ORIGINAL-URL:https://spacecityfrequency.com
X-WR-CALDESC:Events for Space City Frequency
REFRESH-INTERVAL;VALUE=DURATION:PT1H
X-Robots-Tag:noindex
X-PUBLISHED-TTL:PT1H
BEGIN:VTIMEZONE
TZID:America/Chicago
BEGIN:DAYLIGHT
TZOFFSETFROM:-0600
TZOFFSETTO:-0500
TZNAME:CDT
DTSTART:20220313T080000
END:DAYLIGHT
BEGIN:STANDARD
TZOFFSETFROM:-0500
TZOFFSETTO:-0600
TZNAME:CST
DTSTART:20221106T070000
END:STANDARD
BEGIN:DAYLIGHT
TZOFFSETFROM:-0600
TZOFFSETTO:-0500
TZNAME:CDT
DTSTART:20230312T080000
END:DAYLIGHT
BEGIN:STANDARD
TZOFFSETFROM:-0500
TZOFFSETTO:-0600
TZNAME:CST
DTSTART:20231105T070000
END:STANDARD
BEGIN:DAYLIGHT
TZOFFSETFROM:-0600
TZOFFSETTO:-0500
TZNAME:CDT
DTSTART:20240310T080000
END:DAYLIGHT
BEGIN:STANDARD
TZOFFSETFROM:-0500
TZOFFSETTO:-0600
TZNAME:CST
DTSTART:20241103T070000
END:STANDARD
END:VTIMEZONE
BEGIN:VEVENT
DTSTART;TZID=America/Chicago:20230416T190000
DTEND;TZID=America/Chicago:20230416T233000
DTSTAMP:20260423T210302
CREATED:20230208T082212Z
LAST-MODIFIED:20230208T082212Z
UID:23669-1681671600-1681687800@spacecityfrequency.com
SUMMARY:Badfish (Sublime Tribute) @ House of Blues
DESCRIPTION:
URL:https://spacecityfrequency.com/event/badfish-sublime-tribute-house-of-blues/
LOCATION:House Of Blues\, 1204 Caroline St.\, Houston\, 77002\, United States
ATTACH;FMTTYPE=image/jpeg:https://spacecityfrequency.com/wp-content/uploads/2023/02/badfish.jpg
END:VEVENT
BEGIN:VEVENT
DTSTART;TZID=America/Chicago:20230415T190000
DTEND;TZID=America/Chicago:20230415T233000
DTSTAMP:20260423T210302
CREATED:20230208T073931Z
LAST-MODIFIED:20230208T073931Z
UID:23623-1681585200-1681601400@spacecityfrequency.com
SUMMARY:Blippi @ Bayou Music Center
DESCRIPTION:
URL:https://spacecityfrequency.com/event/blippi-bayou-music-center/
LOCATION:Bayou Music Center\, 520 Texas Ave.\, Houston\, TX\, 77002\, United States
END:VEVENT
BEGIN:VEVENT
DTSTART;TZID=America/Chicago:20230415T190000
DTEND;TZID=America/Chicago:20230415T233000
DTSTAMP:20260423T210302
CREATED:20230208T064708Z
LAST-MODIFIED:20230208T064708Z
UID:23550-1681585200-1681601400@spacecityfrequency.com
SUMMARY:Seven Lions @ 713 Music Hall
DESCRIPTION:
URL:https://spacecityfrequency.com/event/seven-lions-713-music-hall/
LOCATION:713 Music Hall\, 401 Franklin St.\, Houston\, TX\, 77201\, United States
ATTACH;FMTTYPE=image/jpeg:https://spacecityfrequency.com/wp-content/uploads/2023/02/seven-lions.jpg
END:VEVENT
BEGIN:VEVENT
DTSTART;TZID=America/Chicago:20230415T190000
DTEND;TZID=America/Chicago:20230415T230000
DTSTAMP:20260423T210302
CREATED:20230223T031608Z
LAST-MODIFIED:20230223T031608Z
UID:24246-1681585200-1681599600@spacecityfrequency.com
SUMMARY:Lotus @ Warehouse Live
DESCRIPTION:
URL:https://spacecityfrequency.com/event/lotus-warehouse-live/
LOCATION:Warehouse Live\, 813 St Emanuel St\, Houston\, TX\, 77003\, United States
ATTACH;FMTTYPE=image/jpeg:https://spacecityfrequency.com/wp-content/uploads/2023/02/lotus.jpg
END:VEVENT
BEGIN:VEVENT
DTSTART;TZID=America/Chicago:20230415T070000
DTEND;TZID=America/Chicago:20230415T233000
DTSTAMP:20260423T210302
CREATED:20230223T013751Z
LAST-MODIFIED:20230223T013751Z
UID:24137-1681542000-1681601400@spacecityfrequency.com
SUMMARY:Disney Dance Party @ House of Blues
DESCRIPTION:
URL:https://spacecityfrequency.com/event/disney-dance-party-house-of-blues/
LOCATION:House Of Blues\, 1204 Caroline St.\, Houston\, 77002\, United States
ATTACH;FMTTYPE=image/jpeg:https://spacecityfrequency.com/wp-content/uploads/2023/02/disney.jpg
END:VEVENT
BEGIN:VEVENT
DTSTART;TZID=America/Chicago:20230414T190000
DTEND;TZID=America/Chicago:20230414T233000
DTSTAMP:20260423T210302
CREATED:20230211T000522Z
LAST-MODIFIED:20230211T000522Z
UID:23849-1681498800-1681515000@spacecityfrequency.com
SUMMARY:Wage War @ House of Blues
DESCRIPTION:
URL:https://spacecityfrequency.com/event/wage-war-house-of-blues/
LOCATION:House Of Blues\, 1204 Caroline St.\, Houston\, 77002\, United States
END:VEVENT
BEGIN:VEVENT
DTSTART;TZID=America/Chicago:20230414T190000
DTEND;TZID=America/Chicago:20230414T233000
DTSTAMP:20260423T210302
CREATED:20230209T002131Z
LAST-MODIFIED:20230209T002131Z
UID:23735-1681498800-1681515000@spacecityfrequency.com
SUMMARY:Wage Ware @ House of Blues
DESCRIPTION:
URL:https://spacecityfrequency.com/event/wage-ware-house-of-blues/
LOCATION:House Of Blues\, 1204 Caroline St.\, Houston\, 77002\, United States
ATTACH;FMTTYPE=image/jpeg:https://spacecityfrequency.com/wp-content/uploads/2023/02/wage.jpg
END:VEVENT
BEGIN:VEVENT
DTSTART;TZID=America/Chicago:20230414T190000
DTEND;TZID=America/Chicago:20230414T233000
DTSTAMP:20260423T210302
CREATED:20230208T073848Z
LAST-MODIFIED:20230208T073848Z
UID:23621-1681498800-1681515000@spacecityfrequency.com
SUMMARY:Sullivan King @ Bayou Music Center
DESCRIPTION:
URL:https://spacecityfrequency.com/event/sullivan-king-bayou-music-center/
LOCATION:Bayou Music Center\, 520 Texas Ave.\, Houston\, TX\, 77002\, United States
END:VEVENT
BEGIN:VEVENT
DTSTART;TZID=America/Chicago:20230413T190000
DTEND;TZID=America/Chicago:20230413T230000
DTSTAMP:20260423T210302
CREATED:20230223T031411Z
LAST-MODIFIED:20230223T031411Z
UID:24243-1681412400-1681426800@spacecityfrequency.com
SUMMARY:Kim Loaiza and JD Pantoja @ Warehouse Live
DESCRIPTION:
URL:https://spacecityfrequency.com/event/kim-loaiza-and-jd-pantoja-warehouse-live/
LOCATION:Warehouse Live\, 813 St Emanuel St\, Houston\, TX\, 77003\, United States
ATTACH;FMTTYPE=image/jpeg:https://spacecityfrequency.com/wp-content/uploads/2023/02/jd.jpg
END:VEVENT
BEGIN:VEVENT
DTSTART;TZID=America/Chicago:20230412T190000
DTEND;TZID=America/Chicago:20230412T233000
DTSTAMP:20260423T210302
CREATED:20230211T000147Z
LAST-MODIFIED:20230211T000147Z
UID:23847-1681326000-1681342200@spacecityfrequency.com
SUMMARY:Mac Ayers @ House of Blues
DESCRIPTION:
URL:https://spacecityfrequency.com/event/mac-ayers-house-of-blues/
LOCATION:House Of Blues\, 1204 Caroline St.\, Houston\, 77002\, United States
END:VEVENT
BEGIN:VEVENT
DTSTART;TZID=America/Chicago:20230411T190000
DTEND;TZID=America/Chicago:20230411T233000
DTSTAMP:20260423T210302
CREATED:20230209T002718Z
LAST-MODIFIED:20230209T002718Z
UID:23738-1681239600-1681255800@spacecityfrequency.com
SUMMARY:Maggie Lindemann @ House of Blues
DESCRIPTION:
URL:https://spacecityfrequency.com/event/maggie-lindemann-house-of-blues/
LOCATION:House Of Blues\, 1204 Caroline St.\, Houston\, 77002\, United States
ATTACH;FMTTYPE=image/jpeg:https://spacecityfrequency.com/wp-content/uploads/2023/02/maggie.jpg
END:VEVENT
BEGIN:VEVENT
DTSTART;TZID=America/Chicago:20230409T190000
DTEND;TZID=America/Chicago:20230409T233000
DTSTAMP:20260423T210302
CREATED:20230208T082444Z
LAST-MODIFIED:20230208T082444Z
UID:23675-1681066800-1681083000@spacecityfrequency.com
SUMMARY:Pouya\, Fat Nick @ House of Blues
DESCRIPTION:
URL:https://spacecityfrequency.com/event/pouya-fat-nick-house-of-blues/
LOCATION:House Of Blues\, 1204 Caroline St.\, Houston\, 77002\, United States
ATTACH;FMTTYPE=image/jpeg:https://spacecityfrequency.com/wp-content/uploads/2023/02/pouya.jpg
END:VEVENT
BEGIN:VEVENT
DTSTART;TZID=America/Chicago:20230409T190000
DTEND;TZID=America/Chicago:20230409T230000
DTSTAMP:20260423T210302
CREATED:20230223T031208Z
LAST-MODIFIED:20230223T031208Z
UID:24240-1681066800-1681081200@spacecityfrequency.com
SUMMARY:Chaos and Carnage @ Warehouse Live
DESCRIPTION:
URL:https://spacecityfrequency.com/event/chaos-and-carnage-warehouse-live/
LOCATION:Warehouse Live\, 813 St Emanuel St\, Houston\, TX\, 77003\, United States
ATTACH;FMTTYPE=image/jpeg:https://spacecityfrequency.com/wp-content/uploads/2023/02/chaos.jpg
END:VEVENT
BEGIN:VEVENT
DTSTART;TZID=America/Chicago:20230408T190000
DTEND;TZID=America/Chicago:20230408T233000
DTSTAMP:20260423T210302
CREATED:20230210T235748Z
LAST-MODIFIED:20230210T235748Z
UID:23844-1680980400-1680996600@spacecityfrequency.com
SUMMARY:Young Nudy @ House of Blues
DESCRIPTION:
URL:https://spacecityfrequency.com/event/young-nudy-house-of-blues/
LOCATION:House Of Blues\, 1204 Caroline St.\, Houston\, 77002\, United States
END:VEVENT
BEGIN:VEVENT
DTSTART;TZID=America/Chicago:20230408T190000
DTEND;TZID=America/Chicago:20230408T233000
DTSTAMP:20260423T210302
CREATED:20230208T073803Z
LAST-MODIFIED:20230208T073803Z
UID:23619-1680980400-1680996600@spacecityfrequency.com
SUMMARY:Sarah Millican @ Bayou Music Center
DESCRIPTION:
URL:https://spacecityfrequency.com/event/sarah-millican-bayou-music-center/
LOCATION:Bayou Music Center\, 520 Texas Ave.\, Houston\, TX\, 77002\, United States
END:VEVENT
BEGIN:VEVENT
DTSTART;TZID=America/Chicago:20230408T190000
DTEND;TZID=America/Chicago:20230408T233000
DTSTAMP:20260423T210302
CREATED:20230208T064448Z
LAST-MODIFIED:20230208T064448Z
UID:23547-1680980400-1680996600@spacecityfrequency.com
SUMMARY:Blue October @ 713 Music Hall
DESCRIPTION:
URL:https://spacecityfrequency.com/event/blue-october-713-music-hall-2/
LOCATION:713 Music Hall\, 401 Franklin St.\, Houston\, TX\, 77201\, United States
ATTACH;FMTTYPE=image/jpeg:https://spacecityfrequency.com/wp-content/uploads/2023/02/blue-oc-1.jpg
END:VEVENT
BEGIN:VEVENT
DTSTART;TZID=America/Chicago:20230407T190000
DTEND;TZID=America/Chicago:20230407T233000
DTSTAMP:20260423T210302
CREATED:20230208T082324Z
LAST-MODIFIED:20230208T082324Z
UID:23672-1680894000-1680910200@spacecityfrequency.com
SUMMARY:Skinny Puppy @ House of Blues
DESCRIPTION:
URL:https://spacecityfrequency.com/event/skinny-puppy-house-of-blues/
LOCATION:House Of Blues\, 1204 Caroline St.\, Houston\, 77002\, United States
ATTACH;FMTTYPE=image/jpeg:https://spacecityfrequency.com/wp-content/uploads/2023/02/puppy.jpg
END:VEVENT
BEGIN:VEVENT
DTSTART;TZID=America/Chicago:20230407T190000
DTEND;TZID=America/Chicago:20230407T233000
DTSTAMP:20260423T210302
CREATED:20230208T064356Z
LAST-MODIFIED:20230208T064356Z
UID:23544-1680894000-1680910200@spacecityfrequency.com
SUMMARY:Blue October @ 713 Music Hall
DESCRIPTION:
URL:https://spacecityfrequency.com/event/blue-october-713-music-hall/
LOCATION:713 Music Hall\, 401 Franklin St.\, Houston\, TX\, 77201\, United States
ATTACH;FMTTYPE=image/jpeg:https://spacecityfrequency.com/wp-content/uploads/2023/02/blue-oc.jpg
END:VEVENT
BEGIN:VEVENT
DTSTART;TZID=America/Chicago:20230406T190000
DTEND;TZID=America/Chicago:20230406T233000
DTSTAMP:20260423T210302
CREATED:20230210T235214Z
LAST-MODIFIED:20230210T235214Z
UID:23841-1680807600-1680823800@spacecityfrequency.com
SUMMARY:Onyx @ House of Blues
DESCRIPTION:
URL:https://spacecityfrequency.com/event/onyx-house-of-blues/
LOCATION:House Of Blues\, 1204 Caroline St.\, Houston\, 77002\, United States
END:VEVENT
BEGIN:VEVENT
DTSTART;TZID=America/Chicago:20230406T190000
DTEND;TZID=America/Chicago:20230406T230000
DTSTAMP:20260423T210302
CREATED:20230223T030750Z
LAST-MODIFIED:20230223T030750Z
UID:24237-1680807600-1680822000@spacecityfrequency.com
SUMMARY:Church of Cosmic Skull @ Warehouse Live
DESCRIPTION:
URL:https://spacecityfrequency.com/event/church-of-cosmic-skull-warehouse-live/
LOCATION:Warehouse Live\, 813 St Emanuel St\, Houston\, TX\, 77003\, United States
ATTACH;FMTTYPE=image/jpeg:https://spacecityfrequency.com/wp-content/uploads/2023/02/church.jpg
END:VEVENT
BEGIN:VEVENT
DTSTART;TZID=America/Chicago:20230405T190000
DTEND;TZID=America/Chicago:20230405T233000
DTSTAMP:20260423T210302
CREATED:20230223T013151Z
LAST-MODIFIED:20230223T013151Z
UID:24131-1680721200-1680737400@spacecityfrequency.com
SUMMARY:Celebrating David Bowie @ House of Blues
DESCRIPTION:
URL:https://spacecityfrequency.com/event/celebrating-david-bowie-house-of-blues/
LOCATION:House Of Blues\, 1204 Caroline St.\, Houston\, 77002\, United States
ATTACH;FMTTYPE=image/jpeg:https://spacecityfrequency.com/wp-content/uploads/2023/02/bowie.jpg
END:VEVENT
BEGIN:VEVENT
DTSTART;TZID=America/Chicago:20230402T190000
DTEND;TZID=America/Chicago:20230402T233000
DTSTAMP:20260423T210302
CREATED:20230209T000312Z
LAST-MODIFIED:20230209T000312Z
UID:23732-1680462000-1680478200@spacecityfrequency.com
SUMMARY:Hawthorne Heights\, Sleeping with Sirens @ House of Blues
DESCRIPTION:
URL:https://spacecityfrequency.com/event/hawthorne-heights-sleeping-with-sirens-house-of-blues/
LOCATION:House Of Blues\, 1204 Caroline St.\, Houston\, 77002\, United States
ATTACH;FMTTYPE=image/jpeg:https://spacecityfrequency.com/wp-content/uploads/2023/02/hawthorne.jpg
END:VEVENT
BEGIN:VEVENT
DTSTART;TZID=America/Chicago:20230401T190000
DTEND;TZID=America/Chicago:20230401T233000
DTSTAMP:20260423T210302
CREATED:20230210T234643Z
LAST-MODIFIED:20230210T234643Z
UID:23836-1680375600-1680391800@spacecityfrequency.com
SUMMARY:Spencer Sutherland @ House of Blues
DESCRIPTION:
URL:https://spacecityfrequency.com/event/spencer-sutherland-house-of-blues/
LOCATION:House Of Blues\, 1204 Caroline St.\, Houston\, 77002\, United States
END:VEVENT
BEGIN:VEVENT
DTSTART;TZID=America/Chicago:20230401T190000
DTEND;TZID=America/Chicago:20230401T230000
DTSTAMP:20260423T210302
CREATED:20230223T030536Z
LAST-MODIFIED:20230223T030536Z
UID:24234-1680375600-1680390000@spacecityfrequency.com
SUMMARY:Danielle Bradbery @ Warehouse Live
DESCRIPTION:
URL:https://spacecityfrequency.com/event/danielle-bradbery-warehouse-live/
LOCATION:Warehouse Live\, 813 St Emanuel St\, Houston\, TX\, 77003\, United States
ATTACH;FMTTYPE=image/jpeg:https://spacecityfrequency.com/wp-content/uploads/2023/02/Daniel.jpg
END:VEVENT
BEGIN:VEVENT
DTSTART;TZID=America/Chicago:20230401T190000
DTEND;TZID=America/Chicago:20230401T230000
DTSTAMP:20260423T210302
CREATED:20230223T012252Z
LAST-MODIFIED:20230223T012252Z
UID:24118-1680375600-1680390000@spacecityfrequency.com
SUMMARY:The Dan Band @ House of Blues
DESCRIPTION:
URL:https://spacecityfrequency.com/event/the-dan-band-house-of-blues/
LOCATION:House Of Blues\, 1204 Caroline St.\, Houston\, 77002\, United States
ATTACH;FMTTYPE=image/jpeg:https://spacecityfrequency.com/wp-content/uploads/2023/02/dan.jpg
END:VEVENT
BEGIN:VEVENT
DTSTART;TZID=America/Chicago:20230330T190000
DTEND;TZID=America/Chicago:20230330T230000
DTSTAMP:20260423T210302
CREATED:20230223T030303Z
LAST-MODIFIED:20230223T030303Z
UID:24231-1680202800-1680217200@spacecityfrequency.com
SUMMARY:Jer @ Warehouse Live
DESCRIPTION:
URL:https://spacecityfrequency.com/event/jer-warehouse-live/
LOCATION:Warehouse Live\, 813 St Emanuel St\, Houston\, TX\, 77003\, United States
ATTACH;FMTTYPE=image/jpeg:https://spacecityfrequency.com/wp-content/uploads/2023/02/jer.jpg
END:VEVENT
BEGIN:VEVENT
DTSTART;TZID=America/Chicago:20230326T190000
DTEND;TZID=America/Chicago:20230326T233000
DTSTAMP:20260423T210302
CREATED:20230210T234506Z
LAST-MODIFIED:20230210T234506Z
UID:23833-1679857200-1679873400@spacecityfrequency.com
SUMMARY:K. Michelle @ House of Blues
DESCRIPTION:a
URL:https://spacecityfrequency.com/event/k-michelle-house-of-blues/
LOCATION:House Of Blues\, 1204 Caroline St.\, Houston\, 77002\, United States
ATTACH;FMTTYPE=image/jpeg:https://spacecityfrequency.com/wp-content/uploads/2023/02/kmichelle.jpg
END:VEVENT
BEGIN:VEVENT
DTSTART;TZID=America/Chicago:20230326T190000
DTEND;TZID=America/Chicago:20230326T230000
DTSTAMP:20260423T210302
CREATED:20230223T030055Z
LAST-MODIFIED:20230223T030055Z
UID:24228-1679857200-1679871600@spacecityfrequency.com
SUMMARY:The Acacia Strain @ Warehouse Live
DESCRIPTION:
URL:https://spacecityfrequency.com/event/the-acacia-strain-warehouse-live/
LOCATION:Warehouse Live\, 813 St Emanuel St\, Houston\, TX\, 77003\, United States
ATTACH;FMTTYPE=image/jpeg:https://spacecityfrequency.com/wp-content/uploads/2023/02/acacia-strain.jpg
END:VEVENT
BEGIN:VEVENT
DTSTART;TZID=America/Chicago:20230325T190000
DTEND;TZID=America/Chicago:20230325T233000
DTSTAMP:20260423T210302
CREATED:20230210T232230Z
LAST-MODIFIED:20230210T232230Z
UID:23831-1679770800-1679787000@spacecityfrequency.com
SUMMARY:Badflower @ House of Blues
DESCRIPTION:
URL:https://spacecityfrequency.com/event/badflower-house-of-blues/
LOCATION:House Of Blues\, 1204 Caroline St.\, Houston\, 77002\, United States
END:VEVENT
BEGIN:VEVENT
DTSTART;TZID=America/Chicago:20230324T190000
DTEND;TZID=America/Chicago:20230324T230000
DTSTAMP:20260423T210302
CREATED:20230223T025900Z
LAST-MODIFIED:20230223T025900Z
UID:24225-1679684400-1679698800@spacecityfrequency.com
SUMMARY:Warehouse Wire @ Warehouse Live
DESCRIPTION:
URL:https://spacecityfrequency.com/event/warehouse-wire-warehouse-live/
LOCATION:Warehouse Live\, 813 St Emanuel St\, Houston\, TX\, 77003\, United States
ATTACH;FMTTYPE=image/jpeg:https://spacecityfrequency.com/wp-content/uploads/2023/02/Warehouse-wired.jpg
END:VEVENT
END:VCALENDAR