BEGIN:VCALENDAR
VERSION:2.0
PRODID:-//Space City Frequency - ECPv6.15.20//NONSGML v1.0//EN
CALSCALE:GREGORIAN
METHOD:PUBLISH
X-WR-CALNAME:Space City Frequency
X-ORIGINAL-URL:https://spacecityfrequency.com
X-WR-CALDESC:Events for Space City Frequency
REFRESH-INTERVAL;VALUE=DURATION:PT1H
X-Robots-Tag:noindex
X-PUBLISHED-TTL:PT1H
BEGIN:VTIMEZONE
TZID:America/Chicago
BEGIN:DAYLIGHT
TZOFFSETFROM:-0600
TZOFFSETTO:-0500
TZNAME:CDT
DTSTART:20220313T080000
END:DAYLIGHT
BEGIN:STANDARD
TZOFFSETFROM:-0500
TZOFFSETTO:-0600
TZNAME:CST
DTSTART:20221106T070000
END:STANDARD
BEGIN:DAYLIGHT
TZOFFSETFROM:-0600
TZOFFSETTO:-0500
TZNAME:CDT
DTSTART:20230312T080000
END:DAYLIGHT
BEGIN:STANDARD
TZOFFSETFROM:-0500
TZOFFSETTO:-0600
TZNAME:CST
DTSTART:20231105T070000
END:STANDARD
BEGIN:DAYLIGHT
TZOFFSETFROM:-0600
TZOFFSETTO:-0500
TZNAME:CDT
DTSTART:20240310T080000
END:DAYLIGHT
BEGIN:STANDARD
TZOFFSETFROM:-0500
TZOFFSETTO:-0600
TZNAME:CST
DTSTART:20241103T070000
END:STANDARD
END:VTIMEZONE
BEGIN:VEVENT
DTSTART;TZID=America/Chicago:20230519T190000
DTEND;TZID=America/Chicago:20230519T233000
DTSTAMP:20260423T131828
CREATED:20230208T234808Z
LAST-MODIFIED:20230208T234808Z
UID:23720-1684522800-1684539000@spacecityfrequency.com
SUMMARY:Ruston Kelly @ House of Blues
DESCRIPTION:
URL:https://spacecityfrequency.com/event/ruston-kelly-house-of-blues/
LOCATION:House Of Blues\, 1204 Caroline St.\, Houston\, 77002\, United States
ATTACH;FMTTYPE=image/jpeg:https://spacecityfrequency.com/wp-content/uploads/2023/02/ruston-Kelly.jpg
END:VEVENT
BEGIN:VEVENT
DTSTART;TZID=America/Chicago:20230519T190000
DTEND;TZID=America/Chicago:20230519T233000
DTSTAMP:20260423T131828
CREATED:20230208T075241Z
LAST-MODIFIED:20230208T075241Z
UID:23641-1684522800-1684539000@spacecityfrequency.com
SUMMARY:The Backseat Lovers @ Bayou Music Center
DESCRIPTION:
URL:https://spacecityfrequency.com/event/the-backseat-lovers-bayou-music-center/
LOCATION:Bayou Music Center\, 520 Texas Ave.\, Houston\, TX\, 77002\, United States
ATTACH;FMTTYPE=image/jpeg:https://spacecityfrequency.com/wp-content/uploads/2023/02/backseat.jpg
END:VEVENT
BEGIN:VEVENT
DTSTART;TZID=America/Chicago:20230519T190000
DTEND;TZID=America/Chicago:20230519T233000
DTSTAMP:20260423T131828
CREATED:20230208T070238Z
LAST-MODIFIED:20230208T070238Z
UID:23573-1684522800-1684539000@spacecityfrequency.com
SUMMARY:The Mars Volta @ 713 Music Hall
DESCRIPTION:
URL:https://spacecityfrequency.com/event/the-mars-volta-713-music-hall/
LOCATION:713 Music Hall\, 401 Franklin St.\, Houston\, TX\, 77201\, United States
ATTACH;FMTTYPE=image/jpeg:https://spacecityfrequency.com/wp-content/uploads/2023/02/volta.jpg
END:VEVENT
BEGIN:VEVENT
DTSTART;TZID=America/Chicago:20230518T190000
DTEND;TZID=America/Chicago:20230518T233000
DTSTAMP:20260423T131828
CREATED:20230208T234427Z
LAST-MODIFIED:20230208T234427Z
UID:23717-1684436400-1684452600@spacecityfrequency.com
SUMMARY:Coheed & Cambria @ House of Blues
DESCRIPTION:
URL:https://spacecityfrequency.com/event/coheed-cambria-house-of-blues/
LOCATION:House Of Blues\, 1204 Caroline St.\, Houston\, 77002\, United States
ATTACH;FMTTYPE=image/jpeg:https://spacecityfrequency.com/wp-content/uploads/2023/02/coheed-may.jpg
END:VEVENT
BEGIN:VEVENT
DTSTART;TZID=America/Chicago:20230517T190000
DTEND;TZID=America/Chicago:20230517T233000
DTSTAMP:20260423T131828
CREATED:20230208T235600Z
LAST-MODIFIED:20230208T235600Z
UID:23726-1684350000-1684366200@spacecityfrequency.com
SUMMARY:Thrill Kill Kult @ House of Blues
DESCRIPTION:
URL:https://spacecityfrequency.com/event/thrill-kill-kult-house-of-blues/
LOCATION:House Of Blues\, 1204 Caroline St.\, Houston\, 77002\, United States
ATTACH;FMTTYPE=image/jpeg:https://spacecityfrequency.com/wp-content/uploads/2023/02/killkult.jpg
END:VEVENT
BEGIN:VEVENT
DTSTART;TZID=America/Chicago:20230517T190000
DTEND;TZID=America/Chicago:20230517T230000
DTSTAMP:20260423T131828
CREATED:20230208T231126Z
LAST-MODIFIED:20230208T231126Z
UID:23696-1684350000-1684364400@spacecityfrequency.com
SUMMARY:Meg Myers @ House of Blues
DESCRIPTION:
URL:https://spacecityfrequency.com/event/meg-myers-house-of-blues/
LOCATION:House Of Blues\, 1204 Caroline St.\, Houston\, 77002\, United States
ATTACH;FMTTYPE=image/jpeg:https://spacecityfrequency.com/wp-content/uploads/2023/02/meg.jpg
END:VEVENT
BEGIN:VEVENT
DTSTART;TZID=America/Chicago:20230516T190000
DTEND;TZID=America/Chicago:20230516T233000
DTSTAMP:20260423T131828
CREATED:20230223T011051Z
LAST-MODIFIED:20230223T011051Z
UID:24100-1684263600-1684279800@spacecityfrequency.com
SUMMARY:Leon Larregui @ House of Blues
DESCRIPTION:
URL:https://spacecityfrequency.com/event/leon-larregui-house-of-blues/
LOCATION:House Of Blues\, 1204 Caroline St.\, Houston\, 77002\, United States
ATTACH;FMTTYPE=image/jpeg:https://spacecityfrequency.com/wp-content/uploads/2023/02/leon.jpg
END:VEVENT
BEGIN:VEVENT
DTSTART;TZID=America/Chicago:20230514T190000
DTEND;TZID=America/Chicago:20230514T233000
DTSTAMP:20260423T131828
CREATED:20230209T003001Z
LAST-MODIFIED:20230209T003001Z
UID:23741-1684090800-1684107000@spacecityfrequency.com
SUMMARY:Caifanes @ House of Blues
DESCRIPTION:
URL:https://spacecityfrequency.com/event/caifanes-house-of-blues-2/
LOCATION:House Of Blues\, 1204 Caroline St.\, Houston\, 77002\, United States
ATTACH;FMTTYPE=image/jpeg:https://spacecityfrequency.com/wp-content/uploads/2023/02/caifanes.jpg
END:VEVENT
BEGIN:VEVENT
DTSTART;TZID=America/Chicago:20230513T190000
DTEND;TZID=America/Chicago:20230513T233000
DTSTAMP:20260423T131828
CREATED:20230208T234152Z
LAST-MODIFIED:20230208T234152Z
UID:23714-1684004400-1684020600@spacecityfrequency.com
SUMMARY:Peter Cat @ House of Blues
DESCRIPTION:
URL:https://spacecityfrequency.com/event/peter-cat-house-of-blues/
LOCATION:House Of Blues\, 1204 Caroline St.\, Houston\, 77002\, United States
ATTACH;FMTTYPE=image/jpeg:https://spacecityfrequency.com/wp-content/uploads/2023/02/peter-cat.jpg
END:VEVENT
BEGIN:VEVENT
DTSTART;TZID=America/Chicago:20230513T190000
DTEND;TZID=America/Chicago:20230513T190000
DTSTAMP:20260423T131828
CREATED:20230208T065945Z
LAST-MODIFIED:20230208T065945Z
UID:23570-1684004400-1684004400@spacecityfrequency.com
SUMMARY:YUNGBLUD @ 713 Music Hall
DESCRIPTION:
URL:https://spacecityfrequency.com/event/yungblud-713-music-hall/
LOCATION:713 Music Hall\, 401 Franklin St.\, Houston\, TX\, 77201\, United States
ATTACH;FMTTYPE=image/jpeg:https://spacecityfrequency.com/wp-content/uploads/2023/02/blud.jpg
END:VEVENT
BEGIN:VEVENT
DTSTART;TZID=America/Chicago:20230512T190000
DTEND;TZID=America/Chicago:20230512T233000
DTSTAMP:20260423T131828
CREATED:20230223T014459Z
LAST-MODIFIED:20230223T014459Z
UID:24143-1683918000-1683934200@spacecityfrequency.com
SUMMARY:Hunter Hayes @ House of Blues
DESCRIPTION:
URL:https://spacecityfrequency.com/event/hunter-hayes-house-of-blues/
LOCATION:House Of Blues\, 1204 Caroline St.\, Houston\, 77002\, United States
ATTACH;FMTTYPE=image/jpeg:https://spacecityfrequency.com/wp-content/uploads/2023/02/hunter.jpg
END:VEVENT
BEGIN:VEVENT
DTSTART;TZID=America/Chicago:20230512T190000
DTEND;TZID=America/Chicago:20230512T233000
DTSTAMP:20260423T131828
CREATED:20230208T230359Z
LAST-MODIFIED:20230208T230530Z
UID:23690-1683918000-1683934200@spacecityfrequency.com
SUMMARY:The Beaches @ House of Blues
DESCRIPTION:
URL:https://spacecityfrequency.com/event/the-beaches-house-of-blues/
LOCATION:House Of Blues\, 1204 Caroline St.\, Houston\, 77002\, United States
ATTACH;FMTTYPE=image/jpeg:https://spacecityfrequency.com/wp-content/uploads/2023/02/beaches.jpg
END:VEVENT
BEGIN:VEVENT
DTSTART;TZID=America/Chicago:20230512T190000
DTEND;TZID=America/Chicago:20230512T230000
DTSTAMP:20260423T131828
CREATED:20230223T033304Z
LAST-MODIFIED:20230223T033304Z
UID:24276-1683918000-1683932400@spacecityfrequency.com
SUMMARY:HammerFall @ Warehouse Live
DESCRIPTION:
URL:https://spacecityfrequency.com/event/hammerfall-warehouse-live/
LOCATION:Warehouse Live\, 813 St Emanuel St\, Houston\, TX\, 77003\, United States
ATTACH;FMTTYPE=image/jpeg:https://spacecityfrequency.com/wp-content/uploads/2023/02/hammer.jpg
END:VEVENT
BEGIN:VEVENT
DTSTART;TZID=America/Chicago:20230512T190000
DTEND;TZID=America/Chicago:20230512T230000
DTSTAMP:20260423T131828
CREATED:20230208T065645Z
LAST-MODIFIED:20230208T065645Z
UID:23568-1683918000-1683932400@spacecityfrequency.com
SUMMARY:Eladio Carrion @ 713 Music Hall
DESCRIPTION:
URL:https://spacecityfrequency.com/event/eladio-carrion-713-music-hall/
LOCATION:713 Music Hall\, 401 Franklin St.\, Houston\, TX\, 77201\, United States
END:VEVENT
BEGIN:VEVENT
DTSTART;TZID=America/Chicago:20230511T190000
DTEND;TZID=America/Chicago:20230511T233000
DTSTAMP:20260423T131828
CREATED:20230208T234957Z
LAST-MODIFIED:20230208T234957Z
UID:23723-1683831600-1683847800@spacecityfrequency.com
SUMMARY:Valley @ House of Blues
DESCRIPTION:
URL:https://spacecityfrequency.com/event/valley-house-of-blues/
LOCATION:House Of Blues\, 1204 Caroline St.\, Houston\, 77002\, United States
ATTACH;FMTTYPE=image/jpeg:https://spacecityfrequency.com/wp-content/uploads/2023/02/valley.jpg
END:VEVENT
BEGIN:VEVENT
DTSTART;TZID=America/Chicago:20230511T190000
DTEND;TZID=America/Chicago:20230511T233000
DTSTAMP:20260423T131828
CREATED:20230208T065533Z
LAST-MODIFIED:20230208T065533Z
UID:23566-1683831600-1683847800@spacecityfrequency.com
SUMMARY:Lewis Capaldi @ 713 Music Hall
DESCRIPTION:
URL:https://spacecityfrequency.com/event/lewis-capaldi-713-music-hall/
LOCATION:713 Music Hall\, 401 Franklin St.\, Houston\, TX\, 77201\, United States
END:VEVENT
BEGIN:VEVENT
DTSTART;TZID=America/Chicago:20230507T190000
DTEND;TZID=America/Chicago:20230507T233000
DTSTAMP:20260423T131828
CREATED:20230208T231929Z
LAST-MODIFIED:20230208T231929Z
UID:23699-1683486000-1683502200@spacecityfrequency.com
SUMMARY:The Psychedelic Furs @ House of Blues
DESCRIPTION:
URL:https://spacecityfrequency.com/event/the-psychedelic-furs-house-of-blues/
LOCATION:House Of Blues\, 1204 Caroline St.\, Houston\, 77002\, United States
ATTACH;FMTTYPE=image/jpeg:https://spacecityfrequency.com/wp-content/uploads/2023/02/furs.jpg
END:VEVENT
BEGIN:VEVENT
DTSTART;TZID=America/Chicago:20230507T190000
DTEND;TZID=America/Chicago:20230507T233000
DTSTAMP:20260423T131828
CREATED:20230208T065344Z
LAST-MODIFIED:20230223T015323Z
UID:23563-1683486000-1683502200@spacecityfrequency.com
SUMMARY:Yeah Yeah Yeahs w/ The Faint @ 713 Music Hall
DESCRIPTION:
URL:https://spacecityfrequency.com/event/yeah-yeah-yeahs-713-music-hall/
LOCATION:713 Music Hall\, 401 Franklin St.\, Houston\, TX\, 77201\, United States
ATTACH;FMTTYPE=image/jpeg:https://spacecityfrequency.com/wp-content/uploads/2023/02/yeahsx3.jpg
END:VEVENT
BEGIN:VEVENT
DTSTART;TZID=America/Chicago:20230506T190000
DTEND;TZID=America/Chicago:20230506T230000
DTSTAMP:20260423T131828
CREATED:20230223T033044Z
LAST-MODIFIED:20230223T033044Z
UID:24273-1683399600-1683414000@spacecityfrequency.com
SUMMARY:Pancakes & Booze @ Warehouse Live
DESCRIPTION:
URL:https://spacecityfrequency.com/event/pancakes-booze-warehouse-live-2/
LOCATION:Warehouse Live\, 813 St Emanuel St\, Houston\, TX\, 77003\, United States
ATTACH;FMTTYPE=image/jpeg:https://spacecityfrequency.com/wp-content/uploads/2023/02/booze.jpg
END:VEVENT
BEGIN:VEVENT
DTSTART;TZID=America/Chicago:20230504T190000
DTEND;TZID=America/Chicago:20230504T230000
DTSTAMP:20260423T131828
CREATED:20230223T032807Z
LAST-MODIFIED:20230223T032807Z
UID:24270-1683226800-1683241200@spacecityfrequency.com
SUMMARY:Snow Tha Product @ Warehouse Live
DESCRIPTION:
URL:https://spacecityfrequency.com/event/snow-tha-product-warehouse-live/
LOCATION:Warehouse Live\, 813 St Emanuel St\, Houston\, TX\, 77003\, United States
ATTACH;FMTTYPE=image/jpeg:https://spacecityfrequency.com/wp-content/uploads/2023/02/snow.jpg
END:VEVENT
BEGIN:VEVENT
DTSTART;TZID=America/Chicago:20230503T190000
DTEND;TZID=America/Chicago:20230503T230000
DTSTAMP:20260423T131828
CREATED:20230223T032630Z
LAST-MODIFIED:20230223T032630Z
UID:24267-1683140400-1683154800@spacecityfrequency.com
SUMMARY:Sun Dried Vibes @ Warehouse Live
DESCRIPTION:
URL:https://spacecityfrequency.com/event/sun-dried-vibes-warehouse-live/
LOCATION:Warehouse Live\, 813 St Emanuel St\, Houston\, TX\, 77003\, United States
ATTACH;FMTTYPE=image/jpeg:https://spacecityfrequency.com/wp-content/uploads/2023/02/sun.jpg
END:VEVENT
BEGIN:VEVENT
DTSTART;TZID=America/Chicago:20230502T190000
DTEND;TZID=America/Chicago:20230502T233000
DTSTAMP:20260423T131828
CREATED:20230211T002557Z
LAST-MODIFIED:20230211T002557Z
UID:23865-1683054000-1683070200@spacecityfrequency.com
SUMMARY:Lil Wayne @ House of Blues
DESCRIPTION:
URL:https://spacecityfrequency.com/event/lil-wayne-house-of-blues/
LOCATION:House Of Blues\, 1204 Caroline St.\, Houston\, 77002\, United States
END:VEVENT
BEGIN:VEVENT
DTSTART;TZID=America/Chicago:20230501T190000
DTEND;TZID=America/Chicago:20230501T230000
DTSTAMP:20260423T131828
CREATED:20230223T032457Z
LAST-MODIFIED:20230223T032457Z
UID:24264-1682967600-1682982000@spacecityfrequency.com
SUMMARY:Ella Mai @ Warehouse Live
DESCRIPTION:
URL:https://spacecityfrequency.com/event/ella-mai-warehouse-live/
LOCATION:Warehouse Live\, 813 St Emanuel St\, Houston\, TX\, 77003\, United States
ATTACH;FMTTYPE=image/jpeg:https://spacecityfrequency.com/wp-content/uploads/2023/02/mai.jpg
END:VEVENT
BEGIN:VEVENT
DTSTART;TZID=America/Chicago:20230501T080000
DTEND;TZID=America/Chicago:20230501T170000
DTSTAMP:20260423T131828
CREATED:20230223T011642Z
LAST-MODIFIED:20230223T011642Z
UID:24109-1682928000-1682960400@spacecityfrequency.com
SUMMARY:The Gaslight Anthem @ House of Blues
DESCRIPTION:
URL:https://spacecityfrequency.com/event/the-gaslight-anthem-house-of-blues/
LOCATION:House Of Blues\, 1204 Caroline St.\, Houston\, 77002\, United States
ATTACH;FMTTYPE=image/jpeg:https://spacecityfrequency.com/wp-content/uploads/2023/02/gaslight.jpg
END:VEVENT
BEGIN:VEVENT
DTSTART;TZID=America/Chicago:20230430T190000
DTEND;TZID=America/Chicago:20230430T233000
DTSTAMP:20260423T131828
CREATED:20230223T010416Z
LAST-MODIFIED:20230223T010416Z
UID:24094-1682881200-1682897400@spacecityfrequency.com
SUMMARY:Jon McReynolds @ House of Blues
DESCRIPTION:
URL:https://spacecityfrequency.com/event/jon-mcreynolds-house-of-blues/
LOCATION:House Of Blues\, 1204 Caroline St.\, Houston\, 77002\, United States
ATTACH;FMTTYPE=image/jpeg:https://spacecityfrequency.com/wp-content/uploads/2023/02/truth.jpg
END:VEVENT
BEGIN:VEVENT
DTSTART;TZID=America/Chicago:20230429T190000
DTEND;TZID=America/Chicago:20230429T233000
DTSTAMP:20260423T131828
CREATED:20230223T012724Z
LAST-MODIFIED:20230223T012724Z
UID:24125-1682794800-1682811000@spacecityfrequency.com
SUMMARY:Rico Nasty @ House of Blues
DESCRIPTION:
URL:https://spacecityfrequency.com/event/rico-nasty-house-of-blues/
LOCATION:House Of Blues\, 1204 Caroline St.\, Houston\, 77002\, United States
ATTACH;FMTTYPE=image/jpeg:https://spacecityfrequency.com/wp-content/uploads/2023/02/rico.jpg
END:VEVENT
BEGIN:VEVENT
DTSTART;TZID=America/Chicago:20230429T190000
DTEND;TZID=America/Chicago:20230429T233000
DTSTAMP:20260423T131828
CREATED:20230223T012530Z
LAST-MODIFIED:20230223T012530Z
UID:24122-1682794800-1682811000@spacecityfrequency.com
SUMMARY:Tower of Power @ House of Blues
DESCRIPTION:
URL:https://spacecityfrequency.com/event/tower-of-power-house-of-blues/
LOCATION:House Of Blues\, 1204 Caroline St.\, Houston\, 77002\, United States
ATTACH;FMTTYPE=image/jpeg:https://spacecityfrequency.com/wp-content/uploads/2023/02/towerpower.jpg
END:VEVENT
BEGIN:VEVENT
DTSTART;TZID=America/Chicago:20230429T190000
DTEND;TZID=America/Chicago:20230429T233000
DTSTAMP:20260423T131828
CREATED:20230211T002307Z
LAST-MODIFIED:20230211T002307Z
UID:23863-1682794800-1682811000@spacecityfrequency.com
SUMMARY:Easy Life @ House of Blues
DESCRIPTION:
URL:https://spacecityfrequency.com/event/easy-life-house-of-blues/
LOCATION:House Of Blues\, 1204 Caroline St.\, Houston\, 77002\, United States
END:VEVENT
BEGIN:VEVENT
DTSTART;TZID=America/Chicago:20230429T190000
DTEND;TZID=America/Chicago:20230429T233000
DTSTAMP:20260423T131828
CREATED:20230208T075109Z
LAST-MODIFIED:20230208T075109Z
UID:23638-1682794800-1682811000@spacecityfrequency.com
SUMMARY:Brian Colbertson @ Bayou Music Center
DESCRIPTION:
URL:https://spacecityfrequency.com/event/brian-colbertson-bayou-music-center/
LOCATION:Bayou Music Center\, 520 Texas Ave.\, Houston\, TX\, 77002\, United States
ATTACH;FMTTYPE=image/jpeg:https://spacecityfrequency.com/wp-content/uploads/2023/02/brian.jpg
END:VEVENT
BEGIN:VEVENT
DTSTART;TZID=America/Chicago:20230428T190000
DTEND;TZID=America/Chicago:20230428T233000
DTSTAMP:20260423T131828
CREATED:20230211T002053Z
LAST-MODIFIED:20230211T002053Z
UID:23861-1682708400-1682724600@spacecityfrequency.com
SUMMARY:Goth Babe @ House of Blues
DESCRIPTION:
URL:https://spacecityfrequency.com/event/goth-babe-house-of-blues/
LOCATION:House Of Blues\, 1204 Caroline St.\, Houston\, 77002\, United States
END:VEVENT
END:VCALENDAR