BEGIN:VCALENDAR
VERSION:2.0
PRODID:-//Space City Frequency - ECPv6.15.20//NONSGML v1.0//EN
CALSCALE:GREGORIAN
METHOD:PUBLISH
X-WR-CALNAME:Space City Frequency
X-ORIGINAL-URL:https://spacecityfrequency.com
X-WR-CALDESC:Events for Space City Frequency
REFRESH-INTERVAL;VALUE=DURATION:PT1H
X-Robots-Tag:noindex
X-PUBLISHED-TTL:PT1H
BEGIN:VTIMEZONE
TZID:America/Chicago
BEGIN:DAYLIGHT
TZOFFSETFROM:-0600
TZOFFSETTO:-0500
TZNAME:CDT
DTSTART:20220313T080000
END:DAYLIGHT
BEGIN:STANDARD
TZOFFSETFROM:-0500
TZOFFSETTO:-0600
TZNAME:CST
DTSTART:20221106T070000
END:STANDARD
BEGIN:DAYLIGHT
TZOFFSETFROM:-0600
TZOFFSETTO:-0500
TZNAME:CDT
DTSTART:20230312T080000
END:DAYLIGHT
BEGIN:STANDARD
TZOFFSETFROM:-0500
TZOFFSETTO:-0600
TZNAME:CST
DTSTART:20231105T070000
END:STANDARD
BEGIN:DAYLIGHT
TZOFFSETFROM:-0600
TZOFFSETTO:-0500
TZNAME:CDT
DTSTART:20240310T080000
END:DAYLIGHT
BEGIN:STANDARD
TZOFFSETFROM:-0500
TZOFFSETTO:-0600
TZNAME:CST
DTSTART:20241103T070000
END:STANDARD
BEGIN:DAYLIGHT
TZOFFSETFROM:-0600
TZOFFSETTO:-0500
TZNAME:CDT
DTSTART:20250309T080000
END:DAYLIGHT
BEGIN:STANDARD
TZOFFSETFROM:-0500
TZOFFSETTO:-0600
TZNAME:CST
DTSTART:20251102T070000
END:STANDARD
END:VTIMEZONE
BEGIN:VEVENT
DTSTART;VALUE=DATE:20240824
DTEND;VALUE=DATE:20240826
DTSTAMP:20260423T095748
CREATED:20240816T015439Z
LAST-MODIFIED:20240816T020955Z
UID:33264-1724468400-1724554799@spacecityfrequency.com
SUMMARY:Chris Stapleton at Minute Maid Park
DESCRIPTION:Chris Stapleton brings his All-American Road Show to Minute Maid Park in Houston\, Texas on August 24th\, 2024. Tickets are available at www.chrisstapleton.com/tour/82424-houston-tx/ .
URL:https://spacecityfrequency.com/event/chris-stapleton-at-minute-maid-park/
LOCATION:Minute Maid Park\, 501 Crawford St\, Houston\, TX\, 77002\, United States
CATEGORIES:Concerts
ATTACH;FMTTYPE=image/webp:https://spacecityfrequency.com/wp-content/uploads/2024/08/Static_Social-Facebook_1200x630_ChrisStapleton_2024_Regional_MinuteMaidPark_0824-1.jpg
END:VEVENT
BEGIN:VEVENT
DTSTART;TZID=America/Chicago:20240813T173000
DTEND;TZID=America/Chicago:20240813T235900
DTSTAMP:20260423T095748
CREATED:20240716T121345Z
LAST-MODIFIED:20240816T015144Z
UID:33001-1723570200-1723593540@spacecityfrequency.com
SUMMARY:$uicideboy$ at Toyota Center
DESCRIPTION:Doors: 5:30pm \nShow: 6:30pm \nFeaturing: \n\nSuicideboys \nDenzel Curry \nPouya\nHAARPER \nShakewell\nEkkstacy\n\nToyota Center is excited to welcome back $UICIDEBOY$ on August 13 for their annual Grey Day Tour! Support acts will include Denzel Curry\, Pouya\, HAARPER\, Shakewell\, Ekkstacy. Don’t miss the Grey Day Tour coming to Houston this August!  \nA note from $uicideboy$:\nThis year for Grey Day Tour 2024\, we have partnered with PLUS1 for something very near and dear to us: mental health. $1 per ticket will go towards helping those that need it the most. We are very excited to do this\, and this is only the beginning of our plans to give back to those that have given us so much.
URL:https://spacecityfrequency.com/event/suicideboys-at-toyota-center/
LOCATION:Toyota Center\, 1510 Polk St\, Houston\, 77002\, United States
CATEGORIES:Comedy,Concerts,Sports
ATTACH;FMTTYPE=image/webp:https://spacecityfrequency.com/wp-content/uploads/2024/07/UICIDEBOY-1200X630-31eae2a862.jpg
END:VEVENT
BEGIN:VEVENT
DTSTART;VALUE=DATE:20240302
DTEND;VALUE=DATE:20240304
DTSTAMP:20260423T095748
CREATED:20240208T224826Z
LAST-MODIFIED:20240213T064434Z
UID:29037-1709348400-1709434799@spacecityfrequency.com
SUMMARY:Bésame Mucho Fest in Austin\, TX
DESCRIPTION:Following the massive success of its first edition in Los Angeles\, Besame Mucho Festival expands to Austin\, TX with a star-studded inaugural lineup\, featuring some of the biggest names in Latin music including Los Tigres del Norte\, Bronco\, Grupo Frontera\, Ramon Ayala\, Pesado\, Belanova\, Alejandra Guzmán\, Gloria Trevi\, Kumbia Kings\, Molotov and so much more. Besame Mucho Austin will feature a blend of today’s contemporary hits\, timeless classics\, and rock en español anthems\, creating a unique cultural moment across generations. Visit besamemuchofestival.com/austin for the full lineup & follow their account @besamemuchofest for festival updates ! \n________ \nTras el éxito masivo de su primera edición en Los Ángeles\, el Festival Besame Mucho se expande a Austin\, TX con una alineación inaugural repleta de estrellas\, que incluye algunos de los nombres más grandes de la música latina como Los Tigres del Norte\, Bronco\, Grupo Frontera\, Ramón Ayala\, Pesado\, Belanova\, Alejandra Guzmán\, Gloria Trevi\, Kumbia Kings\, Molotov y mucho más. Besame Mucho Austin ofrecerá una mezcla de éxitos contemporáneos\, clásicos atemporales y himnos del rock en español\, creando un momento cultural único que atraviesa generaciones. Visita besamemuchofestival.com/austin para ver la alineación completa y sigue su cuenta @besamemuchofest para recibir actualizaciones del festival.
URL:https://spacecityfrequency.com/event/besame-mucho-fest-in-austin-tx/
LOCATION:Circuit of the Americas\, 9201 Circuit of the Americas Blvd\, Austin\, Texas\, 78617
ATTACH;FMTTYPE=image/jpeg:https://spacecityfrequency.com/wp-content/uploads/2024/02/65458368440c1238e7defc85_BesameMucho_2024v3-2-2.jpg
END:VEVENT
BEGIN:VEVENT
DTSTART;TZID=America/Chicago:20231028T190000
DTEND;TZID=America/Chicago:20231028T233000
DTSTAMP:20260423T095748
CREATED:20230223T011758Z
LAST-MODIFIED:20240816T014908Z
UID:24112-1698519600-1698535800@spacecityfrequency.com
SUMMARY:Ryan Davis @ House of Blues
DESCRIPTION:
URL:https://spacecityfrequency.com/event/ryan-davis-house-of-blues/
LOCATION:House Of Blues\, 1204 Caroline St.\, Houston\, 77002\, United States
ATTACH;FMTTYPE=image/jpeg:https://spacecityfrequency.com/wp-content/uploads/2023/02/davis.jpg
END:VEVENT
BEGIN:VEVENT
DTSTART;TZID=America/Chicago:20231003T190000
DTEND;TZID=America/Chicago:20231003T233000
DTSTAMP:20260423T095748
CREATED:20230208T080004Z
LAST-MODIFIED:20230208T080004Z
UID:23654-1696359600-1696375800@spacecityfrequency.com
SUMMARY:Death Grips @ Bayou Music Center
DESCRIPTION:
URL:https://spacecityfrequency.com/event/death-grips-bayou-music-center/
LOCATION:Bayou Music Center\, 520 Texas Ave.\, Houston\, TX\, 77002\, United States
ATTACH;FMTTYPE=image/jpeg:https://spacecityfrequency.com/wp-content/uploads/2023/02/deathgrips.jpg
END:VEVENT
BEGIN:VEVENT
DTSTART;TZID=America/Chicago:20230930T190000
DTEND;TZID=America/Chicago:20230930T233000
DTSTAMP:20260423T095748
CREATED:20230208T082711Z
LAST-MODIFIED:20230208T082711Z
UID:23678-1696100400-1696116600@spacecityfrequency.com
SUMMARY:The Mavericks @ House of Blues
DESCRIPTION:
URL:https://spacecityfrequency.com/event/the-mavericks-house-of-blues/
LOCATION:House Of Blues\, 1204 Caroline St.\, Houston\, 77002\, United States
ATTACH;FMTTYPE=image/jpeg:https://spacecityfrequency.com/wp-content/uploads/2023/02/mavericks.jpg
END:VEVENT
BEGIN:VEVENT
DTSTART;TZID=America/Chicago:20230814T190000
DTEND;TZID=America/Chicago:20230814T233000
DTSTAMP:20260423T095748
CREATED:20230223T011330Z
LAST-MODIFIED:20230223T011330Z
UID:24103-1692039600-1692055800@spacecityfrequency.com
SUMMARY:JVKE @ House of Blues
DESCRIPTION:
URL:https://spacecityfrequency.com/event/jvke-house-of-blues/
LOCATION:House Of Blues\, 1204 Caroline St.\, Houston\, 77002\, United States
ATTACH;FMTTYPE=image/jpeg:https://spacecityfrequency.com/wp-content/uploads/2023/02/jvke.jpg
END:VEVENT
BEGIN:VEVENT
DTSTART;TZID=America/Chicago:20230727T190000
DTEND;TZID=America/Chicago:20230727T233000
DTSTAMP:20260423T095748
CREATED:20230208T071420Z
LAST-MODIFIED:20230208T071420Z
UID:23587-1690484400-1690500600@spacecityfrequency.com
SUMMARY:Young the Giant @ 713 Music Hall
DESCRIPTION:
URL:https://spacecityfrequency.com/event/young-the-giant-713-music-hall/
LOCATION:713 Music Hall\, 401 Franklin St.\, Houston\, TX\, 77201\, United States
END:VEVENT
BEGIN:VEVENT
DTSTART;TZID=America/Chicago:20230725T190000
DTEND;TZID=America/Chicago:20230725T230000
DTSTAMP:20260423T095748
CREATED:20230223T015200Z
LAST-MODIFIED:20230223T015200Z
UID:24150-1690311600-1690326000@spacecityfrequency.com
SUMMARY:Yellowcard @ 713 Music Hall
DESCRIPTION:
URL:https://spacecityfrequency.com/event/yellowcard-713-music-hall/
LOCATION:713 Music Hall\, 401 Franklin St.\, Houston\, TX\, 77201\, United States
ATTACH;FMTTYPE=image/jpeg:https://spacecityfrequency.com/wp-content/uploads/2023/02/yellowc.jpg
END:VEVENT
BEGIN:VEVENT
DTSTART;TZID=America/Chicago:20230714T190000
DTEND;TZID=America/Chicago:20230714T233000
DTSTAMP:20260423T095748
CREATED:20230223T013314Z
LAST-MODIFIED:20230223T013314Z
UID:24134-1689361200-1689377400@spacecityfrequency.com
SUMMARY:Ace Frehley @ House of Blues
DESCRIPTION:
URL:https://spacecityfrequency.com/event/ace-frehley-house-of-blues/
LOCATION:House Of Blues\, 1204 Caroline St.\, Houston\, 77002\, United States
ATTACH;FMTTYPE=image/jpeg:https://spacecityfrequency.com/wp-content/uploads/2023/02/acef.jpg
END:VEVENT
BEGIN:VEVENT
DTSTART;TZID=America/Chicago:20230702T190000
DTEND;TZID=America/Chicago:20230702T233000
DTSTAMP:20260423T095748
CREATED:20230208T071255Z
LAST-MODIFIED:20230208T071255Z
UID:23582-1688324400-1688340600@spacecityfrequency.com
SUMMARY:Illenium @ 713 Music Hall
DESCRIPTION:
URL:https://spacecityfrequency.com/event/illenium-713-music-hall/
LOCATION:713 Music Hall\, 401 Franklin St.\, Houston\, TX\, 77201\, United States
ATTACH;FMTTYPE=image/jpeg:https://spacecityfrequency.com/wp-content/uploads/2023/02/illenium.jpg
END:VEVENT
BEGIN:VEVENT
DTSTART;TZID=America/Chicago:20230626T190000
DTEND;TZID=America/Chicago:20230626T233000
DTSTAMP:20260423T095748
CREATED:20230223T012956Z
LAST-MODIFIED:20230223T012956Z
UID:24128-1687806000-1687822200@spacecityfrequency.com
SUMMARY:Bebe Rexha @ House of Blues
DESCRIPTION:
URL:https://spacecityfrequency.com/event/bebe-rexha-house-of-blues/
LOCATION:House Of Blues\, 1204 Caroline St.\, Houston\, 77002\, United States
ATTACH;FMTTYPE=image/jpeg:https://spacecityfrequency.com/wp-content/uploads/2023/02/bebe.jpg
END:VEVENT
BEGIN:VEVENT
DTSTART;TZID=America/Chicago:20230623T190000
DTEND;TZID=America/Chicago:20230623T233000
DTSTAMP:20260423T095748
CREATED:20230208T075827Z
LAST-MODIFIED:20230208T075827Z
UID:23650-1687546800-1687563000@spacecityfrequency.com
SUMMARY:The Pixies\, Franz Ferdinand @ Bayou Music Center
DESCRIPTION:
URL:https://spacecityfrequency.com/event/the-pixies-franz-ferdinand-bayou-music-center/
LOCATION:Bayou Music Center\, 520 Texas Ave.\, Houston\, TX\, 77002\, United States
ATTACH;FMTTYPE=image/jpeg:https://spacecityfrequency.com/wp-content/uploads/2023/02/pixies.jpg
END:VEVENT
BEGIN:VEVENT
DTSTART;TZID=America/Chicago:20230606T190000
DTEND;TZID=America/Chicago:20230606T233000
DTSTAMP:20260423T095748
CREATED:20230223T011449Z
LAST-MODIFIED:20230223T011449Z
UID:24106-1686078000-1686094200@spacecityfrequency.com
SUMMARY:Anees @ House of Blues
DESCRIPTION:
URL:https://spacecityfrequency.com/event/anees-house-of-blues/
LOCATION:House Of Blues\, 1204 Caroline St.\, Houston\, 77002\, United States
ATTACH;FMTTYPE=image/jpeg:https://spacecityfrequency.com/wp-content/uploads/2023/02/anees.jpg
END:VEVENT
BEGIN:VEVENT
DTSTART;TZID=America/Chicago:20230603T190000
DTEND;TZID=America/Chicago:20230603T233000
DTSTAMP:20260423T095748
CREATED:20230208T075643Z
LAST-MODIFIED:20230208T075643Z
UID:23647-1685818800-1685835000@spacecityfrequency.com
SUMMARY:Rebelution @ Bayou Music Center
DESCRIPTION:
URL:https://spacecityfrequency.com/event/rebelution-bayou-music-center/
LOCATION:Bayou Music Center\, 520 Texas Ave.\, Houston\, TX\, 77002\, United States
ATTACH;FMTTYPE=image/jpeg:https://spacecityfrequency.com/wp-content/uploads/2023/02/rebeloution.jpg
END:VEVENT
BEGIN:VEVENT
DTSTART;TZID=America/Chicago:20230526T190000
DTEND;TZID=America/Chicago:20230526T233000
DTSTAMP:20260423T095748
CREATED:20230208T075415Z
LAST-MODIFIED:20230208T075415Z
UID:23644-1685127600-1685143800@spacecityfrequency.com
SUMMARY:The Sisters of Mercy @ Bayou Music Center
DESCRIPTION:
URL:https://spacecityfrequency.com/event/the-sisters-of-mercy-bayou-music-center/
LOCATION:Bayou Music Center\, 520 Texas Ave.\, Houston\, TX\, 77002\, United States
ATTACH;FMTTYPE=image/jpeg:https://spacecityfrequency.com/wp-content/uploads/2023/02/sistermercy.jpg
END:VEVENT
BEGIN:VEVENT
DTSTART;TZID=America/Chicago:20230526T190000
DTEND;TZID=America/Chicago:20230526T190000
DTSTAMP:20260423T095748
CREATED:20230208T071111Z
LAST-MODIFIED:20240816T015332Z
UID:23579-1685127600-1685127600@spacecityfrequency.com
SUMMARY:Dermot Kennedy @ 713 Music Hall
DESCRIPTION:
URL:https://spacecityfrequency.com/event/dermot-kennedy-713-music-hall/
END:VEVENT
BEGIN:VEVENT
DTSTART;TZID=America/Chicago:20230522T190000
DTEND;TZID=America/Chicago:20230522T233000
DTSTAMP:20260423T095748
CREATED:20230208T232335Z
LAST-MODIFIED:20230208T232335Z
UID:23702-1684782000-1684798200@spacecityfrequency.com
SUMMARY:Hayley Kiyoko @ House of Blues
DESCRIPTION:
URL:https://spacecityfrequency.com/event/hayley-kiyoko-house-of-blues/
LOCATION:House Of Blues\, 1204 Caroline St.\, Houston\, 77002\, United States
ATTACH;FMTTYPE=image/jpeg:https://spacecityfrequency.com/wp-content/uploads/2023/02/hayley.jpg
END:VEVENT
BEGIN:VEVENT
DTSTART;TZID=America/Chicago:20230521T190000
DTEND;TZID=America/Chicago:20230521T233000
DTSTAMP:20260423T095748
CREATED:20230223T010706Z
LAST-MODIFIED:20230223T010706Z
UID:24097-1684695600-1684711800@spacecityfrequency.com
SUMMARY:Panchiko @ House of Blues
DESCRIPTION:
URL:https://spacecityfrequency.com/event/panchiko-house-of-blues/
LOCATION:House Of Blues\, 1204 Caroline St.\, Houston\, 77002\, United States
ATTACH;FMTTYPE=image/jpeg:https://spacecityfrequency.com/wp-content/uploads/2023/02/pankchinko.jpg
END:VEVENT
BEGIN:VEVENT
DTSTART;TZID=America/Chicago:20230521T190000
DTEND;TZID=America/Chicago:20230521T233000
DTSTAMP:20260423T095748
CREATED:20230208T070825Z
LAST-MODIFIED:20230208T070825Z
UID:23576-1684695600-1684711800@spacecityfrequency.com
SUMMARY:It's Time @ 713 Music Hall
DESCRIPTION:
URL:https://spacecityfrequency.com/event/its-time-713-music-hall/
LOCATION:713 Music Hall\, 401 Franklin St.\, Houston\, TX\, 77201\, United States
ATTACH;FMTTYPE=image/jpeg:https://spacecityfrequency.com/wp-content/uploads/2023/02/its-time.jpg
END:VEVENT
BEGIN:VEVENT
DTSTART;TZID=America/Chicago:20230519T190000
DTEND;TZID=America/Chicago:20230519T233000
DTSTAMP:20260423T095748
CREATED:20230208T234808Z
LAST-MODIFIED:20230208T234808Z
UID:23720-1684522800-1684539000@spacecityfrequency.com
SUMMARY:Ruston Kelly @ House of Blues
DESCRIPTION:
URL:https://spacecityfrequency.com/event/ruston-kelly-house-of-blues/
LOCATION:House Of Blues\, 1204 Caroline St.\, Houston\, 77002\, United States
ATTACH;FMTTYPE=image/jpeg:https://spacecityfrequency.com/wp-content/uploads/2023/02/ruston-Kelly.jpg
END:VEVENT
BEGIN:VEVENT
DTSTART;TZID=America/Chicago:20230519T190000
DTEND;TZID=America/Chicago:20230519T233000
DTSTAMP:20260423T095748
CREATED:20230208T075241Z
LAST-MODIFIED:20230208T075241Z
UID:23641-1684522800-1684539000@spacecityfrequency.com
SUMMARY:The Backseat Lovers @ Bayou Music Center
DESCRIPTION:
URL:https://spacecityfrequency.com/event/the-backseat-lovers-bayou-music-center/
LOCATION:Bayou Music Center\, 520 Texas Ave.\, Houston\, TX\, 77002\, United States
ATTACH;FMTTYPE=image/jpeg:https://spacecityfrequency.com/wp-content/uploads/2023/02/backseat.jpg
END:VEVENT
BEGIN:VEVENT
DTSTART;TZID=America/Chicago:20230519T190000
DTEND;TZID=America/Chicago:20230519T233000
DTSTAMP:20260423T095748
CREATED:20230208T070238Z
LAST-MODIFIED:20230208T070238Z
UID:23573-1684522800-1684539000@spacecityfrequency.com
SUMMARY:The Mars Volta @ 713 Music Hall
DESCRIPTION:
URL:https://spacecityfrequency.com/event/the-mars-volta-713-music-hall/
LOCATION:713 Music Hall\, 401 Franklin St.\, Houston\, TX\, 77201\, United States
ATTACH;FMTTYPE=image/jpeg:https://spacecityfrequency.com/wp-content/uploads/2023/02/volta.jpg
END:VEVENT
BEGIN:VEVENT
DTSTART;TZID=America/Chicago:20230518T190000
DTEND;TZID=America/Chicago:20230518T233000
DTSTAMP:20260423T095748
CREATED:20230208T234427Z
LAST-MODIFIED:20230208T234427Z
UID:23717-1684436400-1684452600@spacecityfrequency.com
SUMMARY:Coheed & Cambria @ House of Blues
DESCRIPTION:
URL:https://spacecityfrequency.com/event/coheed-cambria-house-of-blues/
LOCATION:House Of Blues\, 1204 Caroline St.\, Houston\, 77002\, United States
ATTACH;FMTTYPE=image/jpeg:https://spacecityfrequency.com/wp-content/uploads/2023/02/coheed-may.jpg
END:VEVENT
BEGIN:VEVENT
DTSTART;TZID=America/Chicago:20230517T190000
DTEND;TZID=America/Chicago:20230517T233000
DTSTAMP:20260423T095748
CREATED:20230208T235600Z
LAST-MODIFIED:20230208T235600Z
UID:23726-1684350000-1684366200@spacecityfrequency.com
SUMMARY:Thrill Kill Kult @ House of Blues
DESCRIPTION:
URL:https://spacecityfrequency.com/event/thrill-kill-kult-house-of-blues/
LOCATION:House Of Blues\, 1204 Caroline St.\, Houston\, 77002\, United States
ATTACH;FMTTYPE=image/jpeg:https://spacecityfrequency.com/wp-content/uploads/2023/02/killkult.jpg
END:VEVENT
BEGIN:VEVENT
DTSTART;TZID=America/Chicago:20230517T190000
DTEND;TZID=America/Chicago:20230517T230000
DTSTAMP:20260423T095748
CREATED:20230208T231126Z
LAST-MODIFIED:20230208T231126Z
UID:23696-1684350000-1684364400@spacecityfrequency.com
SUMMARY:Meg Myers @ House of Blues
DESCRIPTION:
URL:https://spacecityfrequency.com/event/meg-myers-house-of-blues/
LOCATION:House Of Blues\, 1204 Caroline St.\, Houston\, 77002\, United States
ATTACH;FMTTYPE=image/jpeg:https://spacecityfrequency.com/wp-content/uploads/2023/02/meg.jpg
END:VEVENT
BEGIN:VEVENT
DTSTART;TZID=America/Chicago:20230516T190000
DTEND;TZID=America/Chicago:20230516T233000
DTSTAMP:20260423T095748
CREATED:20230223T011051Z
LAST-MODIFIED:20230223T011051Z
UID:24100-1684263600-1684279800@spacecityfrequency.com
SUMMARY:Leon Larregui @ House of Blues
DESCRIPTION:
URL:https://spacecityfrequency.com/event/leon-larregui-house-of-blues/
LOCATION:House Of Blues\, 1204 Caroline St.\, Houston\, 77002\, United States
ATTACH;FMTTYPE=image/jpeg:https://spacecityfrequency.com/wp-content/uploads/2023/02/leon.jpg
END:VEVENT
BEGIN:VEVENT
DTSTART;TZID=America/Chicago:20230514T190000
DTEND;TZID=America/Chicago:20230514T233000
DTSTAMP:20260423T095748
CREATED:20230209T003001Z
LAST-MODIFIED:20230209T003001Z
UID:23741-1684090800-1684107000@spacecityfrequency.com
SUMMARY:Caifanes @ House of Blues
DESCRIPTION:
URL:https://spacecityfrequency.com/event/caifanes-house-of-blues-2/
LOCATION:House Of Blues\, 1204 Caroline St.\, Houston\, 77002\, United States
ATTACH;FMTTYPE=image/jpeg:https://spacecityfrequency.com/wp-content/uploads/2023/02/caifanes.jpg
END:VEVENT
BEGIN:VEVENT
DTSTART;TZID=America/Chicago:20230513T190000
DTEND;TZID=America/Chicago:20230513T233000
DTSTAMP:20260423T095748
CREATED:20230208T234152Z
LAST-MODIFIED:20230208T234152Z
UID:23714-1684004400-1684020600@spacecityfrequency.com
SUMMARY:Peter Cat @ House of Blues
DESCRIPTION:
URL:https://spacecityfrequency.com/event/peter-cat-house-of-blues/
LOCATION:House Of Blues\, 1204 Caroline St.\, Houston\, 77002\, United States
ATTACH;FMTTYPE=image/jpeg:https://spacecityfrequency.com/wp-content/uploads/2023/02/peter-cat.jpg
END:VEVENT
BEGIN:VEVENT
DTSTART;TZID=America/Chicago:20230513T190000
DTEND;TZID=America/Chicago:20230513T190000
DTSTAMP:20260423T095748
CREATED:20230208T065945Z
LAST-MODIFIED:20230208T065945Z
UID:23570-1684004400-1684004400@spacecityfrequency.com
SUMMARY:YUNGBLUD @ 713 Music Hall
DESCRIPTION:
URL:https://spacecityfrequency.com/event/yungblud-713-music-hall/
LOCATION:713 Music Hall\, 401 Franklin St.\, Houston\, TX\, 77201\, United States
ATTACH;FMTTYPE=image/jpeg:https://spacecityfrequency.com/wp-content/uploads/2023/02/blud.jpg
END:VEVENT
END:VCALENDAR