BEGIN:VCALENDAR
VERSION:2.0
PRODID:-//Space City Frequency - ECPv6.15.20//NONSGML v1.0//EN
CALSCALE:GREGORIAN
METHOD:PUBLISH
X-WR-CALNAME:Space City Frequency
X-ORIGINAL-URL:https://spacecityfrequency.com
X-WR-CALDESC:Events for Space City Frequency
REFRESH-INTERVAL;VALUE=DURATION:PT1H
X-Robots-Tag:noindex
X-PUBLISHED-TTL:PT1H
BEGIN:VTIMEZONE
TZID:America/Chicago
BEGIN:DAYLIGHT
TZOFFSETFROM:-0600
TZOFFSETTO:-0500
TZNAME:CDT
DTSTART:20230312T080000
END:DAYLIGHT
BEGIN:STANDARD
TZOFFSETFROM:-0500
TZOFFSETTO:-0600
TZNAME:CST
DTSTART:20231105T070000
END:STANDARD
BEGIN:DAYLIGHT
TZOFFSETFROM:-0600
TZOFFSETTO:-0500
TZNAME:CDT
DTSTART:20240310T080000
END:DAYLIGHT
BEGIN:STANDARD
TZOFFSETFROM:-0500
TZOFFSETTO:-0600
TZNAME:CST
DTSTART:20241103T070000
END:STANDARD
BEGIN:DAYLIGHT
TZOFFSETFROM:-0600
TZOFFSETTO:-0500
TZNAME:CDT
DTSTART:20250309T080000
END:DAYLIGHT
BEGIN:STANDARD
TZOFFSETFROM:-0500
TZOFFSETTO:-0600
TZNAME:CST
DTSTART:20251102T070000
END:STANDARD
BEGIN:DAYLIGHT
TZOFFSETFROM:-0600
TZOFFSETTO:-0500
TZNAME:CDT
DTSTART:20260308T080000
END:DAYLIGHT
BEGIN:STANDARD
TZOFFSETFROM:-0500
TZOFFSETTO:-0600
TZNAME:CST
DTSTART:20261101T070000
END:STANDARD
END:VTIMEZONE
BEGIN:VEVENT
DTSTART;TZID=America/Chicago:20250411T190000
DTEND;TZID=America/Chicago:20250411T230000
DTSTAMP:20260423T014451
CREATED:20241219T071715Z
LAST-MODIFIED:20241219T071715Z
UID:37152-1744398000-1744412400@spacecityfrequency.com
SUMMARY:Vincent Mason @ The Bronze Peacock
DESCRIPTION:View this post on Instagram
URL:https://spacecityfrequency.com/event/vincent-mason-the-bronze-peacock/
LOCATION:The Bronze Peacock
END:VEVENT
BEGIN:VEVENT
DTSTART;TZID=America/Chicago:20250318T190000
DTEND;TZID=America/Chicago:20250318T230000
DTSTAMP:20260423T014451
CREATED:20241219T074150Z
LAST-MODIFIED:20241219T074150Z
UID:37168-1742324400-1742338800@spacecityfrequency.com
SUMMARY:The Army The Navy @ The Bronze Peacock
DESCRIPTION:View this post on Instagram
URL:https://spacecityfrequency.com/event/the-army-the-navy-the-bronze-peacock/
LOCATION:The Bronze Peacock
CATEGORIES:Concerts
END:VEVENT
BEGIN:VEVENT
DTSTART;TZID=America/Chicago:20250309T190000
DTEND;TZID=America/Chicago:20250309T220000
DTSTAMP:20260423T014451
CREATED:20241219T072535Z
LAST-MODIFIED:20241219T072535Z
UID:37154-1741546800-1741557600@spacecityfrequency.com
SUMMARY:Rich Amiri @ House of Blues
DESCRIPTION:View this post on Instagram
URL:https://spacecityfrequency.com/event/rich-amiri-house-of-blues/
LOCATION:House Of Blues\, 1204 Caroline St.\, Houston\, 77002\, United States
END:VEVENT
BEGIN:VEVENT
DTSTART;TZID=America/Chicago:20250308T190000
DTEND;TZID=America/Chicago:20250308T230000
DTSTAMP:20260423T014451
CREATED:20241219T073735Z
LAST-MODIFIED:20241219T073735Z
UID:37164-1741460400-1741474800@spacecityfrequency.com
SUMMARY:Flogging Molly @ House of Blues
DESCRIPTION:View this post on Instagram
URL:https://spacecityfrequency.com/event/flogging-molly-house-of-blues/
LOCATION:House Of Blues\, 1204 Caroline St.\, Houston\, 77002\, United States
CATEGORIES:Concerts
END:VEVENT
BEGIN:VEVENT
DTSTART;TZID=America/Chicago:20250303T183000
DTEND;TZID=America/Chicago:20250303T230000
DTSTAMP:20260423T014451
CREATED:20241219T074727Z
LAST-MODIFIED:20241219T074727Z
UID:37171-1741026600-1741042800@spacecityfrequency.com
SUMMARY:Weathers @ The Bronze Peacock
DESCRIPTION:View this post on Instagram
URL:https://spacecityfrequency.com/event/weathers-the-bronze-peacock/
LOCATION:The Bronze Peacock
CATEGORIES:Concerts
END:VEVENT
BEGIN:VEVENT
DTSTART;TZID=America/Chicago:20250223T190000
DTEND;TZID=America/Chicago:20250223T230000
DTSTAMP:20260423T014451
CREATED:20241219T073221Z
LAST-MODIFIED:20241219T073221Z
UID:37160-1740337200-1740351600@spacecityfrequency.com
SUMMARY:Jackopierce @ House of Blues
DESCRIPTION:View this post on Instagram
URL:https://spacecityfrequency.com/event/jackopierce-house-of-blues/
LOCATION:House Of Blues\, 1204 Caroline St.\, Houston\, 77002\, United States
CATEGORIES:Concerts
END:VEVENT
BEGIN:VEVENT
DTSTART;TZID=America/Chicago:20250222T180000
DTEND;TZID=America/Chicago:20250222T230000
DTSTAMP:20260423T014451
CREATED:20241222T075909Z
LAST-MODIFIED:20241222T075909Z
UID:37176-1740247200-1740265200@spacecityfrequency.com
SUMMARY:The Backfires @ The Bronze Peacock
DESCRIPTION:View this post on Instagram
URL:https://spacecityfrequency.com/event/the-backfires-the-bronze-peacock/
LOCATION:The Bronze Peacock
END:VEVENT
BEGIN:VEVENT
DTSTART;TZID=America/Chicago:20250221T190000
DTEND;TZID=America/Chicago:20250221T230000
DTSTAMP:20260423T014451
CREATED:20241222T080304Z
LAST-MODIFIED:20241222T080304Z
UID:37180-1740164400-1740178800@spacecityfrequency.com
SUMMARY:Stephen Pearcy @ House of Blues
DESCRIPTION:View this post on Instagram
URL:https://spacecityfrequency.com/event/stephen-pearcy-house-of-blues/
LOCATION:House Of Blues\, 1204 Caroline St.\, Houston\, 77002\, United States
END:VEVENT
BEGIN:VEVENT
DTSTART;TZID=America/Chicago:20250220T190000
DTEND;TZID=America/Chicago:20250220T230000
DTSTAMP:20260423T014451
CREATED:20241218T021513Z
LAST-MODIFIED:20241218T021513Z
UID:37114-1740078000-1740092400@spacecityfrequency.com
SUMMARY:Sahbabii @ The Bronze Peacock
DESCRIPTION:View this post on Instagram
URL:https://spacecityfrequency.com/event/sahbabii-the-bronze-peacock/
LOCATION:The Bronze Peacock
CATEGORIES:Concerts
END:VEVENT
BEGIN:VEVENT
DTSTART;TZID=America/Chicago:20250214T190000
DTEND;TZID=America/Chicago:20250214T230000
DTSTAMP:20260423T014451
CREATED:20241219T070826Z
LAST-MODIFIED:20241219T070826Z
UID:37142-1739559600-1739574000@spacecityfrequency.com
SUMMARY:Hudson Westbrook @ House of Blues
DESCRIPTION:View this post on Instagram
URL:https://spacecityfrequency.com/event/hudson-westbrook-house-of-blues/
LOCATION:House Of Blues\, 1204 Caroline St.\, Houston\, 77002\, United States
END:VEVENT
BEGIN:VEVENT
DTSTART;TZID=America/Chicago:20250211T190000
DTEND;TZID=America/Chicago:20250211T230000
DTSTAMP:20260423T014451
CREATED:20241219T073027Z
LAST-MODIFIED:20241219T073027Z
UID:37158-1739300400-1739314800@spacecityfrequency.com
SUMMARY:Triple S @ House of Blues
DESCRIPTION:View this post on Instagram
URL:https://spacecityfrequency.com/event/triple-s-house-of-blues/
LOCATION:House Of Blues\, 1204 Caroline St.\, Houston\, 77002\, United States
CATEGORIES:Concerts
END:VEVENT
BEGIN:VEVENT
DTSTART;TZID=America/Chicago:20250129T110000
DTEND;TZID=America/Chicago:20250202T180000
DTSTAMP:20260423T014451
CREATED:20250117T030850Z
LAST-MODIFIED:20250117T030850Z
UID:37237-1738148400-1738519200@spacecityfrequency.com
SUMMARY:Houston Auto Show
DESCRIPTION:From January 29th to February 2nd the Houston Auto Show will showcase the latest and greatest automotive technology as well as rare and specialty cars at NRG Center. The Houston Auto Show is produced by the Houston Auto Dealers Association. This year’s show will be the 42nd but only the 3rd year of it being combined with the the Houston Boat Show\, which is why it’s also called The Houston AutoBoative show. General admission is $20 and tickets can be purchased at www.houstonautoshow.com/tickets.
URL:https://spacecityfrequency.com/event/houston-auto-show/
LOCATION:NRG Center\, 1 NRG Park\, Houston\, TX\, 77054\, United States
CATEGORIES:Auto
ATTACH;FMTTYPE=image/png:https://spacecityfrequency.com/wp-content/uploads/2025/01/Screenshot-2025-01-16-at-8.37.48 PM-1.png
END:VEVENT
BEGIN:VEVENT
DTSTART;TZID=America/Chicago:20250128T170000
DTEND;TZID=America/Chicago:20250128T200000
DTSTAMP:20260423T014451
CREATED:20250117T025610Z
LAST-MODIFIED:20250117T025610Z
UID:37231-1738083600-1738094400@spacecityfrequency.com
SUMMARY:The Houston AutoBoative Show VIP Social
DESCRIPTION:On Tuesday\, January 28\, The Houston Auto Show will present A Night at the Auto Museum: The Houston AutoBoative Show VIP Social. This private event will feature the private collection of Tony Gullo Sr. with entertainment and lite bites and drinks. It will be held ahead of the official opening of The Houston Auto Show and tickets are $75\, available at www.houstonautoshow.com/vip. 
URL:https://spacecityfrequency.com/event/the-houston-autoboative-show-vip-social/
LOCATION:NRG Center\, 1 NRG Park\, Houston\, TX\, 77054\, United States
CATEGORIES:Auto
ATTACH;FMTTYPE=image/png:https://spacecityfrequency.com/wp-content/uploads/2025/01/Screenshot-2025-01-16-at-8.53.01 PM.png
END:VEVENT
BEGIN:VEVENT
DTSTART;TZID=America/Chicago:20250123T190000
DTEND;TZID=America/Chicago:20250123T230000
DTSTAMP:20260423T014451
CREATED:20241219T072723Z
LAST-MODIFIED:20241219T072723Z
UID:37156-1737658800-1737673200@spacecityfrequency.com
SUMMARY:Glokk40spaz @ House of Blues
DESCRIPTION:View this post on Instagram
URL:https://spacecityfrequency.com/event/glokk40spaz-house-of-blues/
LOCATION:House Of Blues\, 1204 Caroline St.\, Houston\, 77002\, United States
END:VEVENT
BEGIN:VEVENT
DTSTART;TZID=America/Chicago:20250110T190000
DTEND;TZID=America/Chicago:20250110T230000
DTSTAMP:20260423T014451
CREATED:20241219T073937Z
LAST-MODIFIED:20241219T073937Z
UID:37166-1736535600-1736550000@spacecityfrequency.com
SUMMARY:The Ocean Blue @ The Bronze Peacock
DESCRIPTION:View this post on Instagram
URL:https://spacecityfrequency.com/event/the-ocean-blue-the-bronze-peacock/
LOCATION:The Bronze Peacock
CATEGORIES:Concerts
END:VEVENT
BEGIN:VEVENT
DTSTART;TZID=America/Chicago:20241228T190000
DTEND;TZID=America/Chicago:20241228T230000
DTSTAMP:20260423T014451
CREATED:20241219T070533Z
LAST-MODIFIED:20241219T070533Z
UID:37140-1735412400-1735426800@spacecityfrequency.com
SUMMARY:Bone Thugs-n-Harmony @ House of Blues
DESCRIPTION:View this post on Instagram
URL:https://spacecityfrequency.com/event/bone-thugs-n-harmony-house-of-blues/
LOCATION:House Of Blues\, 1204 Caroline St.\, Houston\, 77002\, United States
CATEGORIES:Concerts
END:VEVENT
BEGIN:VEVENT
DTSTART;VALUE=DATE:20241010
DTEND;VALUE=DATE:20241012
DTSTAMP:20260423T014451
CREATED:20240911T045631Z
LAST-MODIFIED:20240911T045632Z
UID:34184-1728529200-1728615599@spacecityfrequency.com
SUMMARY:Remi Wolf with Slimdan at White Oak Music Hall
DESCRIPTION:Remi Wolf performs at the White Oak Music Hall Lawn. Tickets available at https://whiteoakmusichall.com/shows/tm-event/remi-wolf-with-slimdan/
URL:https://spacecityfrequency.com/event/remi-wolf-with-slimdan-at-white-oak-music-hall/
LOCATION:White Oak Music Hall\, 2915 N Main St.\, Houston\, TX\, 77009\, United States
CATEGORIES:Concerts
ATTACH;FMTTYPE=image/jpeg:https://spacecityfrequency.com/wp-content/uploads/2024/09/92a705ac-76b4-49c5-bf95-a2c384ddbfb7_TABLET_LANDSCAPE_16_9.jpg
END:VEVENT
BEGIN:VEVENT
DTSTART;TZID=America/Chicago:20240929T190000
DTEND;TZID=America/Chicago:20240929T230000
DTSTAMP:20260423T014451
CREATED:20240908T040524Z
LAST-MODIFIED:20240925T062328Z
UID:34712-1727636400-1727650800@spacecityfrequency.com
SUMMARY:Friday Pilots Club - The Nowhere Tour - Bronze Peacock
DESCRIPTION:Doors Open: 7:00 PM\nPrices: $20.00\nArtist(s) At This Event: Friday Pilots Club\, OSTON\, Maggie Miles
URL:https://spacecityfrequency.com/event/friday-pilots-club-the-nowhere-tour-bronze-peacock/
LOCATION:House Of Blues\, 1204 Caroline St.\, Houston\, 77002\, United States
CATEGORIES:Concerts
END:VEVENT
BEGIN:VEVENT
DTSTART;TZID=America/Chicago:20240929T180000
DTEND;TZID=America/Chicago:20240929T230000
DTSTAMP:20260423T014451
CREATED:20240924T040232Z
LAST-MODIFIED:20240924T040232Z
UID:34710-1727632800-1727650800@spacecityfrequency.com
SUMMARY:Dayseeker at House of Blues
DESCRIPTION:Doors Open: 6:00 PM\nPrices: $32.50 to $49.50\nArtist(s) At This Event: Kingdom of Giants\, Dayseeker\, Alpha Wolf\, Catch Your Breath
URL:https://spacecityfrequency.com/event/dayseeker-at-house-of-blues/
CATEGORIES:Concerts
END:VEVENT
BEGIN:VEVENT
DTSTART;VALUE=DATE:20240929
DTEND;VALUE=DATE:20241001
DTSTAMP:20260423T014451
CREATED:20240911T043730Z
LAST-MODIFIED:20240911T043731Z
UID:34172-1727578800-1727665199@spacecityfrequency.com
SUMMARY:Jacksonville Jaguars vs. Houston Texans
DESCRIPTION:The Jacksonville Jaguars face off with the Houston Texans at NRG Stadium. Tickets available at https://www.houstontexans.com/tickets/
URL:https://spacecityfrequency.com/event/jacksonville-jaguars-vs-houston-texans/
CATEGORIES:Sports
ATTACH;FMTTYPE=image/jpeg:https://spacecityfrequency.com/wp-content/uploads/2024/09/Houston-Texans.jpg
END:VEVENT
BEGIN:VEVENT
DTSTART;VALUE=DATE:20240928
DTEND;VALUE=DATE:20240930
DTSTAMP:20260423T014451
CREATED:20240924T040929Z
LAST-MODIFIED:20240924T041103Z
UID:34716-1727492400-1727578799@spacecityfrequency.com
SUMMARY:Brooks Nielsen(of The Growlers) - HoB
DESCRIPTION:Chinese Fountain 10th Anniversary Show Brooks Nielsen(of The Growlers) \n  \nDoors Open: 7:00 PM\nPrices: $30.00 to $49.50\nArtist(s) At This Event: Brooks Nielsen
URL:https://spacecityfrequency.com/event/brooks-nielsenof-the-growlers-hob/
LOCATION:House Of Blues\, 1204 Caroline St.\, Houston\, 77002\, United States
CATEGORIES:Concerts
END:VEVENT
BEGIN:VEVENT
DTSTART;VALUE=DATE:20240928
DTEND;VALUE=DATE:20240930
DTSTAMP:20260423T014451
CREATED:20240924T040703Z
LAST-MODIFIED:20240924T041618Z
UID:34714-1727492400-1727578799@spacecityfrequency.com
SUMMARY:Anderson Daniels at Foundation Room
DESCRIPTION:
URL:https://spacecityfrequency.com/event/anderson-daniels-at-foundation-room/
LOCATION:House Of Blues\, 1204 Caroline St.\, Houston\, 77002\, United States
CATEGORIES:Concerts
END:VEVENT
BEGIN:VEVENT
DTSTART;VALUE=DATE:20240925
DTEND;VALUE=DATE:20240927
DTSTAMP:20260423T014451
CREATED:20240911T043318Z
LAST-MODIFIED:20240911T043319Z
UID:34169-1727233200-1727319599@spacecityfrequency.com
SUMMARY:Seattle Mariners vs. Houston Astros
DESCRIPTION:The Seattle Mariners face off with the Houston Astros at Minute Maid Park. Tickets available at https://www.mlb.com/astros/tickets/single-game-tickets
URL:https://spacecityfrequency.com/event/seattle-mariners-vs-houston-astros-3/
LOCATION:Minute Maid Park\, 501 Crawford St\, Houston\, TX\, 77002\, United States
CATEGORIES:Sports
ATTACH;FMTTYPE=image/jpeg:https://spacecityfrequency.com/wp-content/uploads/2024/09/Houston-Astros-3.jpg
END:VEVENT
BEGIN:VEVENT
DTSTART;VALUE=DATE:20240924
DTEND;VALUE=DATE:20240926
DTSTAMP:20260423T014451
CREATED:20240911T043122Z
LAST-MODIFIED:20240911T043123Z
UID:34166-1727146800-1727233199@spacecityfrequency.com
SUMMARY:Seattle Mariners vs. Houston Astros
DESCRIPTION:The Seattle Mariners face off with the Houston Astros at Minute Maid Park. Tickets available at https://www.mlb.com/astros/tickets/single-game-tickets
URL:https://spacecityfrequency.com/event/seattle-mariners-vs-houston-astros-2/
LOCATION:Minute Maid Park\, 501 Crawford St\, Houston\, TX\, 77002\, United States
CATEGORIES:Sports
ATTACH;FMTTYPE=image/jpeg:https://spacecityfrequency.com/wp-content/uploads/2024/09/Houston-Astros-2.jpg
END:VEVENT
BEGIN:VEVENT
DTSTART;VALUE=DATE:20240923
DTEND;VALUE=DATE:20240925
DTSTAMP:20260423T014451
CREATED:20240911T042902Z
LAST-MODIFIED:20240911T042903Z
UID:34163-1727060400-1727146799@spacecityfrequency.com
SUMMARY:Seattle Mariners vs. Houston Astros
DESCRIPTION:The Seattle Mariners face off with the Houston Astros at Minute Maid Park. Tickets available at https://www.mlb.com/astros/tickets/single-game-tickets
URL:https://spacecityfrequency.com/event/seattle-mariners-vs-houston-astros/
LOCATION:Minute Maid Park\, 501 Crawford St\, Houston\, TX\, 77002\, United States
CATEGORIES:Sports
ATTACH;FMTTYPE=image/jpeg:https://spacecityfrequency.com/wp-content/uploads/2024/09/Houston-Astros-1.jpg
END:VEVENT
BEGIN:VEVENT
DTSTART;VALUE=DATE:20240922
DTEND;VALUE=DATE:20240924
DTSTAMP:20260423T014451
CREATED:20240911T042157Z
LAST-MODIFIED:20240911T042158Z
UID:34157-1726974000-1727060399@spacecityfrequency.com
SUMMARY:Los Angeles Angels vs. Houston Astros
DESCRIPTION:The Los Angeles Angels face off with the Houston Astros at Minute Maid Park. Tickets available at https://www.mlb.com/astros/tickets/single-game-tickets
URL:https://spacecityfrequency.com/event/los-angeles-angels-vs-houston-astros-4/
LOCATION:Minute Maid Park\, 501 Crawford St\, Houston\, TX\, 77002\, United States
CATEGORIES:Sports
ATTACH;FMTTYPE=image/jpeg:https://spacecityfrequency.com/wp-content/uploads/2024/09/Houston-Astros.jpg
END:VEVENT
BEGIN:VEVENT
DTSTART;VALUE=DATE:20240921
DTEND;VALUE=DATE:20240923
DTSTAMP:20260423T014451
CREATED:20240911T042530Z
LAST-MODIFIED:20240911T042531Z
UID:34160-1726887600-1726973999@spacecityfrequency.com
SUMMARY:Houston Dash vs. Seattle Reign FC
DESCRIPTION:Houston Dash face off with Seattle Reign FC at Shell Energy Stadium. Tickets available at https://www.houstondynamofc.com/houstondash/tickets/single-game
URL:https://spacecityfrequency.com/event/houston-dash-vs-seattle-reign-fc/
LOCATION:Shell Energy Stadium\, 2200 Texas Ave\, Houston\, TX\, 77003\, United States
CATEGORIES:Sports
ATTACH;FMTTYPE=image/jpeg:https://spacecityfrequency.com/wp-content/uploads/2024/09/Houston-Dash.jpg
END:VEVENT
BEGIN:VEVENT
DTSTART;VALUE=DATE:20240921
DTEND;VALUE=DATE:20240923
DTSTAMP:20260423T014451
CREATED:20240911T041952Z
LAST-MODIFIED:20240911T041953Z
UID:34154-1726887600-1726973999@spacecityfrequency.com
SUMMARY:Los Angeles Angels vs. Houston Astros
DESCRIPTION:The Los Angeles Angels face off with the Houston Astros at Minute Maid Park. Tickets available at https://www.mlb.com/astros/tickets/single-game-tickets
URL:https://spacecityfrequency.com/event/los-angeles-angels-vs-houston-astros-3/
LOCATION:Minute Maid Park\, 501 Crawford St\, Houston\, TX\, 77002\, United States
CATEGORIES:Sports
ATTACH;FMTTYPE=image/jpeg:https://spacecityfrequency.com/wp-content/uploads/2024/09/try3-5-2.jpg
END:VEVENT
BEGIN:VEVENT
DTSTART;VALUE=DATE:20240920
DTEND;VALUE=DATE:20240922
DTSTAMP:20260423T014451
CREATED:20240911T044841Z
LAST-MODIFIED:20240911T044841Z
UID:34178-1726801200-1726887599@spacecityfrequency.com
SUMMARY:Sueco - Attempted Lover Tour at White Oak Music Hall
DESCRIPTION:Sueco performs at White Oak Music Hall. Tickets available at https://whiteoakmusichall.com/shows/tm-attraction/sueco/
URL:https://spacecityfrequency.com/event/sueco-attempted-lover-tour-at-white-oak-music-hall/
CATEGORIES:Concerts
ATTACH;FMTTYPE=image/jpeg:https://spacecityfrequency.com/wp-content/uploads/2024/09/Sueco_11x17_v3.jpg
END:VEVENT
BEGIN:VEVENT
DTSTART;VALUE=DATE:20240920
DTEND;VALUE=DATE:20240922
DTSTAMP:20260423T014451
CREATED:20240911T041636Z
LAST-MODIFIED:20240911T041637Z
UID:34151-1726801200-1726887599@spacecityfrequency.com
SUMMARY:Los Angeles Angels vs. Houston Astros
DESCRIPTION:The Los Angeles Angels face off with the Houston Astros at Minute Maid Park. Tickets available at https://www.mlb.com/astros/tickets/single-game-tickets
URL:https://spacecityfrequency.com/event/los-angeles-angels-vs-houston-astros-2/
LOCATION:Minute Maid Park\, 501 Crawford St\, Houston\, TX\, 77002\, United States
CATEGORIES:Sports
ATTACH;FMTTYPE=image/jpeg:https://spacecityfrequency.com/wp-content/uploads/2024/09/try3-5-1.jpg
END:VEVENT
END:VCALENDAR