BEGIN:VCALENDAR
VERSION:2.0
PRODID:-//Space City Frequency - ECPv6.15.20//NONSGML v1.0//EN
CALSCALE:GREGORIAN
METHOD:PUBLISH
X-ORIGINAL-URL:https://spacecityfrequency.com
X-WR-CALDESC:Events for Space City Frequency
REFRESH-INTERVAL;VALUE=DURATION:PT1H
X-Robots-Tag:noindex
X-PUBLISHED-TTL:PT1H
BEGIN:VTIMEZONE
TZID:America/Chicago
BEGIN:DAYLIGHT
TZOFFSETFROM:-0600
TZOFFSETTO:-0500
TZNAME:CDT
DTSTART:20230312T080000
END:DAYLIGHT
BEGIN:STANDARD
TZOFFSETFROM:-0500
TZOFFSETTO:-0600
TZNAME:CST
DTSTART:20231105T070000
END:STANDARD
BEGIN:DAYLIGHT
TZOFFSETFROM:-0600
TZOFFSETTO:-0500
TZNAME:CDT
DTSTART:20240310T080000
END:DAYLIGHT
BEGIN:STANDARD
TZOFFSETFROM:-0500
TZOFFSETTO:-0600
TZNAME:CST
DTSTART:20241103T070000
END:STANDARD
BEGIN:DAYLIGHT
TZOFFSETFROM:-0600
TZOFFSETTO:-0500
TZNAME:CDT
DTSTART:20250309T080000
END:DAYLIGHT
BEGIN:STANDARD
TZOFFSETFROM:-0500
TZOFFSETTO:-0600
TZNAME:CST
DTSTART:20251102T070000
END:STANDARD
BEGIN:DAYLIGHT
TZOFFSETFROM:-0600
TZOFFSETTO:-0500
TZNAME:CDT
DTSTART:20260308T080000
END:DAYLIGHT
BEGIN:STANDARD
TZOFFSETFROM:-0500
TZOFFSETTO:-0600
TZNAME:CST
DTSTART:20261101T070000
END:STANDARD
END:VTIMEZONE
BEGIN:VEVENT
DTSTART;VALUE=DATE:20251108
DTEND;VALUE=DATE:20251110
DTSTAMP:20260422T124901
CREATED:20250903T044741Z
LAST-MODIFIED:20250903T044741Z
UID:41351-1762570800-1762657199@spacecityfrequency.com
SUMMARY:AEW Presents - Collision
DESCRIPTION:
URL:https://spacecityfrequency.com/event/aew-presents-collision/
CATEGORIES:Sports
END:VEVENT
BEGIN:VEVENT
DTSTART;VALUE=DATE:20251105
DTEND;VALUE=DATE:20251107
DTSTAMP:20260422T124901
CREATED:20250903T044738Z
LAST-MODIFIED:20250903T044738Z
UID:41352-1762311600-1762397999@spacecityfrequency.com
SUMMARY:AEW Presents - Dynamite
DESCRIPTION:
URL:https://spacecityfrequency.com/event/aew-presents-dynamite/
LOCATION:Bayou Music Center\, 520 Texas Ave.\, Houston\, TX\, 77002\, United States
CATEGORIES:Sports
END:VEVENT
BEGIN:VEVENT
DTSTART;VALUE=DATE:20250920
DTEND;VALUE=DATE:20250922
DTSTAMP:20260422T124901
CREATED:20250903T042838Z
LAST-MODIFIED:20250903T042838Z
UID:41305-1758337200-1758423599@spacecityfrequency.com
SUMMARY:Overtime Boxing Presents: OTX 16
DESCRIPTION:
URL:https://spacecityfrequency.com/event/overtime-boxing-presents-otx-16/
LOCATION:Bayou Music Center\, 520 Texas Ave.\, Houston\, TX\, 77002\, United States
CATEGORIES:Sports
END:VEVENT
BEGIN:VEVENT
DTSTART;VALUE=DATE:20240929
DTEND;VALUE=DATE:20241001
DTSTAMP:20260422T124901
CREATED:20240911T043730Z
LAST-MODIFIED:20240911T043731Z
UID:34172-1727578800-1727665199@spacecityfrequency.com
SUMMARY:Jacksonville Jaguars vs. Houston Texans
DESCRIPTION:The Jacksonville Jaguars face off with the Houston Texans at NRG Stadium. Tickets available at https://www.houstontexans.com/tickets/
URL:https://spacecityfrequency.com/event/jacksonville-jaguars-vs-houston-texans/
CATEGORIES:Sports
ATTACH;FMTTYPE=image/jpeg:https://spacecityfrequency.com/wp-content/uploads/2024/09/Houston-Texans.jpg
END:VEVENT
BEGIN:VEVENT
DTSTART;VALUE=DATE:20240925
DTEND;VALUE=DATE:20240927
DTSTAMP:20260422T124901
CREATED:20240911T043318Z
LAST-MODIFIED:20240911T043319Z
UID:34169-1727233200-1727319599@spacecityfrequency.com
SUMMARY:Seattle Mariners vs. Houston Astros
DESCRIPTION:The Seattle Mariners face off with the Houston Astros at Minute Maid Park. Tickets available at https://www.mlb.com/astros/tickets/single-game-tickets
URL:https://spacecityfrequency.com/event/seattle-mariners-vs-houston-astros-3/
LOCATION:Minute Maid Park\, 501 Crawford St\, Houston\, TX\, 77002\, United States
CATEGORIES:Sports
ATTACH;FMTTYPE=image/jpeg:https://spacecityfrequency.com/wp-content/uploads/2024/09/Houston-Astros-3.jpg
END:VEVENT
BEGIN:VEVENT
DTSTART;VALUE=DATE:20240924
DTEND;VALUE=DATE:20240926
DTSTAMP:20260422T124901
CREATED:20240911T043122Z
LAST-MODIFIED:20240911T043123Z
UID:34166-1727146800-1727233199@spacecityfrequency.com
SUMMARY:Seattle Mariners vs. Houston Astros
DESCRIPTION:The Seattle Mariners face off with the Houston Astros at Minute Maid Park. Tickets available at https://www.mlb.com/astros/tickets/single-game-tickets
URL:https://spacecityfrequency.com/event/seattle-mariners-vs-houston-astros-2/
LOCATION:Minute Maid Park\, 501 Crawford St\, Houston\, TX\, 77002\, United States
CATEGORIES:Sports
ATTACH;FMTTYPE=image/jpeg:https://spacecityfrequency.com/wp-content/uploads/2024/09/Houston-Astros-2.jpg
END:VEVENT
BEGIN:VEVENT
DTSTART;VALUE=DATE:20240923
DTEND;VALUE=DATE:20240925
DTSTAMP:20260422T124901
CREATED:20240911T042902Z
LAST-MODIFIED:20240911T042903Z
UID:34163-1727060400-1727146799@spacecityfrequency.com
SUMMARY:Seattle Mariners vs. Houston Astros
DESCRIPTION:The Seattle Mariners face off with the Houston Astros at Minute Maid Park. Tickets available at https://www.mlb.com/astros/tickets/single-game-tickets
URL:https://spacecityfrequency.com/event/seattle-mariners-vs-houston-astros/
LOCATION:Minute Maid Park\, 501 Crawford St\, Houston\, TX\, 77002\, United States
CATEGORIES:Sports
ATTACH;FMTTYPE=image/jpeg:https://spacecityfrequency.com/wp-content/uploads/2024/09/Houston-Astros-1.jpg
END:VEVENT
BEGIN:VEVENT
DTSTART;VALUE=DATE:20240922
DTEND;VALUE=DATE:20240924
DTSTAMP:20260422T124901
CREATED:20240911T042157Z
LAST-MODIFIED:20240911T042158Z
UID:34157-1726974000-1727060399@spacecityfrequency.com
SUMMARY:Los Angeles Angels vs. Houston Astros
DESCRIPTION:The Los Angeles Angels face off with the Houston Astros at Minute Maid Park. Tickets available at https://www.mlb.com/astros/tickets/single-game-tickets
URL:https://spacecityfrequency.com/event/los-angeles-angels-vs-houston-astros-4/
LOCATION:Minute Maid Park\, 501 Crawford St\, Houston\, TX\, 77002\, United States
CATEGORIES:Sports
ATTACH;FMTTYPE=image/jpeg:https://spacecityfrequency.com/wp-content/uploads/2024/09/Houston-Astros.jpg
END:VEVENT
BEGIN:VEVENT
DTSTART;VALUE=DATE:20240921
DTEND;VALUE=DATE:20240923
DTSTAMP:20260422T124901
CREATED:20240911T042530Z
LAST-MODIFIED:20240911T042531Z
UID:34160-1726887600-1726973999@spacecityfrequency.com
SUMMARY:Houston Dash vs. Seattle Reign FC
DESCRIPTION:Houston Dash face off with Seattle Reign FC at Shell Energy Stadium. Tickets available at https://www.houstondynamofc.com/houstondash/tickets/single-game
URL:https://spacecityfrequency.com/event/houston-dash-vs-seattle-reign-fc/
LOCATION:Shell Energy Stadium\, 2200 Texas Ave\, Houston\, TX\, 77003\, United States
CATEGORIES:Sports
ATTACH;FMTTYPE=image/jpeg:https://spacecityfrequency.com/wp-content/uploads/2024/09/Houston-Dash.jpg
END:VEVENT
BEGIN:VEVENT
DTSTART;VALUE=DATE:20240921
DTEND;VALUE=DATE:20240923
DTSTAMP:20260422T124901
CREATED:20240911T041952Z
LAST-MODIFIED:20240911T041953Z
UID:34154-1726887600-1726973999@spacecityfrequency.com
SUMMARY:Los Angeles Angels vs. Houston Astros
DESCRIPTION:The Los Angeles Angels face off with the Houston Astros at Minute Maid Park. Tickets available at https://www.mlb.com/astros/tickets/single-game-tickets
URL:https://spacecityfrequency.com/event/los-angeles-angels-vs-houston-astros-3/
LOCATION:Minute Maid Park\, 501 Crawford St\, Houston\, TX\, 77002\, United States
CATEGORIES:Sports
ATTACH;FMTTYPE=image/jpeg:https://spacecityfrequency.com/wp-content/uploads/2024/09/try3-5-2.jpg
END:VEVENT
BEGIN:VEVENT
DTSTART;VALUE=DATE:20240920
DTEND;VALUE=DATE:20240922
DTSTAMP:20260422T124901
CREATED:20240911T041636Z
LAST-MODIFIED:20240911T041637Z
UID:34151-1726801200-1726887599@spacecityfrequency.com
SUMMARY:Los Angeles Angels vs. Houston Astros
DESCRIPTION:The Los Angeles Angels face off with the Houston Astros at Minute Maid Park. Tickets available at https://www.mlb.com/astros/tickets/single-game-tickets
URL:https://spacecityfrequency.com/event/los-angeles-angels-vs-houston-astros-2/
LOCATION:Minute Maid Park\, 501 Crawford St\, Houston\, TX\, 77002\, United States
CATEGORIES:Sports
ATTACH;FMTTYPE=image/jpeg:https://spacecityfrequency.com/wp-content/uploads/2024/09/try3-5-1.jpg
END:VEVENT
BEGIN:VEVENT
DTSTART;VALUE=DATE:20240919
DTEND;VALUE=DATE:20240921
DTSTAMP:20260422T124901
CREATED:20240911T041345Z
LAST-MODIFIED:20240911T041346Z
UID:34148-1726714800-1726801199@spacecityfrequency.com
SUMMARY:Los Angeles Angels vs. Houston Astros
DESCRIPTION:The Los Angeles Angels face off with the Houston Astros at Minute Maid Park. Tickets available at https://www.mlb.com/astros/tickets/single-game-tickets
URL:https://spacecityfrequency.com/event/los-angeles-angels-vs-houston-astros/
LOCATION:Minute Maid Park\, 501 Crawford St\, Houston\, TX\, 77002\, United States
CATEGORIES:Sports
ATTACH;FMTTYPE=image/jpeg:https://spacecityfrequency.com/wp-content/uploads/2024/09/try3-5.jpg
END:VEVENT
BEGIN:VEVENT
DTSTART;VALUE=DATE:20240918
DTEND;VALUE=DATE:20240920
DTSTAMP:20260422T124901
CREATED:20240911T040913Z
LAST-MODIFIED:20240911T040914Z
UID:34145-1726628400-1726714799@spacecityfrequency.com
SUMMARY:Houston Dynamo vs. Vancouver
DESCRIPTION:Houston Dynamo face off with Vancouver at Shell Energy Stadium. Tickets available at https://www.houstondynamofc.com/tickets/
URL:https://spacecityfrequency.com/event/houston-dynamo-vs-vancouver/
LOCATION:Shell Energy Stadium\, 2200 Texas Ave\, Houston\, TX\, 77003\, United States
CATEGORIES:Sports
ATTACH;FMTTYPE=image/jpeg:https://spacecityfrequency.com/wp-content/uploads/2024/09/try3-4-1.jpg
END:VEVENT
BEGIN:VEVENT
DTSTART;VALUE=DATE:20240915
DTEND;VALUE=DATE:20240917
DTSTAMP:20260422T124901
CREATED:20240911T040208Z
LAST-MODIFIED:20240911T040209Z
UID:34141-1726369200-1726455599@spacecityfrequency.com
SUMMARY:Chicago Bears vs. Houston Texans
DESCRIPTION:The Chicago Bears face off with the Houston Texans at NRG Stadium. Tickets available at https://www.houstontexans.com/tickets/
URL:https://spacecityfrequency.com/event/chicago-bears-vs-houston-texans/
LOCATION:NRG Stadium\, NRG Pkwy\, Houston\, 77054\, United States
CATEGORIES:Sports
ATTACH;FMTTYPE=image/jpeg:https://spacecityfrequency.com/wp-content/uploads/2024/09/try3-.jpg
END:VEVENT
BEGIN:VEVENT
DTSTART;VALUE=DATE:20240914
DTEND;VALUE=DATE:20240916
DTSTAMP:20260422T124901
CREATED:20240911T035448Z
LAST-MODIFIED:20240911T035504Z
UID:34138-1726282800-1726369199@spacecityfrequency.com
SUMMARY:Houston Dynamo vs. Real Salt Lake
DESCRIPTION:Houston Dynamo face off with Real Salt Lake at Shell Energy Stadium. Tickets available at https://www.houstondynamofc.com/tickets/
URL:https://spacecityfrequency.com/event/houston-dynamo-vs-real-salt-lake/
LOCATION:Shell Energy Stadium\, 2200 Texas Ave\, Houston\, TX\, 77003\, United States
CATEGORIES:Sports
ATTACH;FMTTYPE=image/jpeg:https://spacecityfrequency.com/wp-content/uploads/2024/09/try3-4.jpg
END:VEVENT
BEGIN:VEVENT
DTSTART;VALUE=DATE:20240912
DTEND;VALUE=DATE:20240914
DTSTAMP:20260422T124901
CREATED:20240827T150746Z
LAST-MODIFIED:20240827T150747Z
UID:33735-1726110000-1726196399@spacecityfrequency.com
SUMMARY:Oakland Athletics vs. Houston Astros
DESCRIPTION:The Oakland Athletics face off with the Houston Astros at Minute Maid Park. Tickets available at https://www.mlb.com/astros/tickets/single-game-tickets
URL:https://spacecityfrequency.com/event/oakland-athletics-vs-houston-astros-3/
LOCATION:Minute Maid Park\, 501 Crawford St\, Houston\, TX\, 77002\, United States
CATEGORIES:Sports
ATTACH;FMTTYPE=image/jpeg:https://spacecityfrequency.com/wp-content/uploads/2024/08/try3-5-6.jpg
END:VEVENT
BEGIN:VEVENT
DTSTART;VALUE=DATE:20240911
DTEND;VALUE=DATE:20240913
DTSTAMP:20260422T124901
CREATED:20240827T150544Z
LAST-MODIFIED:20240827T150546Z
UID:33732-1726023600-1726109999@spacecityfrequency.com
SUMMARY:Oakland Athletics vs. Houston Astros
DESCRIPTION:The Oakland Athletics face off with the Houston Astros at Minute Maid Park. Tickets available at https://www.mlb.com/astros/tickets/single-game-tickets
URL:https://spacecityfrequency.com/event/oakland-athletics-vs-houston-astros-2/
LOCATION:Minute Maid Park\, 501 Crawford St\, Houston\, TX\, 77002\, United States
CATEGORIES:Sports
ATTACH;FMTTYPE=image/jpeg:https://spacecityfrequency.com/wp-content/uploads/2024/08/try3-5-5.jpg
END:VEVENT
BEGIN:VEVENT
DTSTART;VALUE=DATE:20240910
DTEND;VALUE=DATE:20240912
DTSTAMP:20260422T124901
CREATED:20240827T150346Z
LAST-MODIFIED:20240827T150348Z
UID:33729-1725937200-1726023599@spacecityfrequency.com
SUMMARY:Oakland Athletics vs. Houston Astros
DESCRIPTION:The Oakland Athletics face off with the Houston Astros at Minute Maid Park. Tickets available at https://www.mlb.com/astros/tickets/single-game-tickets
URL:https://spacecityfrequency.com/event/oakland-athletics-vs-houston-astros/
LOCATION:Minute Maid Park\, 501 Crawford St\, Houston\, TX\, 77002\, United States
CATEGORIES:Sports
ATTACH;FMTTYPE=image/jpeg:https://spacecityfrequency.com/wp-content/uploads/2024/08/try3-5-4.jpg
END:VEVENT
BEGIN:VEVENT
DTSTART;VALUE=DATE:20240908
DTEND;VALUE=DATE:20240910
DTSTAMP:20260422T124901
CREATED:20240827T145551Z
LAST-MODIFIED:20240827T145552Z
UID:33723-1725764400-1725850799@spacecityfrequency.com
SUMMARY:Arizona Diamond Backs vs. Houston Astros
DESCRIPTION:The Arizona Diamond Backs face off with the Houston Astros at Minute Maid Park. Tickets available at https://www.mlb.com/astros/tickets/single-game-tickets
URL:https://spacecityfrequency.com/event/arizona-diamond-backs-vs-houston-astros-3/
LOCATION:Minute Maid Park\, 501 Crawford St\, Houston\, TX\, 77002\, United States
CATEGORIES:Sports
ATTACH;FMTTYPE=image/jpeg:https://spacecityfrequency.com/wp-content/uploads/2024/08/try3-5-3.jpg
END:VEVENT
BEGIN:VEVENT
DTSTART;VALUE=DATE:20240907
DTEND;VALUE=DATE:20240909
DTSTAMP:20260422T124901
CREATED:20240827T150036Z
LAST-MODIFIED:20240827T150037Z
UID:33726-1725678000-1725764399@spacecityfrequency.com
SUMMARY:Houston Dynamo vs. LAFC
DESCRIPTION:Houston Dynamo face off with Los Angeles FC at Shell Energy Stadium. Tickets available at https://www.houstondynamofc.com/houstondash/tickets/single-game
URL:https://spacecityfrequency.com/event/houston-dynamo-vs-lafc/
LOCATION:Shell Energy Stadium\, 2200 Texas Ave\, Houston\, TX\, 77003\, United States
CATEGORIES:Sports
ATTACH;FMTTYPE=image/jpeg:https://spacecityfrequency.com/wp-content/uploads/2024/08/try3-4.jpg
END:VEVENT
BEGIN:VEVENT
DTSTART;VALUE=DATE:20240907
DTEND;VALUE=DATE:20240909
DTSTAMP:20260422T124901
CREATED:20240827T145336Z
LAST-MODIFIED:20240827T145336Z
UID:33720-1725678000-1725764399@spacecityfrequency.com
SUMMARY:Arizona Diamond Backs vs. Houston Astros
DESCRIPTION:The Arizona Diamond Backs face off with the Houston Astros at Minute Maid Park. Tickets available athttps://www.mlb.com/astros/tickets/single-game-tickets
URL:https://spacecityfrequency.com/event/arizona-diamond-backs-vs-houston-astros-2/
LOCATION:Minute Maid Park\, 501 Crawford St\, Houston\, TX\, 77002\, United States
CATEGORIES:Sports
ATTACH;FMTTYPE=image/jpeg:https://spacecityfrequency.com/wp-content/uploads/2024/08/try3-5-2.jpg
END:VEVENT
BEGIN:VEVENT
DTSTART;TZID=America/Chicago:20240813T173000
DTEND;TZID=America/Chicago:20240813T235900
DTSTAMP:20260422T124901
CREATED:20240716T121345Z
LAST-MODIFIED:20240816T015144Z
UID:33001-1723570200-1723593540@spacecityfrequency.com
SUMMARY:$uicideboy$ at Toyota Center
DESCRIPTION:Doors: 5:30pm \nShow: 6:30pm \nFeaturing: \n\nSuicideboys \nDenzel Curry \nPouya\nHAARPER \nShakewell\nEkkstacy\n\nToyota Center is excited to welcome back $UICIDEBOY$ on August 13 for their annual Grey Day Tour! Support acts will include Denzel Curry\, Pouya\, HAARPER\, Shakewell\, Ekkstacy. Don’t miss the Grey Day Tour coming to Houston this August!  \nA note from $uicideboy$:\nThis year for Grey Day Tour 2024\, we have partnered with PLUS1 for something very near and dear to us: mental health. $1 per ticket will go towards helping those that need it the most. We are very excited to do this\, and this is only the beginning of our plans to give back to those that have given us so much.
URL:https://spacecityfrequency.com/event/suicideboys-at-toyota-center/
LOCATION:Toyota Center\, 1510 Polk St\, Houston\, 77002\, United States
CATEGORIES:Comedy,Concerts,Sports
ATTACH;FMTTYPE=image/webp:https://spacecityfrequency.com/wp-content/uploads/2024/07/UICIDEBOY-1200X630-31eae2a862.jpg
END:VEVENT
END:VCALENDAR